BEGIN:VCALENDAR
VERSION:2.0
PRODID:-//Collector Car Guide - ECPv6.15.20//NONSGML v1.0//EN
CALSCALE:GREGORIAN
METHOD:PUBLISH
X-WR-CALNAME:Collector Car Guide
X-ORIGINAL-URL:https://www.collectorcarguide.net
X-WR-CALDESC:Events for Collector Car Guide
REFRESH-INTERVAL;VALUE=DURATION:PT1H
X-Robots-Tag:noindex
X-PUBLISHED-TTL:PT1H
BEGIN:VTIMEZONE
TZID:America/New_York
BEGIN:DAYLIGHT
TZOFFSETFROM:-0500
TZOFFSETTO:-0400
TZNAME:EDT
DTSTART:20220313T070000
END:DAYLIGHT
BEGIN:STANDARD
TZOFFSETFROM:-0400
TZOFFSETTO:-0500
TZNAME:EST
DTSTART:20221106T060000
END:STANDARD
BEGIN:DAYLIGHT
TZOFFSETFROM:-0500
TZOFFSETTO:-0400
TZNAME:EDT
DTSTART:20230312T070000
END:DAYLIGHT
BEGIN:STANDARD
TZOFFSETFROM:-0400
TZOFFSETTO:-0500
TZNAME:EST
DTSTART:20231105T060000
END:STANDARD
BEGIN:DAYLIGHT
TZOFFSETFROM:-0500
TZOFFSETTO:-0400
TZNAME:EDT
DTSTART:20240310T070000
END:DAYLIGHT
BEGIN:STANDARD
TZOFFSETFROM:-0400
TZOFFSETTO:-0500
TZNAME:EST
DTSTART:20241103T060000
END:STANDARD
END:VTIMEZONE
BEGIN:VEVENT
DTSTART;VALUE=DATE:20230603
DTEND;VALUE=DATE:20230604
DTSTAMP:20260422T191932
CREATED:20230530T195231Z
LAST-MODIFIED:20230530T195231Z
UID:29030-1685750400-1685836799@www.collectorcarguide.net
SUMMARY:Hooked On Driving Pocono Mega Course
DESCRIPTION:Pocono Mega Course is less than two weeks away.\nJoin us Saturday\, June 3rd\, for over 20 turns on 3.51 miles of flowing track. \nLime Rock Open Track Weekend\, June 9th & 10th. Four hours Friday & four hours Saturday WITHOUT SOUND RESTRICTIONS. (See Multiple IMSA teams practice Friday 5-6 pm) \nNJMP Open Tack Day Friday\, June 16th Solo Drivers\, Please Email KenE@hookedondriving.com if you are unsure if you qualify to run this event. \nClick for details or to register. 
URL:https://www.collectorcarguide.net/event/hooked-on-driving-pocono-mega-course/
LOCATION:Pocono Raceway\, 1234 Long Pond Rd\, Long Pond\, PA\, 18334\, United States
CATEGORIES:Motorsports
ATTACH;FMTTYPE=image/jpeg:https://www.collectorcarguide.net/wp-content/uploads/2022/03/hodne.jpg
ORGANIZER;CN="HookedOnDriving (NorthEast)":MAILTO:Northeast@hookedondriving.com
END:VEVENT
END:VCALENDAR