BEGIN:VCALENDAR
VERSION:2.0
PRODID:-//Collector Car Guide - ECPv6.15.20//NONSGML v1.0//EN
CALSCALE:GREGORIAN
METHOD:PUBLISH
X-WR-CALNAME:Collector Car Guide
X-ORIGINAL-URL:https://www.collectorcarguide.net
X-WR-CALDESC:Events for Collector Car Guide
REFRESH-INTERVAL;VALUE=DURATION:PT1H
X-Robots-Tag:noindex
X-PUBLISHED-TTL:PT1H
BEGIN:VTIMEZONE
TZID:America/New_York
BEGIN:DAYLIGHT
TZOFFSETFROM:-0500
TZOFFSETTO:-0400
TZNAME:EDT
DTSTART:20220313T070000
END:DAYLIGHT
BEGIN:STANDARD
TZOFFSETFROM:-0400
TZOFFSETTO:-0500
TZNAME:EST
DTSTART:20221106T060000
END:STANDARD
BEGIN:DAYLIGHT
TZOFFSETFROM:-0500
TZOFFSETTO:-0400
TZNAME:EDT
DTSTART:20230312T070000
END:DAYLIGHT
BEGIN:STANDARD
TZOFFSETFROM:-0400
TZOFFSETTO:-0500
TZNAME:EST
DTSTART:20231105T060000
END:STANDARD
BEGIN:DAYLIGHT
TZOFFSETFROM:-0500
TZOFFSETTO:-0400
TZNAME:EDT
DTSTART:20240310T070000
END:DAYLIGHT
BEGIN:STANDARD
TZOFFSETFROM:-0400
TZOFFSETTO:-0500
TZNAME:EST
DTSTART:20241103T060000
END:STANDARD
END:VTIMEZONE
BEGIN:VEVENT
DTSTART;TZID=America/New_York:20230920T180000
DTEND;TZID=America/New_York:20230920T200000
DTSTAMP:20260419T215949
CREATED:20230807T202543Z
LAST-MODIFIED:20230807T202543Z
UID:29595-1695232800-1695240000@www.collectorcarguide.net
SUMMARY:Cruise and Brews @ Rockville Moose
DESCRIPTION:Stop by every Wednesday evening from 6- 8PM and join your fellow gearheads.\nAll cars\, bikes and trucks are welcome. April through November Free BBQ on the last Wednesday of each month with the purchase of any drink (soft\, beer\, wine\, mixed)
URL:https://www.collectorcarguide.net/event/cruise-and-brews-rockville-moose-7/
LOCATION:Rockville Moose Lodge\, 13755 Travilah Rd\, Rockville\, MD\, 20850\, United States
CATEGORIES:Cruise,Meet Up
ATTACH;FMTTYPE=image/jpeg:https://www.collectorcarguide.net/wp-content/uploads/2023/08/Rocville-Cruise-and-Brews-Flyer.jpg
END:VEVENT
BEGIN:VEVENT
DTSTART;TZID=America/New_York:20230917T090000
DTEND;TZID=America/New_York:20230917T150000
DTSTAMP:20260419T215949
CREATED:20220702T200354Z
LAST-MODIFIED:20230615T191514Z
UID:25462-1694941200-1694962800@www.collectorcarguide.net
SUMMARY:31st Annual MVA Car & Truck Show
DESCRIPTION:Rain Date 9/24\, Frank 443 375-1861
URL:https://www.collectorcarguide.net/event/31st-annual-mva-car-truck-show/
LOCATION:Frederick MVA\, 1601 Bowman's Farm Rd\, Frederick\, MD\, 21701\, United States
CATEGORIES:Shows
END:VEVENT
BEGIN:VEVENT
DTSTART;VALUE=DATE:20230917
DTEND;VALUE=DATE:20230918
DTSTAMP:20260419T215949
CREATED:20230913T114809Z
LAST-MODIFIED:20230913T114809Z
UID:29889-1694908800-1694995199@www.collectorcarguide.net
SUMMARY:The Oil’s September Automobilia Online Only Auction
DESCRIPTION:Check The Oil’s September Automobilia Online Only Auction ending Sept 17\, 2023. \n\n\nFeaturing 500 great lots of automotive radiator mascots\, hood ornaments\, emblems\, scripts\, literature and more\, ending Sept 17\, 2023. Bid now at https://www.liveauctioneers.com/auctioneer/7385/check-the-oi… \n\n\nFor questions and info\, please contact Check The Oil Auctions at 330-575-3421 or info@ctohotline.com
URL:https://www.collectorcarguide.net/event/the-oils-september-automobilia-online-only-auction-2/
LOCATION:MD
CATEGORIES:Auction
ATTACH;FMTTYPE=image/jpeg:https://www.collectorcarguide.net/wp-content/uploads/2023/09/unnamed-4-scaled.jpg
ORGANIZER;CN="Oil Auctions":MAILTO:info@ctohotline.com
END:VEVENT
BEGIN:VEVENT
DTSTART;VALUE=DATE:20230917
DTEND;VALUE=DATE:20230918
DTSTAMP:20260419T215949
CREATED:20230829T115258Z
LAST-MODIFIED:20230829T115258Z
UID:29769-1694908800-1694995199@www.collectorcarguide.net
SUMMARY:The Oil’s September Automobilia Online Only Auction
DESCRIPTION:Check The Oil’s September Automobilia Online Only Auction ending Sept 17\, 2023. \n\n\nFeaturing 500 great lots of automotive radiator mascots\, hood ornaments\, emblems\, scripts\, literature and more\, ending Sept 17\, 2023. Bid now at https://www.liveauctioneers.com/auctioneer/7385/check-the-oi... \n\n\nFor questions and info\, please contact Check The Oil Auctions at 330-575-3421 or info@ctohotline.com
URL:https://www.collectorcarguide.net/event/the-oils-september-automobilia-online-only-auction/
LOCATION:MD
CATEGORIES:Auction
ATTACH;FMTTYPE=image/jpeg:https://www.collectorcarguide.net/wp-content/uploads/2023/08/unnamed-2-9-scaled.jpg
ORGANIZER;CN="Oil Auctions":MAILTO:info@ctohotline.com
END:VEVENT
BEGIN:VEVENT
DTSTART;TZID=America/New_York:20230916T160000
DTEND;TZID=America/New_York:20230916T200000
DTSTAMP:20260419T215949
CREATED:20230615T191501Z
LAST-MODIFIED:20230615T191501Z
UID:29130-1694880000-1694894400@www.collectorcarguide.net
SUMMARY:Jimmy Cone Cruise
DESCRIPTION:
URL:https://www.collectorcarguide.net/event/jimmy-cone-cruise-12/
LOCATION:Jimmie Cone\, 1312 S. Main St\, Mt. Airy\, MD\, 21771\, United States
CATEGORIES:Cruise
ATTACH;FMTTYPE=image/png:https://www.collectorcarguide.net/wp-content/uploads/2022/03/381-jimmiecone.png
END:VEVENT
BEGIN:VEVENT
DTSTART;TZID=America/New_York:20230916T150000
DTEND;TZID=America/New_York:20230916T190000
DTSTAMP:20260419T215949
CREATED:20230615T191514Z
LAST-MODIFIED:20230616T153454Z
UID:29131-1694876400-1694890800@www.collectorcarguide.net
SUMMARY:2nd Annual Guntry Cafe
DESCRIPTION:Our car show benefits Toys For Tots with 100% of proceeds going to charity! \nRain Date 9/17\, call Trey 443 829-0752 or email: tonyapex61@gmail.com
URL:https://www.collectorcarguide.net/event/2nd-annul-guntry-cafe/
LOCATION:Guntry Café\, 10705 Red Run Blvd\, Owings Mills\, MD\, 21117\, United States
CATEGORIES:Shows
END:VEVENT
BEGIN:VEVENT
DTSTART;TZID=America/New_York:20230916T100000
DTEND;TZID=America/New_York:20230916T140000
DTSTAMP:20260419T215949
CREATED:20230615T191459Z
LAST-MODIFIED:20230615T191459Z
UID:29126-1694858400-1694872800@www.collectorcarguide.net
SUMMARY:3rd Annual Shrewsbury VFD Car & Truck Show
DESCRIPTION:Fire Dept 717 235-4476
URL:https://www.collectorcarguide.net/event/3rd-annual-shrewsbury-vfd-car-truck-show/
LOCATION:Shrewsbury Carnival Grounds\, 21 W. Forest Ave\, Shrewsbury\, PA\, 17361\, United States
CATEGORIES:Shows
END:VEVENT
BEGIN:VEVENT
DTSTART;TZID=America/New_York:20230916T090000
DTEND;TZID=America/New_York:20230916T150000
DTSTAMP:20260419T215949
CREATED:20230615T191500Z
LAST-MODIFIED:20230615T191500Z
UID:29128-1694854800-1694876400@www.collectorcarguide.net
SUMMARY:6th Annual Heritage Park Car & Truck Show
DESCRIPTION:Rain Date 9/24\, Quicy TWP 717 762-5679
URL:https://www.collectorcarguide.net/event/6th-annual-heritage-park-car-truck-show-2/
LOCATION:Heritage Park\, 7575 Mentzer Gap Rd\, Waynesboro\, PA\, 17268\, United States
CATEGORIES:Shows
END:VEVENT
BEGIN:VEVENT
DTSTART;TZID=America/New_York:20230916T090000
DTEND;TZID=America/New_York:20230916T150000
DTSTAMP:20260419T215949
CREATED:20230615T191500Z
LAST-MODIFIED:20230615T191500Z
UID:29129-1694854800-1694876400@www.collectorcarguide.net
SUMMARY:3rd Annual St Leo Catholic Church Car & Truck Show
DESCRIPTION:Rain Date 10/1\, John 304 596-3575
URL:https://www.collectorcarguide.net/event/3rd-annual-st-leo-catholic-church-car-truck-show/
LOCATION:St Leo’s Church\, 2109 Sulpher Springs Rd\, Inwood\, WV\, 25413\, United States
CATEGORIES:Shows
END:VEVENT
BEGIN:VEVENT
DTSTART;TZID=America/New_York:20230916T080000
DTEND;TZID=America/New_York:20230916T140000
DTSTAMP:20260419T215949
CREATED:20230615T191459Z
LAST-MODIFIED:20230615T191459Z
UID:29127-1694851200-1694872800@www.collectorcarguide.net
SUMMARY:Thurmont Community Ambulance Car & Truck Show
DESCRIPTION:James 240 674-1235
URL:https://www.collectorcarguide.net/event/thurmont-community-ambulance-car-truck-show-3/
LOCATION:Thurmont Community Center\, 13716 Strafford Dr\, Thurmont\, MD\, 21788\, United States
CATEGORIES:Shows
END:VEVENT
BEGIN:VEVENT
DTSTART;VALUE=DATE:20230916
DTEND;VALUE=DATE:20230917
DTSTAMP:20260419T215949
CREATED:20230913T114411Z
LAST-MODIFIED:20230913T114411Z
UID:29886-1694822400-1694908799@www.collectorcarguide.net
SUMMARY:Freije & Freije’s Annual Fall Big Boy Toy Auction
DESCRIPTION:Freije & Freije’s Annual Fall Big Boy Toy Auction ending with a live auction Sept 16\, 2023\, in Clayton\, IN. \n\n\nFeaturing three rings of petroliana\, automobilia\, advertising signs\, gas pumps\, classic cars and trucks and more. Bid now at https://bit.ly/0916FR \n\n\nFor questions and info\, please contact Freije & Freije Auctioneers at 317-539-2895 or info@FreijeAuctioneers.com
URL:https://www.collectorcarguide.net/event/freije-freijes-annual-fall-big-boy-toy-auction/
LOCATION:MD
CATEGORIES:Auction
ATTACH;FMTTYPE=image/jpeg:https://www.collectorcarguide.net/wp-content/uploads/2023/09/unnamed-3-scaled.jpg
ORGANIZER;CN="Freije & Freije Auctioneers":MAILTO:info@FreijeAuctioneers.com
END:VEVENT
BEGIN:VEVENT
DTSTART;VALUE=DATE:20230916
DTEND;VALUE=DATE:20230917
DTSTAMP:20260419T215949
CREATED:20230913T111048Z
LAST-MODIFIED:20230913T111103Z
UID:29854-1694822400-1694908799@www.collectorcarguide.net
SUMMARY:the Erin Levitas Foundation Auction - Bid up! Win cool stuff!
DESCRIPTION:Each year in conjunction with our PCA Club Race at Summit Point Motorsports Park\, the Potomac Region conducts a charity auction to benefit the Erin Levitas Foundation with some AMAZING items. Even if you are not able to join us in Summit Point\, you can still bid on items from ANYWHERE. We are offering driving experiences\, racing gear\, motorsports memorabilia\, jewelry\, artwork\, travel packages\, and much more! \nhttps://erinlevitas.org/pca/ \nAuction closes at 7 PM this Saturday\, September 16th. \nPat Kaunitz \n2023 Community Service Chair \n410-486-1456 \nPorsche Club of America\, Potomac Region
URL:https://www.collectorcarguide.net/event/the-erin-levitas-foundation-auction-bid-up-win-cool-stuff/
LOCATION:MD
CATEGORIES:Charity Event
ATTACH;FMTTYPE=image/png:https://www.collectorcarguide.net/wp-content/uploads/2023/09/pasted-image-0-1.png
END:VEVENT
BEGIN:VEVENT
DTSTART;VALUE=DATE:20230916
DTEND;VALUE=DATE:20230917
DTSTAMP:20260419T215949
CREATED:20230101T142856Z
LAST-MODIFIED:20230524T170759Z
UID:27310-1694822400-1694908799@www.collectorcarguide.net
SUMMARY:EMRA Event #5- Lime Rock
DESCRIPTION:EMRA sanctions competition Racing\, Time Trials and HPDE for sedan\, GT\, and formula cars in the northeast region. We sanction events at all of the major tracks in the area\, including Pocono Raceway\, Lime Rock Park\, NJMP Thunderbolt & Lightning\, Summit Point\, Thompson Raceway\, and Watkins Glen. We also founded the historic 4 hour twilight enduro at Summit Point Motorsports Park over 20 years ago\, which we still run today.
URL:https://www.collectorcarguide.net/event/emra-event-5-lime-rock/
LOCATION:Lime Rock Park\, 60 White Hollow Rd\, Lakeville\, CT\, 06039\, United States
CATEGORIES:Motorsports
ATTACH;FMTTYPE=image/png:https://www.collectorcarguide.net/wp-content/uploads/2022/03/emra-logo-time-trial.png
ORGANIZER;CN="EMRA":MAILTO:jkatz@lissconsulting.com
END:VEVENT
BEGIN:VEVENT
DTSTART;VALUE=DATE:20230916
DTEND;VALUE=DATE:20230917
DTSTAMP:20260419T215949
CREATED:20221230T153838Z
LAST-MODIFIED:20230524T170805Z
UID:27248-1694822400-1694908799@www.collectorcarguide.net
SUMMARY:100 LM\, 35 VAR\, 35 MOD\, 35 DS\, 25 Southern GP
DESCRIPTION:100 LM\, 35 VAR\, 35 MOD\, 35 DS\, 25 Southern GP more details at https://www.dominionraceway.com/oval-track-schedule \nLM-Late Model\, VAR-VA Racers\, MOD-Modified\, VMOD-VA Modified\, DS-Dominion Stocks\, 4/6c/8cyl-ANYCARS\, LEG-Legends\, MStock-Mini Stocks\, USAC-USAC Midgets\, MCUP-Mini Cup
URL:https://www.collectorcarguide.net/event/100-lm-35-var-35-mod-35-ds-25-southern-gp/
LOCATION:Dominion Raceway\, 6501 Dominion Raceway Avenue\, Thornburburg\, VA\, 22580\, United States
CATEGORIES:Motorsports
ATTACH;FMTTYPE=image/png:https://www.collectorcarguide.net/wp-content/uploads/2022/12/dominion_raceway.png
END:VEVENT
BEGIN:VEVENT
DTSTART;TZID=America/New_York:20230915T080000
DTEND;TZID=America/New_York:20230915T170000
DTSTAMP:20260419T215949
CREATED:20230823T235318Z
LAST-MODIFIED:20230823T235318Z
UID:29672-1694764800-1694797200@www.collectorcarguide.net
SUMMARY:Society of Automotive Historians Annual Awards Banquet Reservations
DESCRIPTION:Society of Automotive Historians Annual Awards Banquet Reservations \nIt’s time to make your Annual Awards Banquet reservations.\nThe Banquet takes place at the Hershey Country Club in Hershey\, PA\, Thursday evening October 5th\, 2023.\nSocial hour begins at 6:00 PM with dinner at 7:00 PM. \nAfter dinner the 2023 Awards will be presented and William S. Jackson\, member #0002\, willl recall the early days of the SAH. \n\nPlease print the reservation form linked below and mail it to SAH Treasurer Rubén Verdés by September 15th.\n  \n\nWe hope to see you there!\n \nBanquet Reservation Form\, plus 2022 Banquet Journal Article 
URL:https://www.collectorcarguide.net/event/society-of-automotive-historians-annual-awards-banquet-reservations/
LOCATION:MD
CATEGORIES:Motorsports,Museum
ATTACH;FMTTYPE=image/png:https://www.collectorcarguide.net/wp-content/uploads/2023/04/unnamed-1-1.png
END:VEVENT
BEGIN:VEVENT
DTSTART;VALUE=DATE:20230915
DTEND;VALUE=DATE:20230918
DTSTAMP:20260419T215949
CREATED:20230509T151537Z
LAST-MODIFIED:20230622T163455Z
UID:28740-1694736000-1694995199@www.collectorcarguide.net
SUMMARY:Smoky Mountain Driving Tours (3-day Event)
DESCRIPTION:At Smoky Mountain Drives we organize driving adventures where like minded car enthusiasts can drive through the gorgeous scenery and amazing roads of the Great Smoky Mountains\, all while enjoying great company! The roads of Eastern Tennessee and Western North Carolina are destination drives where people travel from all over the world to explore this region. All of the major exotic car rallies have made this area their drive destination\, as well as iconic manufacturers such as Lamborghini\, Porsche and even Pagani. Being local to these Great Smoky Mountains allow us to provide value packed events where car enthusiasts from a variety of backgrounds are treated to driving events that are second to none! On our drives\, there is nothing else to think about. We have done the planning\, the route selection\, the driving notes\, identified fuel stops\, found fantastic hotels and eating spots! All you need to do is show up and be prepared to drive!.\nPRIVATE DRIVING TOURS\nIs it your first time visiting the Tail of the Dragon or Smoky Mountain region? Don’t just drive around blindly in an unfamiliar area\, we can help you make the most of your trip with a guided drive. Let us set up a Private Driving Tour just for you\, where we guide you through the legendary roads of the area\, but also help avoid the heavy traffic and show you some hidden gems that only locals know about. \nGROUP DRIVING TOURS\nIs your group new to the Tail of the Dragon or Smoky Mountain region? We can host your Bachelor Party\, Birthday Party\, or Corporate Event to provide an experience unlike any other! We are now hosting small group drives where lodging\, food\, and drinks are included; you just arrive with your car and we have everything taken care of. Your group will stay together at a great Smoky Mountain venue\, providing an intimate experience with your car enthusiast friends that you will never forget! \nCAR CLUB DRIVING TOURS\nAre you wanting to bring your car club to the Tail of the Dragon\, but don’t know the area? Have locals plan your drive or event and take all the stress off of your group\, while providing a better quality experience for all. We have hosted events and guided drives for Private Car Clubs\, Porsche clubs\, Corvette clubs\, Mustang Clubs\, Exotic Car clubs\, BMW clubs and many more! We have more experience hosting driving events than anyone in the area\, have the knowledge of these iconic roads that few possess\, have elite driving ability to cater to any group\, and partnerships throughout the area that only locals can provide. \nbrought to you by…
URL:https://www.collectorcarguide.net/event/smokey-mountain-driving-tours-3-day-event/
LOCATION:Tail of the Dragon\, US Hwy 129\, Maryville\, TN\, 37801\, United States
CATEGORIES:Cruise
ATTACH;FMTTYPE=image/jpeg:https://www.collectorcarguide.net/wp-content/uploads/2023/05/SMD-jpeg-horizontal-logo--scaled.jpg
ORGANIZER;CN="Smoky Mountain Drives":MAILTO:smokymountaindrives@gmail.com
END:VEVENT
BEGIN:VEVENT
DTSTART;VALUE=DATE:20230915
DTEND;VALUE=DATE:20230917
DTSTAMP:20260419T215949
CREATED:20230913T114209Z
LAST-MODIFIED:20230913T114209Z
UID:29879-1694736000-1694908799@www.collectorcarguide.net
SUMMARY:Richmond Auctions’ Two-Day Advertising Sale
DESCRIPTION:Richmond Auctions’ Two-Day Advertising Sale\, ending with a live auction\, Sept 15-16 2023\, in Greenville\, SC. \nFeaturing over 800 quality lots of gas & oil advertising and petroliana from the Spomer Classic Collection\, The Vernon Walker Collection and the Kevin Looney & Linda Smith collection. Bid now at https://bid.richmondauctions.com/ \n\nFor questions and info\, please contact Richmond Auctions at 864- 991-5949 or Jordan@RichmondAuctions.com
URL:https://www.collectorcarguide.net/event/richmond-auctions-two-day-advertising-sale/
LOCATION:Richmond Auctions\, 1451 Donaldson Road\, Greenville\, SC\, 29605\, United States
CATEGORIES:Auction
ATTACH;FMTTYPE=image/jpeg:https://www.collectorcarguide.net/wp-content/uploads/2023/09/unnamed-2-1.jpg
ORGANIZER;CN="Richmond Auctions":MAILTO:Jordan@RichmondAuctions.com
END:VEVENT
BEGIN:VEVENT
DTSTART;VALUE=DATE:20230915
DTEND;VALUE=DATE:20230916
DTSTAMP:20260419T215949
CREATED:20230202T211411Z
LAST-MODIFIED:20230202T211411Z
UID:27680-1694736000-1694822399@www.collectorcarguide.net
SUMMARY:National Corvette Museum (NCM) HPDI#5
DESCRIPTION:2023 HPDI Dates – Don’t miss your chance to participate in an HPDI event at the NCM Motorsports Park! If you’ve ever thought about giving the sport a try or taking your driving skills to the next level\, this is the perfect opportunity for you! With more dates than ever before\, you’re sure to find a time that fits your schedule! \n \nHigh Performance Driving Introduction \n\nIntroduces car owners to recreational and performance driving\nA low cost\, low time educational program designed for all skill levels\nFacilitated in a safe and controlled environment\nSmall group sizes with personalized guidance from our world class instructors\nEquips graduates with expectations and skills for progression in performance driving\n\nEvent requirements \nAll vehicles must be able to pass the NCM Tech form as well as follow all of NCM MSP Policy and Procedures!! \nALL VEHICLES MUST MEET A 103DB @ 50 FT LIMIT
URL:https://www.collectorcarguide.net/event/national-corvette-museum-ncm-hpdi5/
LOCATION:National Corvette Museum\, 505 Kimberlee A. Fast Drive\, Bowling Green\, KY\, 42103\, United States
CATEGORIES:Motorsports
ATTACH;FMTTYPE=image/png:https://www.collectorcarguide.net/wp-content/uploads/2023/02/Capture.png
END:VEVENT
BEGIN:VEVENT
DTSTART;VALUE=DATE:20230914
DTEND;VALUE=DATE:20230917
DTSTAMP:20260419T215949
CREATED:20210803T182250Z
LAST-MODIFIED:20230611T151625Z
UID:2762-1694649600-1694908799@www.collectorcarguide.net
SUMMARY:7th Annual Coatesville Invitational Grand Prix
DESCRIPTION:The Coatesville Invitational Vintage Grand Prix is a unique event where spectators experience the sights and sounds of historically significant cars and motorcycles traversing a 2.2 mile course set throughout the city streets of Coatesville. The CIVGP is the only exhibition event of this type on the East Coast! Limited racing entries to 60 cars (200.00 entry fee) and 30 motorcycles (150.00 entry fee).   \nThe weekend kicks off on the evening of Thursday September 14th\, 2023 with the return of the Grand PRIXview Party. Come see a display of vintage vehicles\, meet the drivers\, and mingle with CIVGP sponsors and supporters under the stars at historic Brooklawn\, located among the rolling hills of Unionville\, just 15 minutes from downtown Coatesville. \nFor 2023\, we also welcome back the popular Friday evening Cruise-In event featuring vintage cars\, trucks and special interest vehicles. From 6:00 p.m. to 9:00 p.m.\, drivers and spectators can get an up-close look at a variety of hot rods\, classic and restored cars\, which can be parked at 2 designated areas along Lincoln Highway\, between 1st and 4th avenues. This event is free to spectators and participants\, as there is no entry fee or registration; however\, all vehicles must be licensed.  \n7th Annual Grand Prix across the town of Coatesville\, PA.  Free Cruise open to all on Friday.  Click on flier for more information- Coatesville GP 2023 flyer \nNEW THIS YEAR IS OUR 1ST ANNUAL CAR & MOTO SHOW TO BE HELD ALONG LINCOLN HIGHWAY\, AT THE ENTRANCE TO PIT ROW!Remember\, a portion of the event proceeds go to Coatesville’s Parks & Recreation\, as well as Quality of Life initiatives. \nVisit website at:  https://coatesvillegrandprix.com
URL:https://www.collectorcarguide.net/event/7th-annual-coatesville-invitational-grand-prix/
LOCATION:Coatesville\, PA\, Coatesville\, PA\, 19348\, United States
CATEGORIES:Cruise,Motorsports
ATTACH;FMTTYPE=image/jpeg:https://www.collectorcarguide.net/wp-content/uploads/2021/08/7th-Annual-Coatesville.jpeg
ORGANIZER;CN="Brandywine Motorsport Club":MAILTO:Lisa@brandfarmllc.com
END:VEVENT
BEGIN:VEVENT
DTSTART;TZID=America/New_York:20230913T180000
DTEND;TZID=America/New_York:20230913T200000
DTSTAMP:20260419T215949
CREATED:20230807T202443Z
LAST-MODIFIED:20230807T202443Z
UID:29594-1694628000-1694635200@www.collectorcarguide.net
SUMMARY:Cruise and Brews @ Rockville Moose
DESCRIPTION:Stop by every Wednesday evening from 6- 8PM and join your fellow gearheads.\nAll cars\, bikes and trucks are welcome. April through November Free BBQ on the last Wednesday of each month with the purchase of any drink (soft\, beer\, wine\, mixed)
URL:https://www.collectorcarguide.net/event/cruise-and-brews-rockville-moose-6/
LOCATION:Rockville Moose Lodge\, 13755 Travilah Rd\, Rockville\, MD\, 20850\, United States
CATEGORIES:Cruise,Meet Up
ATTACH;FMTTYPE=image/jpeg:https://www.collectorcarguide.net/wp-content/uploads/2023/08/Rocville-Cruise-and-Brews-Flyer.jpg
END:VEVENT
BEGIN:VEVENT
DTSTART;VALUE=DATE:20230911
DTEND;VALUE=DATE:20230912
DTSTAMP:20260419T215949
CREATED:20230913T113854Z
LAST-MODIFIED:20230913T113854Z
UID:29875-1694390400-1694476799@www.collectorcarguide.net
SUMMARY:﻿﻿﻿﻿Ian Cooling's Summer Jaguar Automobilia Auction
DESCRIPTION:Ian Cooling’s Summer Jaguar Automobilia Auction ending at NOON (UK time) Sept 11\, 2023 \nLoads of great Jaguar automobilia. Bid and view at https://jaguarautomobilia.com/auction/\nContact Ian with any questions at ian.cooling@invectanet.co.uk \n\n\nMake sure to bid as soon as you can as he is in the United Kingdom. In other words – if you’re in California (9 hours behind) – you have to have your bids in before 3am on Sunday!
URL:https://www.collectorcarguide.net/event/ian-coolings-summer-jaguar-automobilia-auction/
LOCATION:MD
CATEGORIES:Auction
ATTACH;FMTTYPE=image/jpeg:https://www.collectorcarguide.net/wp-content/uploads/2023/09/unnamed-2-scaled.jpg
ORGANIZER;CN="Ian Cooling":MAILTO: ian.cooling@invectanet.co.uk
END:VEVENT
BEGIN:VEVENT
DTSTART;TZID=America/New_York:20230910T100000
DTEND;TZID=America/New_York:20230910T150000
DTSTAMP:20260419T215949
CREATED:20230615T191447Z
LAST-MODIFIED:20230615T191447Z
UID:29123-1694340000-1694358000@www.collectorcarguide.net
SUMMARY:10th Annual Ladies Auxillary Post #7 Car & Truck Show
DESCRIPTION:Rain Date 9/17 bboop1422@hotmail.com
URL:https://www.collectorcarguide.net/event/10th-annual-ladies-auxillary-post-7-car-truck-show-2/
LOCATION:Thurmont Park\, 21 Frederick Ave\, Thurmont\, MD\, 21788\, United States
CATEGORIES:Shows
END:VEVENT
BEGIN:VEVENT
DTSTART;TZID=America/New_York:20230910T090000
DTEND;TZID=America/New_York:20230910T110000
DTSTAMP:20260419T215949
CREATED:20230615T191448Z
LAST-MODIFIED:20230615T191448Z
UID:29125-1694336400-1694343600@www.collectorcarguide.net
SUMMARY:Cheweys Cruise-In
DESCRIPTION:Local Food/Coffee
URL:https://www.collectorcarguide.net/event/cheweys-cruise-in-28/
LOCATION:Municipal Parking Lot\, 8 Park St\, Mt. Airy\, MD\, 21771\, United States
CATEGORIES:Cruise
ATTACH;FMTTYPE=image/jpeg:https://www.collectorcarguide.net/wp-content/uploads/2022/03/46027197_2207535055932063_8129365066798596096_n.jpg
END:VEVENT
BEGIN:VEVENT
DTSTART;TZID=America/New_York:20230910T080000
DTEND;TZID=America/New_York:20230910T160000
DTSTAMP:20260419T215949
CREATED:20230615T191448Z
LAST-MODIFIED:20230622T163507Z
UID:29124-1694332800-1694361600@www.collectorcarguide.net
SUMMARY:40th  Annual Pontica/Oakland Show
DESCRIPTION:George 703 768-1569\, Rain Date 9/17
URL:https://www.collectorcarguide.net/event/40th-annual-pontica-oakland-show/
LOCATION:Urbana VFD\, 3602 Urbana Pike\, Urbana\, MD\, 21704\, United States
CATEGORIES:Shows
END:VEVENT
BEGIN:VEVENT
DTSTART;VALUE=DATE:20230910
DTEND;VALUE=DATE:20230911
DTSTAMP:20260419T215949
CREATED:20230829T115118Z
LAST-MODIFIED:20230829T115118Z
UID:29766-1694304000-1694390399@www.collectorcarguide.net
SUMMARY:﻿﻿﻿﻿﻿﻿﻿﻿﻿﻿﻿﻿﻿Check The Oil’s Sept Advertising Online Only Auction No. 1
DESCRIPTION:Featuring over 450 great lots of oil cans and other petroliana\, ending Sept 10\, 2023. Bid now at https://www.liveauctioneers.com/auctioneer/7385/check-the-oi... \n\n\nFor questions and info\, please contact Check The Oil Auctions at 330-575-3421 or info@ctohotline.com
URL:https://www.collectorcarguide.net/event/check-the-oils-sept-advertising-online-only-auction-no-1/
LOCATION:MD
CATEGORIES:Auction
ATTACH;FMTTYPE=image/jpeg:https://www.collectorcarguide.net/wp-content/uploads/2023/08/unnamed-1-11-scaled.jpg
ORGANIZER;CN="Oil Auctions":MAILTO:info@ctohotline.com
END:VEVENT
BEGIN:VEVENT
DTSTART;VALUE=DATE:20230910
DTEND;VALUE=DATE:20230911
DTSTAMP:20260419T215949
CREATED:20230712T120518Z
LAST-MODIFIED:20230712T120518Z
UID:29195-1694304000-1694390399@www.collectorcarguide.net
SUMMARY:The 36th Annual British Car Festival
DESCRIPTION:in Palatine\, IL – Sept 10\, 2023
URL:https://www.collectorcarguide.net/event/the-36th-annual-british-car-festival/
LOCATION:MD
CATEGORIES:Concours
END:VEVENT
BEGIN:VEVENT
DTSTART;VALUE=DATE:20230910
DTEND;VALUE=DATE:20230911
DTSTAMP:20260419T215949
CREATED:20230712T115314Z
LAST-MODIFIED:20230712T115314Z
UID:29192-1694304000-1694390399@www.collectorcarguide.net
SUMMARY:Vanderbilt Concours (50th Anniversary)
DESCRIPTION:in Centerport\, NY – Sep 10\, 2023
URL:https://www.collectorcarguide.net/event/vanderbilt-concours-50th-anniversary/
LOCATION:Vanderbilt Museum and Planetarium\, 180 Little Neck Rd\, Centerport\, NY\, 11721\, United States
CATEGORIES:Concours
END:VEVENT
BEGIN:VEVENT
DTSTART;VALUE=DATE:20230910
DTEND;VALUE=DATE:20230911
DTSTAMP:20260419T215949
CREATED:20230218T144458Z
LAST-MODIFIED:20230524T170812Z
UID:27822-1694304000-1694390399@www.collectorcarguide.net
SUMMARY:Southern WV SCCA - Event #5
DESCRIPTION:AutoCross Event #5
URL:https://www.collectorcarguide.net/event/southern-wv-scca-event-5/
LOCATION:WVU Parkersburg\, 300 Campus Dr\, Parkersburg\, WV\, 26104\, United States
CATEGORIES:Motorsports
ATTACH;FMTTYPE=image/jpeg:https://www.collectorcarguide.net/wp-content/uploads/2023/02/IMG_8549.jpg
END:VEVENT
BEGIN:VEVENT
DTSTART;TZID=America/New_York:20230909T170000
DTEND;TZID=America/New_York:20230909T210000
DTSTAMP:20260419T215949
CREATED:20230615T191446Z
LAST-MODIFIED:20230615T191446Z
UID:29121-1694278800-1694293200@www.collectorcarguide.net
SUMMARY:At Home Store Cruise
DESCRIPTION:Food Truck/Local Food Nearby
URL:https://www.collectorcarguide.net/event/at-home-store-cruise-2/
LOCATION:At Home Store\, 1811 Monocacy Blvd\, Frederick\, MD\, 21701\, United States
CATEGORIES:Cruise
END:VEVENT
BEGIN:VEVENT
DTSTART;TZID=America/New_York:20230909T140000
DTEND;TZID=America/New_York:20230909T180000
DTSTAMP:20260419T215949
CREATED:20230615T191429Z
LAST-MODIFIED:20230615T191429Z
UID:29118-1694268000-1694282400@www.collectorcarguide.net
SUMMARY:Annapolis Moose Lodge Car\, Truck & Bike Show
DESCRIPTION:Lodge 410 266-0688
URL:https://www.collectorcarguide.net/event/annapolis-moose-lodge-car-truck-bike-show/
LOCATION:Annapolis Moose Lodge\, 1890 Crownsville Rd\, Annapolis\, MD\, 21401\, United States
CATEGORIES:Shows
END:VEVENT
END:VCALENDAR