BEGIN:VCALENDAR
VERSION:2.0
PRODID:-//Collector Car Guide - ECPv6.15.20//NONSGML v1.0//EN
CALSCALE:GREGORIAN
METHOD:PUBLISH
X-WR-CALNAME:Collector Car Guide
X-ORIGINAL-URL:https://www.collectorcarguide.net
X-WR-CALDESC:Events for Collector Car Guide
REFRESH-INTERVAL;VALUE=DURATION:PT1H
X-Robots-Tag:noindex
X-PUBLISHED-TTL:PT1H
BEGIN:VTIMEZONE
TZID:America/New_York
BEGIN:DAYLIGHT
TZOFFSETFROM:-0500
TZOFFSETTO:-0400
TZNAME:EDT
DTSTART:20210314T070000
END:DAYLIGHT
BEGIN:STANDARD
TZOFFSETFROM:-0400
TZOFFSETTO:-0500
TZNAME:EST
DTSTART:20211107T060000
END:STANDARD
BEGIN:DAYLIGHT
TZOFFSETFROM:-0500
TZOFFSETTO:-0400
TZNAME:EDT
DTSTART:20220313T070000
END:DAYLIGHT
BEGIN:STANDARD
TZOFFSETFROM:-0400
TZOFFSETTO:-0500
TZNAME:EST
DTSTART:20221106T060000
END:STANDARD
BEGIN:DAYLIGHT
TZOFFSETFROM:-0500
TZOFFSETTO:-0400
TZNAME:EDT
DTSTART:20230312T070000
END:DAYLIGHT
BEGIN:STANDARD
TZOFFSETFROM:-0400
TZOFFSETTO:-0500
TZNAME:EST
DTSTART:20231105T060000
END:STANDARD
END:VTIMEZONE
BEGIN:VEVENT
DTSTART;TZID=America/New_York:20220610T173000
DTEND;TZID=America/New_York:20220610T210000
DTSTAMP:20260424T113418
CREATED:20220531T065818Z
LAST-MODIFIED:20220531T072244Z
UID:25154-1654882200-1654894800@www.collectorcarguide.net
SUMMARY:Street Survivors of Maryland
DESCRIPTION:https://streetsurvivorsofmaryland.com
URL:https://www.collectorcarguide.net/event/street-survivors-of-maryland-2/
LOCATION:VA
CATEGORIES:Cruise
ATTACH;FMTTYPE=image/jpeg:https://www.collectorcarguide.net/wp-content/uploads/2022/05/street_survivors_of_maryland_logo.jpg
END:VEVENT
BEGIN:VEVENT
DTSTART;VALUE=DATE:20220610
DTEND;VALUE=DATE:20220612
DTSTAMP:20260424T113418
CREATED:20220526T143734Z
LAST-MODIFIED:20220526T143734Z
UID:25087-1654819200-1654991999@www.collectorcarguide.net
SUMMARY:Soles 4 Souls - The Big One at Dominion Raceway
DESCRIPTION:The BIG ONE benefiting Soles4Souls presented by W.G. Speeks Inc and Bosch Home kicks off Friday June 10th with a V8 shootout\, street drag head to heads\, and Oval Track racing. Resuming Saturday with ALCOVA Mortgage Fredericksburg Modifieds\, USAC Racing Legends\, and three 50 lap GEICO local office LMSC segments. Bring a pair of lightly worn shoes for $5 off your entry both nights! You don’t want to miss this action packed weekend at Dominion Raceway! 
URL:https://www.collectorcarguide.net/event/soles-4-souls-the-big-one-at-dominion-raceway/
LOCATION:Dominion Raceway\, 6501 Dominion Raceway Avenue\, Thornburburg\, VA\, 22580\, United States
CATEGORIES:Motorsports
ATTACH;FMTTYPE=image/jpeg:https://www.collectorcarguide.net/wp-content/uploads/2022/05/Image-from-iOS-1.jpg
ORGANIZER;CN="CARS solid rock careers Tour":MAILTO:admin@carsracingtour.com
END:VEVENT
BEGIN:VEVENT
DTSTART;TZID=America/New_York:20220609T000000
DTEND;TZID=America/New_York:20220609T210000
DTSTAMP:20260424T113418
CREATED:20220531T065808Z
LAST-MODIFIED:20220531T065808Z
UID:25145-1654732800-1654808400@www.collectorcarguide.net
SUMMARY:Wheels From The Past
DESCRIPTION:https://wheelsfromthepast.org
URL:https://www.collectorcarguide.net/event/wheels-from-the-past-3/
LOCATION:Green Turtle- Edgewater\, 3213 Solomons Island Rd\, Edgewater\, MD\, 21037\, United States
CATEGORIES:Cruise
ATTACH;FMTTYPE=image/png:https://www.collectorcarguide.net/wp-content/uploads/2022/05/wheels_from_the_past_logo.png
END:VEVENT
BEGIN:VEVENT
DTSTART;VALUE=DATE:20220606
DTEND;VALUE=DATE:20220609
DTSTAMP:20260424T113418
CREATED:20220526T144240Z
LAST-MODIFIED:20220526T144429Z
UID:25090-1654473600-1654732799@www.collectorcarguide.net
SUMMARY:NE Quattro Club - Pitt Race Cruise/Weekend
DESCRIPTION:Get Signed Up Before They’re Gone…\nWe’ve got events coming up quickly\, and events selling out quickly. \nLime Rock Park this past weekend had 60 sign ups for a 50 student event. Not everyone was able to run unfortunately!\nWatkins Glen in August is getting close to being sold out. \nNow is the time to get your High Performance Driving School plans for the year firmed up. We’d love to see you at one of our upcoming events. See all of our events and links to sign up below!  \n \n\nWho’s Coming With Us to PittRace\, June 6-8 \nThere is nothing more thrilling that learning a new or unfamiliar track. We’re pumped that the NEQ club has been invited to join BMW CCA clubs at PittRace this year. Not only will we set up an NEQ Corral at this HPDE\, but lets plan to drive out there together too!\n \nPittRace (formerly BeaverRun) is a world-class racing and entertainment facility located on rolling hills with sweeping vistas in Wampum\, PA\, just 45 minutes northwest of Pittsburgh\, and only 20 minutes from the Pittsburgh Airport. The track was acquired and fully renovated with new pit/paddock/entertainment facilities and a HUGE track upgrade to double the lap length: now 19 turns\, 2.9 miles on the combination North/South full course. For more information on the track\, visit https://www.pittrace.com/ \nThe Trillium\, Genesee Valley\, and Allegheny BMW CCA chapters are hosting their HPDE event there on Monday-Wednesday\, June 6-8\, 2022.  This event is being run by those organizations and not NEQ.  \nHowever\, we are going out there to drive the track\, and we’re offering the option to caravan out to the BMW CCA event together\, leaving on the morning of Sunday\, June 5th\nRegistration for the NEQ caravan on MotorsportReg is at this link. The final location and meeting time will be determined by those interested in driving out together. Registration for the Caravan closes 5/31. here is no cost for the drive of course. A link to also register for the BMW CCA event is provided on our MSR Caravan sign-up page linked above. \n\nIf you’d like to instruct at this event\, and you’ve not instructed with BMW before\, then we’ll help make the introduction. Contact Doug Billings to get the wheels greased – we’ll see what we can do.  \nLet’s all have an epic time at this incredible track. \n\n\n \n\n\nMon-Wed\, June 6-8.\nNEQ Road Trip to PittRace\nNEQ will coordinate a caravan on June 5th out to Trillium BMW’s 3 day HPDE at PittRace which is located near Pittsburgh\, PA. This is a great track and the first in an annual trip to some of the best tracks driveable from the Northeast.   Read More & Sign Up \nFri\, July 1.\nPalmer Motorsports Park Driving School\nJoin us at this one-day High Performance Driving School at the majestic Palmer Motorsports Park\, MA.    Read More & Sign Up\n\nMon-Tue\, August 1 & 2\nWatkins Glen International Driving School\nWalk in the footsteps of racing legends. See what your car can do in historic Watkins Glen\, NY at our Driving School    Read More & Sign Up\n\nSat\, August 27.   \nLime Rock Park Advanced Solo Day\nSingle day event for instructors and students who have previously been signed off to solo at Lime Rock Park.  The event will have only two run groups\, Red Advanced and Black Advanced+ (please see the event link for more information about run groups)    Read More & Sign Up\n\nMon-Tue\, October 3 & 4. \nNew Jersey Motorsports Park – Thunderbolt  Driving School\nSee what your car can do at this High Performance Driving School at New Jersey Motorsports Park    Read More & Sign Up
URL:https://www.collectorcarguide.net/event/ne-quattro-club-pitt-race-cruise-weekend/
LOCATION:PittRace\, 201 Penndale Road\, Wampum\, PA\, 16157\, United States
CATEGORIES:Motorsports
ATTACH;FMTTYPE=image/jpeg:https://www.collectorcarguide.net/wp-content/uploads/2022/05/neq-logo.jpg
END:VEVENT
BEGIN:VEVENT
DTSTART;TZID=America/New_York:20220605T100000
DTEND;TZID=America/New_York:20220605T140000
DTSTAMP:20260424T113418
CREATED:20220411T190219Z
LAST-MODIFIED:20220516T195744Z
UID:4429-1654423200-1654437600@www.collectorcarguide.net
SUMMARY:Hagerstown C & C
DESCRIPTION:
URL:https://www.collectorcarguide.net/event/hagerstown-c-c-2/
LOCATION:Cushwa Brewing Co\, 10210 Governor Lane Rd\, Williamsport\, MD\, 21795\, United States
CATEGORIES:Cruise
ATTACH;FMTTYPE=image/jpeg:https://www.collectorcarguide.net/wp-content/uploads/2022/02/236796249_4406900979330943_1859075809372883214_n.jpg
END:VEVENT
BEGIN:VEVENT
DTSTART;TZID=America/New_York:20220605T090000
DTEND;TZID=America/New_York:20220605T140000
DTSTAMP:20260424T113418
CREATED:20220411T190219Z
LAST-MODIFIED:20220516T195647Z
UID:4428-1654419600-1654437600@www.collectorcarguide.net
SUMMARY:6th Annual Real Steel Car & Truck Show
DESCRIPTION:
URL:https://www.collectorcarguide.net/event/6th-annual-real-steel-car-truck-show-2/
LOCATION:Real Steel Garage\, 5020 East Berlin Rd\, East Berlin\, PA\, 17316\, United States
CATEGORIES:Shows
END:VEVENT
BEGIN:VEVENT
DTSTART;VALUE=DATE:20220605
DTEND;VALUE=DATE:20220606
DTSTAMP:20260424T113418
CREATED:20220318T122151Z
LAST-MODIFIED:20221025T122001Z
UID:4138-1654387200-1654473599@www.collectorcarguide.net
SUMMARY:EMRA’s @ Pocono Raceway Southeast with NASCAR 1
DESCRIPTION:EMRA’s @ Pocono Raceway Southeast with NASCAR 1\nSunday\, June 5th 2022\nThis is a Race\, FRCCA\, Time Trial and HPDE Event\n  \nEvent Fees (Online Early Registration):\nRace / FRCCA / Time Attack / HPDE\nSunday Registration: $325 \nEvent Fees:\nRace / FRCCA / Time Attack / HPDE\nSunday Registration: $375 \nTransponder Rental: (optional)\nRental of $45 per event \,a $550 deposit (credit card or check) is required at the track. \nLicensing Fees:\nTT/Competition License Renewal: $100\nTemporary Weekend License*: $35 \nFor more information about EMRA please visit us at emraracing.org \nPayment:\nPayment is required at the time of registration. \n*A temporary weekend license may be purchased when a driver holds a competition license from recognized motorsports organization other than EMRA. Contact EMRA’s Chief of Race Licensing if you are unsure about your status. \nTransponder Rental:\nRental of $45 for One Day (a $550 deposit required at the track) \n*Transponders are required for all Sprint Racing and Time Trials
URL:https://www.collectorcarguide.net/event/emras-pocono-raceway-southeast-with-nascar-1/
LOCATION:Pocono Raceway\, 1234 Long Pond Rd\, Long Pond\, PA\, 18334\, United States
CATEGORIES:Motorsports
ATTACH;FMTTYPE=image/png:https://www.collectorcarguide.net/wp-content/uploads/2022/03/emra-logo-time-trial.png
ORGANIZER;CN="EMRA":MAILTO:jkatz@lissconsulting.com
END:VEVENT
BEGIN:VEVENT
DTSTART;TZID=America/New_York:20220604T170000
DTEND;TZID=America/New_York:20220604T210000
DTSTAMP:20260424T113418
CREATED:20220411T190218Z
LAST-MODIFIED:20221031T130542Z
UID:4427-1654362000-1654376400@www.collectorcarguide.net
SUMMARY:Jimmy Cone Cruise Night
DESCRIPTION:Cruise-In
URL:https://www.collectorcarguide.net/event/jimmy-cone-cruise-night-5/
LOCATION:Jimmie Cone\, 1312 S. Main St\, Mt. Airy\, MD\, 21771\, United States
CATEGORIES:Cruise
ATTACH;FMTTYPE=image/png:https://www.collectorcarguide.net/wp-content/uploads/2022/03/381-jimmiecone.png
END:VEVENT
BEGIN:VEVENT
DTSTART;TZID=America/New_York:20220604T110000
DTEND;TZID=America/New_York:20220604T140000
DTSTAMP:20260424T113418
CREATED:20220601T130310Z
LAST-MODIFIED:20220601T130321Z
UID:25253-1654340400-1654351200@www.collectorcarguide.net
SUMMARY:PCA Potomac - BBQ This Saturday (6/4) at Intersport Performance!
DESCRIPTION:Long time PCA Potomac sponsor Intersport Performance will be holding a BBQ this Saturday\, June 4th\, at their Ashburn location.  Bring your Porsche and enjoy!
URL:https://www.collectorcarguide.net/event/25253/
LOCATION:Intersport Performance\, 19760 Ashburn Rd\, Ashburn\, VA\, 20147\, United States
CATEGORIES:Shows
ATTACH;FMTTYPE=image/png:https://www.collectorcarguide.net/wp-content/uploads/2022/06/pcabbq.png
END:VEVENT
BEGIN:VEVENT
DTSTART;TZID=America/New_York:20220604T100000
DTEND;TZID=America/New_York:20220604T150000
DTSTAMP:20260424T113418
CREATED:20220411T190218Z
LAST-MODIFIED:20220516T195346Z
UID:4426-1654336800-1654354800@www.collectorcarguide.net
SUMMARY:8th Annual - Terra Rubra Lions Club
DESCRIPTION:Breakfast Served 7am-10am
URL:https://www.collectorcarguide.net/event/8th-annualterra-rubra-lions-club-2/
LOCATION:Lions Club Field\, 6300 Middleburg Rd\, Keymar\, MD\, 21757\, United States
CATEGORIES:Shows
END:VEVENT
BEGIN:VEVENT
DTSTART;TZID=America/New_York:20220604T100000
DTEND;TZID=America/New_York:20220604T150000
DTSTAMP:20260424T113418
CREATED:20220411T190218Z
LAST-MODIFIED:20220516T195009Z
UID:4425-1654336800-1654354800@www.collectorcarguide.net
SUMMARY:8th Annual Ranson Car/Truck & Motorcycle Show
DESCRIPTION:
URL:https://www.collectorcarguide.net/event/8th-annual-ranson-car-truck-motorcy-2/
LOCATION:Downtown Ranson\, 312 S. Mildred St\, Ranson\, WV\, 25438\, United States
CATEGORIES:Shows
END:VEVENT
BEGIN:VEVENT
DTSTART;TZID=America/New_York:20220604T090000
DTEND;TZID=America/New_York:20220604T140000
DTSTAMP:20260424T113418
CREATED:20220303T220230Z
LAST-MODIFIED:20220502T180330Z
UID:3521-1654333200-1654351200@www.collectorcarguide.net
SUMMARY:10th Annual Hampstead Ameican Legion Car & Truck Show
DESCRIPTION:Car/Truck Show
URL:https://www.collectorcarguide.net/event/10th-annual-hampstead-ameican-legion-car-truck-show/
LOCATION:Hampstead American Legion\, 4600 Legion La\, Hampstead\, MD\, 21074\, United States
CATEGORIES:Shows
END:VEVENT
BEGIN:VEVENT
DTSTART;TZID=America/New_York:20220604T080000
DTEND;TZID=America/New_York:20220605T170000
DTSTAMP:20260424T113418
CREATED:20220406T161913Z
LAST-MODIFIED:20220406T162311Z
UID:4346-1654329600-1654448400@www.collectorcarguide.net
SUMMARY:6th Annual Chesapeake Bay Motoring Festival
DESCRIPTION:Building on the success of last October’s Event please join us for the 5th Annual Chesapeake Bay Motoring Festival\, a celebration of Motoring Excellence on Maryland’s Eastern Shore. You may also register your classic car or boat today. Early bird ticket pricing is $ 25.00 while they last and $30.00 at regular pricing after May 28th.
URL:https://www.collectorcarguide.net/event/6th-annual-chesapeake-bay-motoring-festival-2/
LOCATION:Kent Island Yacht Club\, 117 Yacht Club Dr\, Chester\, MD\, 21619\, United States
CATEGORIES:Shows
ATTACH;FMTTYPE=image/jpeg:https://www.collectorcarguide.net/wp-content/uploads/2022/04/Chesapeake-Bay-Motoring-Festival.jpg
ORGANIZER;CN="St. Michaels Concours d'Elegance":MAILTO:luke@smcde.org
END:VEVENT
BEGIN:VEVENT
DTSTART;VALUE=DATE:20220604
DTEND;VALUE=DATE:20220605
DTSTAMP:20260424T113418
CREATED:20220601T151309Z
LAST-MODIFIED:20230222T155526Z
UID:25265-1654300800-1654387199@www.collectorcarguide.net
SUMMARY:2022 WDCR SCCA Autocross Level 2 school
DESCRIPTION:Hello Autocrossers!\n \nThe WDCR is having a Level 2 Autocross school\n \nTHIS WEEKEND\n \nJune 4\, at FedExField\, Home of the Washington Commanders!  \n \nAre you an experienced autocrosser and want to hone your skills? Learn a new car? Come and enter the Level 2 School on June 4.\n \nRegistration is still open\, plenty of spots are available\n \n\n\nQuestions ?\nContact the Chief instructor\, Brian Garfield at\nbgarfield@gmail.com\n \nSee you on the parking lot!\n \nEvanthe Salisbury\nWDCR Solo Program Chair (again)\nSolochair@wdcr-scca.org
URL:https://www.collectorcarguide.net/event/2022-wdcr-scca-autocross-level-2-school/
LOCATION:Fedex Field\, 1600 FedEx Way\, Landover\, MD\, 20785\, United States
CATEGORIES:Motorsports
ATTACH;FMTTYPE=image/jpeg:https://www.collectorcarguide.net/wp-content/uploads/2022/06/unnamed.jpg
ORGANIZER;CN="WDCR SCCA":MAILTO:cluboffice@wdcr-scca.org
END:VEVENT
BEGIN:VEVENT
DTSTART;TZID=America/New_York:20220603T180000
DTEND;TZID=America/New_York:20220603T210000
DTSTAMP:20260424T113418
CREATED:20220531T065936Z
LAST-MODIFIED:20220531T073120Z
UID:25162-1654279200-1654290000@www.collectorcarguide.net
SUMMARY:VFW Post 467 Cruise
DESCRIPTION:Welcome to Molleville Farm Post 467
URL:https://www.collectorcarguide.net/event/vfw-post-467-cruise/
LOCATION:VFW Post 467\, 519 Poole Rd\, Westminster\, MD\, 21157\, United States
CATEGORIES:Cruise
ATTACH;FMTTYPE=image/jpeg:https://www.collectorcarguide.net/wp-content/uploads/2022/05/vfw_467.jpg
END:VEVENT
BEGIN:VEVENT
DTSTART;TZID=America/New_York:20220603T180000
DTEND;TZID=America/New_York:20220603T210000
DTSTAMP:20260424T113419
CREATED:20220531T065812Z
LAST-MODIFIED:20220531T071534Z
UID:25153-1654279200-1654290000@www.collectorcarguide.net
SUMMARY:Street Survivors of Maryland
DESCRIPTION:Home
URL:https://www.collectorcarguide.net/event/street-survivors-of-maryland/
LOCATION:VA
CATEGORIES:Cruise
ATTACH;FMTTYPE=image/jpeg:https://www.collectorcarguide.net/wp-content/uploads/2022/05/street_survivors_of_maryland_logo.jpg
END:VEVENT
BEGIN:VEVENT
DTSTART;TZID=America/New_York:20220602T180000
DTEND;TZID=America/New_York:20220602T210000
DTSTAMP:20260424T113420
CREATED:20220531T063218Z
LAST-MODIFIED:20220531T063218Z
UID:25139-1654192800-1654203600@www.collectorcarguide.net
SUMMARY:Wheels From The Past
DESCRIPTION:https://wheelsfromthepast.org
URL:https://www.collectorcarguide.net/event/wheels-from-the-past-2/
LOCATION:Green Turtle- Edgewater\, 3213 Solomons Island Rd\, Edgewater\, MD\, 21037\, United States
CATEGORIES:Cruise
ATTACH;FMTTYPE=image/png:https://www.collectorcarguide.net/wp-content/uploads/2022/05/wheels_from_the_past_logo.png
END:VEVENT
BEGIN:VEVENT
DTSTART;TZID=America/New_York:20220530T100000
DTEND;TZID=America/New_York:20220530T150000
DTSTAMP:20260424T113420
CREATED:20220314T160227Z
LAST-MODIFIED:20220411T205330Z
UID:4106-1653904800-1653922800@www.collectorcarguide.net
SUMMARY:Littlestown Chapel Car & Truck Show
DESCRIPTION:No Rain Date
URL:https://www.collectorcarguide.net/event/littlestown-chapel-car-truck-show/
LOCATION:Gettysburg Outlets\, 1863 Gettysburg Village Dr\, Gettysburg\, PA\, 17325\, United States
CATEGORIES:Shows
END:VEVENT
BEGIN:VEVENT
DTSTART;TZID=America/New_York:20220529T100000
DTEND;TZID=America/New_York:20220529T140000
DTSTAMP:20260424T113420
CREATED:20220314T160227Z
LAST-MODIFIED:20221031T130537Z
UID:4104-1653818400-1653832800@www.collectorcarguide.net
SUMMARY:Heart of Maryland Chevy Club Cruise-In
DESCRIPTION:Music/Food/Prizes
URL:https://www.collectorcarguide.net/event/heart-of-maryland-chevy-club-cruise-in-2/
LOCATION:Frederick Elks Club\, 289 Willowdale Dr\, Frederick\, MD\, 21702\, United States
CATEGORIES:Cruise
END:VEVENT
BEGIN:VEVENT
DTSTART;TZID=America/New_York:20220529T080000
DTEND;TZID=America/New_York:20220529T130000
DTSTAMP:20260424T113420
CREATED:20220314T160227Z
LAST-MODIFIED:20220411T204837Z
UID:4105-1653811200-1653829200@www.collectorcarguide.net
SUMMARY:Street Survivors Memorial Day Show
DESCRIPTION:
URL:https://www.collectorcarguide.net/event/street-survivors-memorial-day-show/
LOCATION:Elks Lodge- Severn\, 878 Stevenson Rd\, Severn\, MD\, 21144\, United States
CATEGORIES:Shows
END:VEVENT
BEGIN:VEVENT
DTSTART;TZID=America/New_York:20220527T130000
DTEND;TZID=America/New_York:20220527T210000
DTSTAMP:20260424T113420
CREATED:20220314T160212Z
LAST-MODIFIED:20220314T171759Z
UID:4103-1653656400-1653685200@www.collectorcarguide.net
SUMMARY:Markets At Shrewsbury Cruise-In
DESCRIPTION:Rain Date is the Following Friday Cruise-In
URL:https://www.collectorcarguide.net/event/markets-at-shrewsbury-cruise-in-4/
LOCATION:Markets at Shrewsbury\, 12025 Susquehanna Trail\, Shrewsbury\, PA\, 17327\, United States
CATEGORIES:Cruise
ATTACH;FMTTYPE=image/jpeg:https://www.collectorcarguide.net/wp-content/uploads/2021/02/Markets-At-Shrewsbury-Logo.jpg
END:VEVENT
BEGIN:VEVENT
DTSTART;TZID=America/New_York:20220522T113000
DTEND;TZID=America/New_York:20220522T140000
DTSTAMP:20260424T113420
CREATED:20220510T235334Z
LAST-MODIFIED:20230222T155532Z
UID:24992-1653219000-1653228000@www.collectorcarguide.net
SUMMARY:WDCR SCCA - United Karting Spring kick-off
DESCRIPTION:Join us for some Karting on Sunday\, May 15  – The Washington D.C. Region SCCA (WDCR SCCA) invites you\, your family\, and friends to the WDCR Karting: Spring Kick-Off @ United Karting Sunday\, May 15th\, 2022. Experience the thrill of high speed karting action in a fun\, friendly\, arrive-and-drive environment. This event kicks off at 11:30 sharp\, and will run through 2PM. \n \nThis will be our first karting event of the season\, so if you’ve been looking for a reason to shake off that winter dust there is no better time!\n \nWhat you need to know:\n\nNo equipment is necessary\, but we recommend bringing your own helmet\, water\, and sunblock.\nWDCR SCCA members and their guests will receive exclusive discount pricing for this event. Just show your SCCA membership ID at the door at registration to receive the special pricing.\nNo pre-payment is required\, just show up and be ready to Kart!\n\n \nAbout United Karting:\nUnited Karting\, founded in 2018\, is growing Karting in the DMV. With a fleet of high-speed outdoor karts\, we give racers an opportunity to experience a new level of speed and thrills. To better grow the karting community\, we provide an open practice space\, arrive and drive programs\, and hands on training.\n \nGetting to United Karting – Located near BWI Airport and easily accessible from I-195 or the Baltimore-Washington Parkway. Physical address: 7206 Ridge Road\, Hanover\, Maryland 21076.\n \nWeather: United Karting is an outdoor operation\, and this event will be a weather-dependent and is subject to cancellation if conditions become inclement. Please check WDCR-SCCA.org for cancellation notices.
URL:https://www.collectorcarguide.net/event/wdcr-scca-united-karting-spring-kick-off/
LOCATION:United Karting\, 7206 Ridge Rd\, Hanover\, MD\, 21076\, United States
CATEGORIES:Motorsports
ATTACH;FMTTYPE=image/png:https://www.collectorcarguide.net/wp-content/uploads/2022/05/sccakarting.png
ORGANIZER;CN="WDCR SCCA":MAILTO:cluboffice@wdcr-scca.org
END:VEVENT
BEGIN:VEVENT
DTSTART;TZID=America/New_York:20220522T080000
DTEND;TZID=America/New_York:20220522T110000
DTSTAMP:20260424T113420
CREATED:20220314T160212Z
LAST-MODIFIED:20220314T171432Z
UID:4102-1653206400-1653217200@www.collectorcarguide.net
SUMMARY:Cheweys Cruise-In
DESCRIPTION:
URL:https://www.collectorcarguide.net/event/cheweys-cruise-in-12/
LOCATION:Municipal Parking Lot\, 8 Park St\, Mt. Airy\, MD\, 21771\, United States
CATEGORIES:Cruise
ATTACH;FMTTYPE=image/jpeg:https://www.collectorcarguide.net/wp-content/uploads/2022/03/46027197_2207535055932063_8129365066798596096_n.jpg
END:VEVENT
BEGIN:VEVENT
DTSTART;TZID=America/New_York:20220521T170000
DTEND;TZID=America/New_York:20220521T210000
DTSTAMP:20260424T113420
CREATED:20220314T160212Z
LAST-MODIFIED:20221031T130529Z
UID:4101-1653152400-1653166800@www.collectorcarguide.net
SUMMARY:Jimmy Cone Cruise-In
DESCRIPTION:
URL:https://www.collectorcarguide.net/event/jimmy-cone-cruise-in-4/
LOCATION:Jimmie Cone\, 1312 S. Main St\, Mt. Airy\, MD\, 21771\, United States
CATEGORIES:Cruise
ATTACH;FMTTYPE=image/png:https://www.collectorcarguide.net/wp-content/uploads/2022/03/381-jimmiecone.png
END:VEVENT
BEGIN:VEVENT
DTSTART;TZID=America/New_York:20220521T100000
DTEND;TZID=America/New_York:20220521T150000
DTSTAMP:20260424T113420
CREATED:20220314T160212Z
LAST-MODIFIED:20220411T204823Z
UID:4100-1653127200-1653145200@www.collectorcarguide.net
SUMMARY:Gold Star Mothers
DESCRIPTION:Rain Date 5/29
URL:https://www.collectorcarguide.net/event/gold-star-mothers/
LOCATION:Sunset Lane Park\, 2442 Sunset Lane\, York\, PA\, 17408\, United States
CATEGORIES:Shows
END:VEVENT
BEGIN:VEVENT
DTSTART;TZID=America/New_York:20220521T090000
DTEND;TZID=America/New_York:20220521T150000
DTSTAMP:20260424T113420
CREATED:20220314T160212Z
LAST-MODIFIED:20220411T204759Z
UID:4099-1653123600-1653145200@www.collectorcarguide.net
SUMMARY:Cruising & Flying- Wheels & Wings
DESCRIPTION:
URL:https://www.collectorcarguide.net/event/cruising-flying-wheels-wings/
LOCATION:Hagerstown Aviation Museum\, 18450 Showalter Rd.\, Building 8\, Hagerstown\, MD\, 21742\, United States
CATEGORIES:Shows
END:VEVENT
BEGIN:VEVENT
DTSTART;TZID=America/New_York:20220521T080000
DTEND;TZID=America/New_York:20220521T140000
DTSTAMP:20260424T113420
CREATED:20220314T160208Z
LAST-MODIFIED:20220411T204739Z
UID:4098-1653120000-1653141600@www.collectorcarguide.net
SUMMARY:Spring Mills FFA Car\, Truck & Tractor
DESCRIPTION:Rain Date 5/22
URL:https://www.collectorcarguide.net/event/spring-mills-ffa-car-truck-tractor-2/
LOCATION:Spring Mills High School\, 499 Campus Dr\, Martinsburg\, WV\, 25404\, United States
CATEGORIES:Shows
END:VEVENT
BEGIN:VEVENT
DTSTART;VALUE=DATE:20220521
DTEND;VALUE=DATE:20220523
DTSTAMP:20260424T113420
CREATED:20220512T161210Z
LAST-MODIFIED:20221111T190721Z
UID:24997-1653091200-1653263999@www.collectorcarguide.net
SUMMARY:WDCR SCCA HPDE & Time Trials at Dominion Raceway
DESCRIPTION: The next Washington DC Region HPDE and TIme Trials event at Dominion Raceway is May 21 & 22. \n \nFor those of you who have not been to Dominion please sign up and experience the 2 mile track. The dip before the bridge has been repaved along with additional parts of the track. The paddock classroom is brand new and air-conditioned.  \nAs an additional courtesy\, Dominion Raceway allows SCCA participants free entry to view their Saturday night NASCAR races on the 3/8 mile banked oval.\n \nPlease join us for this event !\n \nInstructors\, we could also use a few more of you for our Novice group\, especially on Sunday. If your Sunday is open\, please consider joining us and share your knowledge with a motorsports enthusiast eager to learn from you
URL:https://www.collectorcarguide.net/event/wdcr-scca-hpde-time-trials-at-dominion-raceway/
LOCATION:Dominion Raceway\, 6501 Dominion Raceway Avenue\, Thornburburg\, VA\, 22580\, United States
CATEGORIES:Motorsports
ATTACH;FMTTYPE=image/png:https://www.collectorcarguide.net/wp-content/uploads/2022/03/wdcr_scca.png
ORGANIZER;CN="WDCR SCCA":MAILTO:cluboffice@wdcr-scca.org
END:VEVENT
BEGIN:VEVENT
DTSTART;VALUE=DATE:20220521
DTEND;VALUE=DATE:20220523
DTSTAMP:20260424T113420
CREATED:20220510T120307Z
LAST-MODIFIED:20221025T120228Z
UID:24990-1653091200-1653263999@www.collectorcarguide.net
SUMMARY:HOD NE - Pocono Mega Course (The Real One!)
DESCRIPTION:Pocono May 21 & 22nd \nLime Rock\nWithout Sound Restrictions June 10 & 11 \nTwo great events are right around the corner! \nSaturday\, May 21st at Pocono on the East course we are running an MSF Level 2 training and a solo driver boot camp.\nSunday\, May 22nd we run the Pocono Mega-Course\, created by our very own Jay Tepper years ago.  We use all 4 courses put together to make a flowing 3.51-mile road course. (Don’t be fooled by others that use the old IMSA layout and call it Mega) \nThen we are running two days at Lime Rock without sound restrictions.  We are running two run groups\, C & D on Friday afternoon and Saturday morning.  Check out the schedule on the registration page.  \nContact Mona for single day availability at LRP \nClick Here 2022 HOD NE Season Info and Registration \nDon’t forget about our referral program\, click to learn more. \nIf you see your run group sold out\,  register for the waitlist or reach out to Mona for availability.
URL:https://www.collectorcarguide.net/event/hod-ne-pocono-mega-course-the-real-one/
LOCATION:Pocono Raceway\, 1234 Long Pond Rd\, Long Pond\, PA\, 18334\, United States
CATEGORIES:Motorsports
ATTACH;FMTTYPE=image/png:https://www.collectorcarguide.net/wp-content/uploads/2022/04/download.png
ORGANIZER;CN="HookedOnDriving (NorthEast)":MAILTO:Northeast@hookedondriving.com
END:VEVENT
BEGIN:VEVENT
DTSTART;TZID=America/New_York:20220515T110000
DTEND;TZID=America/New_York:20220515T160000
DTSTAMP:20260424T113420
CREATED:20220314T160207Z
LAST-MODIFIED:20220411T204714Z
UID:4096-1652612400-1652630400@www.collectorcarguide.net
SUMMARY:Boumi Shriners Annual Car & Truck
DESCRIPTION:
URL:https://www.collectorcarguide.net/event/boumi-shriners-annual-car-truck/
LOCATION:Western Auto- Rosedale\, 5050 King Ave\, Rosedale\, MD\, 21237\, United States
CATEGORIES:Shows
END:VEVENT
END:VCALENDAR