BEGIN:VCALENDAR
VERSION:2.0
PRODID:-//Collector Car Guide - ECPv6.15.20//NONSGML v1.0//EN
CALSCALE:GREGORIAN
METHOD:PUBLISH
X-WR-CALNAME:Collector Car Guide
X-ORIGINAL-URL:https://www.collectorcarguide.net
X-WR-CALDESC:Events for Collector Car Guide
REFRESH-INTERVAL;VALUE=DURATION:PT1H
X-Robots-Tag:noindex
X-PUBLISHED-TTL:PT1H
BEGIN:VTIMEZONE
TZID:America/New_York
BEGIN:DAYLIGHT
TZOFFSETFROM:-0500
TZOFFSETTO:-0400
TZNAME:EDT
DTSTART:20210314T070000
END:DAYLIGHT
BEGIN:STANDARD
TZOFFSETFROM:-0400
TZOFFSETTO:-0500
TZNAME:EST
DTSTART:20211107T060000
END:STANDARD
BEGIN:DAYLIGHT
TZOFFSETFROM:-0500
TZOFFSETTO:-0400
TZNAME:EDT
DTSTART:20220313T070000
END:DAYLIGHT
BEGIN:STANDARD
TZOFFSETFROM:-0400
TZOFFSETTO:-0500
TZNAME:EST
DTSTART:20221106T060000
END:STANDARD
BEGIN:DAYLIGHT
TZOFFSETFROM:-0500
TZOFFSETTO:-0400
TZNAME:EDT
DTSTART:20230312T070000
END:DAYLIGHT
BEGIN:STANDARD
TZOFFSETFROM:-0400
TZOFFSETTO:-0500
TZNAME:EST
DTSTART:20231105T060000
END:STANDARD
END:VTIMEZONE
BEGIN:VEVENT
DTSTART;VALUE=DATE:20220626
DTEND;VALUE=DATE:20220627
DTSTAMP:20260424T081615
CREATED:20220610T164602Z
LAST-MODIFIED:20230524T164527Z
UID:25320-1656201600-1656287999@www.collectorcarguide.net
SUMMARY:100-Car Toy Drive to Johns Hopkins Children’s Center
DESCRIPTION:Potomac members are invited to join Chesapeake members for a toy drive and follow-on picnic. This epic all-day event starts with a 100-car police-escorted parade from Towson to the Children’s Center to drop off the toys. It then proceeds to the Chesapeake Bay at Rocky Point Park and Beach for a Mission BBQ catered lunch\, informal Concours (with trophies)\, and a relaxing afternoon. CLICK HERE TO REGISTER \nIn addition\, please consider the Johns Hopkins Children’s Center Fundraiser\, where Chesapeake has set a goal to raise $25\,000 to further support the Hopkins kids. These donations will be used to replace and/or add approximately 65 gaming consoles into patient rooms along with downloadable games and TV streaming services. CLICK HERE TO DONATE
URL:https://www.collectorcarguide.net/event/100-car-toy-drive-to-johns-hopkins-childrens-center/
LOCATION:CA
CATEGORIES:Charity Event
ATTACH;FMTTYPE=image/jpeg:https://www.collectorcarguide.net/wp-content/uploads/2022/06/unnamed-1-1.jpg
END:VEVENT
BEGIN:VEVENT
DTSTART;TZID=America/New_York:20220625T100000
DTEND;TZID=America/New_York:20220625T140000
DTSTAMP:20260424T081615
CREATED:20220610T164415Z
LAST-MODIFIED:20221025T122028Z
UID:25316-1656151200-1656165600@www.collectorcarguide.net
SUMMARY:Tech Session for Summit Point Main Event
DESCRIPTION:Tech Session for Summit Point Main Event – June 25 \nPorsche of Chantilly will be hosting the Tech Session for the early July DE at Summit Point Main.  We’ll be in a very large service area with many\, many lifts\, sparkling clean floors and air conditioning!  See PCA Potomac web site for more details about Tech Session hours\, etc.:  https://pcapotomac.org/activities/tech-inspection \nPorsche of Chantilly 4055 Stonecroft Blvd Chantilly\, VA  20151
URL:https://www.collectorcarguide.net/event/25316/
LOCATION:Porsche of Chantilly\, 4055 Stonecroft Blvd\, Chantilly\, VA\, 20151\, United States
CATEGORIES:Motorsports
ATTACH;FMTTYPE=image/png:https://www.collectorcarguide.net/wp-content/uploads/2022/05/th_23rt33345u_pca_potomac_region_logo.png
END:VEVENT
BEGIN:VEVENT
DTSTART;TZID=America/New_York:20220625T090000
DTEND;TZID=America/New_York:20220626T163000
DTSTAMP:20260424T081615
CREATED:20220629T123659Z
LAST-MODIFIED:20220629T123659Z
UID:25434-1656147600-1656261000@www.collectorcarguide.net
SUMMARY:Honda Wars 2022
DESCRIPTION:
URL:https://www.collectorcarguide.net/event/honda-wars-2022/
LOCATION:CA
CATEGORIES:Motorsports,Shows
ATTACH;FMTTYPE=image/jpeg:https://www.collectorcarguide.net/wp-content/uploads/2022/06/Image-from-iOS-6.jpg
END:VEVENT
BEGIN:VEVENT
DTSTART;TZID=America/New_York:20220625T090000
DTEND;TZID=America/New_York:20220625T150000
DTSTAMP:20260424T081615
CREATED:20220411T190310Z
LAST-MODIFIED:20220411T210138Z
UID:4447-1656147600-1656169200@www.collectorcarguide.net
SUMMARY:11th Annual Rocking Chair Nationals
DESCRIPTION:Rain Date 6/26
URL:https://www.collectorcarguide.net/event/11th-annual-rocking-chair-nationals-2/
LOCATION:CA
CATEGORIES:Shows
ORGANIZER;CN="Rocking Chair Nationals":MAILTO:odsgore1@msn.com
END:VEVENT
BEGIN:VEVENT
DTSTART;VALUE=DATE:20220625
DTEND;VALUE=DATE:20220626
DTSTAMP:20260424T081615
CREATED:20230207T125619Z
LAST-MODIFIED:20230207T125619Z
UID:27732-1656115200-1656201599@www.collectorcarguide.net
SUMMARY:ROTARY SPIRIT - Pocono Raceway
DESCRIPTION:Rotary enthusiasts gather to celebrate rotary history and Mazda’s “Challenger Spirit.” After an overwhelming response to last year’s event\, we have been able to secure space at Pocono Raceway for June 25th for the 2023 event. This is due to our generous event partner\, EMRA. This will be an event to be remembered\, with a car show\, track day\, and more. We will also have an all-rotary parade lap for pictures and video. Let’s make memories that will last a lifetime. \n \nInterested individuals will also be able to sign up with our partner EMRA to drive their cars on the race track for Time Attack\, Instructor-led driving\, and more. **Please note that participation with EMRA does come with an extra charge. See below for more details. \n \nThe event is COMPLETELY FREE unless you would like to participate in our car show ($25/car). \n \nParade laps are open to rotary vehicles at no charge. \n \nThank you so much to our current sponsors and supporters who are enabling us to host this event: JPR Imports\, Garage Alpha\, JP3 Motorsports \, Rotor Piston Motorsportz LLC \, Rotary13B1.com \, EMRA\, AtkinsRotary\, Rotary Roger
URL:https://www.collectorcarguide.net/event/rotary-spirit-pocono-raceway/
LOCATION:Pocono Raceway\, 1234 Long Pond Rd\, Long Pond\, PA\, 18334\, United States
CATEGORIES:Cruise,Shows
ATTACH;FMTTYPE=image/jpeg:https://www.collectorcarguide.net/wp-content/uploads/2023/02/IMG_8534.jpg
END:VEVENT
BEGIN:VEVENT
DTSTART;TZID=America/New_York:20220624T180000
DTEND;TZID=America/New_York:20220624T210000
DTSTAMP:20260424T081615
CREATED:20220531T070030Z
LAST-MODIFIED:20220531T073244Z
UID:25165-1656093600-1656104400@www.collectorcarguide.net
SUMMARY:VFW Post 467 Cruise
DESCRIPTION:Welcome to Molleville Farm Post 467
URL:https://www.collectorcarguide.net/event/vfw-post-467-cruise-4/
LOCATION:VFW Post 467\, 519 Poole Rd\, Westminster\, MD\, 21157\, United States
CATEGORIES:Cruise
ATTACH;FMTTYPE=image/jpeg:https://www.collectorcarguide.net/wp-content/uploads/2022/05/vfw_467.jpg
END:VEVENT
BEGIN:VEVENT
DTSTART;TZID=America/New_York:20220624T173000
DTEND;TZID=America/New_York:20220624T210000
DTSTAMP:20260424T081617
CREATED:20220531T065832Z
LAST-MODIFIED:20220531T072937Z
UID:25156-1656091800-1656104400@www.collectorcarguide.net
SUMMARY:Street Survivors of Maryland
DESCRIPTION:Home
URL:https://www.collectorcarguide.net/event/street-survivors-of-maryland-4/
LOCATION:CA
CATEGORIES:Cruise
ATTACH;FMTTYPE=image/jpeg:https://www.collectorcarguide.net/wp-content/uploads/2022/05/street_survivors_of_maryland_logo.jpg
END:VEVENT
BEGIN:VEVENT
DTSTART;TZID=America/New_York:20220624T130000
DTEND;TZID=America/New_York:20220624T200000
DTSTAMP:20260424T081618
CREATED:20220411T190310Z
LAST-MODIFIED:20220411T210112Z
UID:4445-1656075600-1656100800@www.collectorcarguide.net
SUMMARY:Markets at Shrewsbury
DESCRIPTION:
URL:https://www.collectorcarguide.net/event/markets-at-shrewsbury-2/
LOCATION:Markets at Shrewsbury\, 12025 Susquehanna Trail\, Shrewsbury\, PA\, 17327\, United States
CATEGORIES:Cruise
ATTACH;FMTTYPE=image/jpeg:https://www.collectorcarguide.net/wp-content/uploads/2021/02/Markets-At-Shrewsbury-Logo.jpg
END:VEVENT
BEGIN:VEVENT
DTSTART;TZID=America/New_York:20220624T080000
DTEND;TZID=America/New_York:20220625T150000
DTSTAMP:20260424T081618
CREATED:20220411T190310Z
LAST-MODIFIED:20220411T210051Z
UID:4446-1656057600-1656169200@www.collectorcarguide.net
SUMMARY:Chevelle Nationals
DESCRIPTION:Chevelles/Malibu or El Caminos only\, Must Pre-register\, visit site for entry fee 
URL:https://www.collectorcarguide.net/event/chevelle-nationals-2/
LOCATION:North East Community Park\, 106 South Main St\, North East\, MD\, 21901\, United States
CATEGORIES:Shows
END:VEVENT
BEGIN:VEVENT
DTSTART;TZID=America/New_York:20220623T000000
DTEND;TZID=America/New_York:20220623T210000
DTSTAMP:20260424T081618
CREATED:20220531T065809Z
LAST-MODIFIED:20220531T065809Z
UID:25147-1655942400-1656018000@www.collectorcarguide.net
SUMMARY:Wheels From The Past
DESCRIPTION:https://wheelsfromthepast.org
URL:https://www.collectorcarguide.net/event/wheels-from-the-past-5/
LOCATION:Green Turtle- Edgewater\, 3213 Solomons Island Rd\, Edgewater\, MD\, 21037\, United States
CATEGORIES:Cruise
ATTACH;FMTTYPE=image/png:https://www.collectorcarguide.net/wp-content/uploads/2022/05/wheels_from_the_past_logo.png
END:VEVENT
BEGIN:VEVENT
DTSTART;TZID=America/New_York:20220619T100000
DTEND;TZID=America/New_York:20220619T150000
DTSTAMP:20260424T081618
CREATED:20220312T165416Z
LAST-MODIFIED:20220312T165432Z
UID:4076-1655632800-1655650800@www.collectorcarguide.net
SUMMARY:Sully Antique Car Show
DESCRIPTION:Sully Antique Car Show Returns! – June 19\, 2022\nAfter a two-year hiatus\, the Sully Antique Car Show returns! June 19\, 2022 is not only Fathers’ Day\, it is the 47th Sully Antique Car Show\, which is jointly sponsored by the Fairfax County Park Authority and the George Washington Chapter Model A Ford Club. The show is to be held 10:00 am – 3:30 pm at the Sully Historic Site\, at 3650 Historic Sully Way\, Chantilly\, VA 20151.\nBring your old car to show (pre-1997) for $10 (if pre-registered by June 15) and you will have a good chance for a trophy\, because there are thirty show classes with 1st\, 2nd\, and 3rd place trophies\, as well as trophies for Best in Show and another for the favorite of the Sully Staff. Or\, just bring yourself and your family to enjoy the show where you will see approximately 350 classic and antique cars\, a Car Corral\, special displays including Hit ‘n Miss engines and a “take-apart Model T Ford\, a flea market\, a selection of food vendors\, a kids’ tent with amusements including free coloring books\, live music from two bands\, and a Century Parade featuring cars at least 100 years old. Tours of the first floor of the historic house are included with the price of admission\, which is $12 for adults\, $10 for seniors and $8 for children. Trophies will be awarded to the winners at 3:00 pm.\nFor further details\, including an application to show your car\, have a stall at the Flea Market and/or to feature your car for sale at the Car Corral. Registration Brochure will be posted on GWCModelA.org
URL:https://www.collectorcarguide.net/event/sully-antique-car-show/
LOCATION:Sully Historic Site\, 3650 Historic Sully Way\, Chantilly\, VA\, 20151\, United States
CATEGORIES:Shows
ATTACH;FMTTYPE=image/jpeg:https://www.collectorcarguide.net/wp-content/uploads/2022/03/ROADpg1-201311-p4.jpg
ORGANIZER;CN="Sully Antique Car Show":MAILTO:inex01@verizon.net
END:VEVENT
BEGIN:VEVENT
DTSTART;TZID=America/New_York:20220619T090000
DTEND;TZID=America/New_York:20220619T170000
DTSTAMP:20260424T081618
CREATED:20220411T190252Z
LAST-MODIFIED:20220411T205554Z
UID:4444-1655629200-1655658000@www.collectorcarguide.net
SUMMARY:Cruise For Kidz
DESCRIPTION:
URL:https://www.collectorcarguide.net/event/cruise-for-kidz-2/
LOCATION:CA
CATEGORIES:Shows
END:VEVENT
BEGIN:VEVENT
DTSTART;TZID=America/New_York:20220618T190000
DTEND;TZID=America/New_York:20220618T233000
DTSTAMP:20260424T081618
CREATED:20220526T143230Z
LAST-MODIFIED:20220526T143230Z
UID:25083-1655578800-1655595000@www.collectorcarguide.net
SUMMARY:CARS - Late Model Stock Tour at Dominion Raceway
DESCRIPTION:The CARS Tour LMSC 125 presented by Virginia is for Lovers kicks off Saturday June 18th at Dominion Raceway and is followed by a full night of action with \n\nTwin 35 Lap Truckin Thunder VA racers\n25 lap ALCOVA mortgage Fredericksburg UCARS\n25 lap Absolutely Amish Structures ANYCARS\nTwin 25 eagle towing & recovery Legends Regional Qualifier\n15 lap ALCOVA Mortgage Fredericksburg Bandolero
URL:https://www.collectorcarguide.net/event/cars-late-model-stock-tour-at-dominion-raceway/
LOCATION:Dominion Raceway\, 6501 Dominion Raceway Avenue\, Thornburburg\, VA\, 22580\, United States
CATEGORIES:Motorsports
ATTACH;FMTTYPE=image/jpeg:https://www.collectorcarguide.net/wp-content/uploads/2022/05/Image-from-iOS.jpg
ORGANIZER;CN="CARS solid rock careers Tour":MAILTO:admin@carsracingtour.com
END:VEVENT
BEGIN:VEVENT
DTSTART;TZID=America/New_York:20220618T160000
DTEND;TZID=America/New_York:20220618T210000
DTSTAMP:20260424T081618
CREATED:20220411T190251Z
LAST-MODIFIED:20221031T130554Z
UID:4443-1655568000-1655586000@www.collectorcarguide.net
SUMMARY:Jimmy Cone Cruise Night
DESCRIPTION:
URL:https://www.collectorcarguide.net/event/jimmy-cone-cruise-night-6/
LOCATION:Jimmie Cone\, 1312 S. Main St\, Mt. Airy\, MD\, 21771\, United States
CATEGORIES:Cruise
ATTACH;FMTTYPE=image/png:https://www.collectorcarguide.net/wp-content/uploads/2022/03/381-jimmiecone.png
END:VEVENT
BEGIN:VEVENT
DTSTART;TZID=America/New_York:20220618T160000
DTEND;TZID=America/New_York:20220618T190000
DTSTAMP:20260424T081618
CREATED:20220411T190251Z
LAST-MODIFIED:20220411T205618Z
UID:4442-1655568000-1655578800@www.collectorcarguide.net
SUMMARY:Matthews Tire Co
DESCRIPTION:
URL:https://www.collectorcarguide.net/event/matthews-tire-co-3/
LOCATION:Matthews Tire Co\, 1219 N. Main St\, Hampstead\, MD\, 21074\, United States
CATEGORIES:Shows
END:VEVENT
BEGIN:VEVENT
DTSTART;TZID=America/New_York:20220618T100000
DTEND;TZID=America/New_York:20220618T140000
DTSTAMP:20260424T081618
CREATED:20220610T164054Z
LAST-MODIFIED:20220610T164054Z
UID:25310-1655546400-1655560800@www.collectorcarguide.net
SUMMARY:Tech Session for PittRace Event
DESCRIPTION:Tech Session for PittRace Event – June 18 \nGT Peace will be hosting the Tech Session for the PittRace DE.  See PCA Potomac web site for more details about Tech Session hours\, etc.:  https://pcapotomac.org/activities/tech-inspection \nGT Peace Automotive\, 4110 Pepsi Place\, Chantilly\, VA  20151
URL:https://www.collectorcarguide.net/event/tech-session-for-pittrace-event/
LOCATION:GT Peace Automotive\, 4110 Pepsi Place\,  Chantilly\, VA\, 20151\, United States
CATEGORIES:Motorsports
ATTACH;FMTTYPE=image/png:https://www.collectorcarguide.net/wp-content/uploads/2022/05/th_23rt33345u_pca_potomac_region_logo.png
END:VEVENT
BEGIN:VEVENT
DTSTART;TZID=America/New_York:20220618T100000
DTEND;TZID=America/New_York:20220618T140000
DTSTAMP:20260424T081618
CREATED:20220411T190251Z
LAST-MODIFIED:20220411T205639Z
UID:4441-1655546400-1655560800@www.collectorcarguide.net
SUMMARY:Thunder on the River
DESCRIPTION:Pre-Reg Required
URL:https://www.collectorcarguide.net/event/thunder-on-the-river-3/
LOCATION:CA
CATEGORIES:Shows
END:VEVENT
BEGIN:VEVENT
DTSTART;TZID=America/New_York:20220618T100000
DTEND;TZID=America/New_York:20220618T130000
DTSTAMP:20260424T081618
CREATED:20220610T163342Z
LAST-MODIFIED:20220610T163342Z
UID:25300-1655546400-1655557200@www.collectorcarguide.net
SUMMARY:Monthly PCA Potomac Brunches!
DESCRIPTION:Monthly Potomac Brunches! \nCome out for a great breakfast\, great cars\, and make new friends at our monthly brunches! \nThird Saturday of the month in Glen Echo\, MD: next is 18 June \nJoin us at The Irish Inn in Glen Echo\, MD from 11:00AM – 1:00 PM\, at 6119 Tulane Ave in Glen Echo\, just off of MacArthur Boulevard\, https://irishinnglenecho.com/. \nFirst Saturday of the month in Manassas\, VA: next is 2 July \nJoin us at City Grille in Manassas at 11:30 am (restaurant opens at noon)\, at 10701 Balls Ford Road\, Manassas\, http://www.citygrillemanassas.com/.
URL:https://www.collectorcarguide.net/event/monthly-pca-potomac-brunches/
LOCATION:Irish in Glen Echo\, 6119 Tulane Ave\, Glen Echo\, MD\, United States
CATEGORIES:Cruise
ATTACH;FMTTYPE=image/png:https://www.collectorcarguide.net/wp-content/uploads/2022/05/th_23rt33345u_pca_potomac_region_logo.png
END:VEVENT
BEGIN:VEVENT
DTSTART;TZID=America/New_York:20220618T090000
DTEND;TZID=America/New_York:20220618T150000
DTSTAMP:20260424T081618
CREATED:20220411T190237Z
LAST-MODIFIED:20220411T205708Z
UID:4439-1655542800-1655564400@www.collectorcarguide.net
SUMMARY:25th Annual Car & Truck Show
DESCRIPTION:Rain or Shine
URL:https://www.collectorcarguide.net/event/25th-annual-car-truck-show-2/
LOCATION:Jefferson VFD\, 4603 Lander Rd\, Jefferson\, MD\, 21755\, United States
CATEGORIES:Shows
ORGANIZER;CN="Jefferson VFD":MAILTO:secretary-jeffersonucc@gmail.com
END:VEVENT
BEGIN:VEVENT
DTSTART;TZID=America/New_York:20220618T090000
DTEND;TZID=America/New_York:20220618T140000
DTSTAMP:20260424T081618
CREATED:20220411T190236Z
LAST-MODIFIED:20220411T205730Z
UID:4438-1655542800-1655560800@www.collectorcarguide.net
SUMMARY:Waynesboro Days
DESCRIPTION:Rain or Shine
URL:https://www.collectorcarguide.net/event/waynesboro-days-3/
LOCATION:CA
CATEGORIES:Shows
END:VEVENT
BEGIN:VEVENT
DTSTART;TZID=America/New_York:20220618T090000
DTEND;TZID=America/New_York:20220618T130000
DTSTAMP:20260424T081618
CREATED:20220411T190251Z
LAST-MODIFIED:20220411T205757Z
UID:4440-1655542800-1655557200@www.collectorcarguide.net
SUMMARY:Cooptown Car &Truck Show
DESCRIPTION:Rain Date 6/19
URL:https://www.collectorcarguide.net/event/cooptown-car-truck-show-2/
LOCATION:CA
CATEGORIES:Shows
END:VEVENT
BEGIN:VEVENT
DTSTART;TZID=America/New_York:20220618T090000
DTEND;TZID=America/New_York:20220618T090000
DTSTAMP:20260424T081618
CREATED:20220411T172935Z
LAST-MODIFIED:20220411T205816Z
UID:4385-1655542800-1655542800@www.collectorcarguide.net
SUMMARY:McSherrytown Fish & Game Pig Roast
DESCRIPTION:includes all Food
URL:https://www.collectorcarguide.net/event/mcsherrytown-fish-game-pig-roast-2/
LOCATION:CA
CATEGORIES:Shows
END:VEVENT
BEGIN:VEVENT
DTSTART;TZID=America/New_York:20220618T080000
DTEND;TZID=America/New_York:20220618T150000
DTSTAMP:20260424T081618
CREATED:20220411T190236Z
LAST-MODIFIED:20220411T205835Z
UID:4436-1655539200-1655564400@www.collectorcarguide.net
SUMMARY:2nd Annual St. Jude Car & Truck Show
DESCRIPTION:
URL:https://www.collectorcarguide.net/event/2nd-annual-st-jude-car-truck-show-2/
LOCATION:Emmitsburg Ambulance Company\, 17701 Creamey Rd\, Emmittsburg\, MD\, 21727\, United States
CATEGORIES:Shows
END:VEVENT
BEGIN:VEVENT
DTSTART;VALUE=DATE:20220618
DTEND;VALUE=DATE:20220620
DTSTAMP:20260424T081618
CREATED:20220503T170840Z
LAST-MODIFIED:20230222T155627Z
UID:24957-1655510400-1655683199@www.collectorcarguide.net
SUMMARY:June 2022 MARRS Regional Race Weekend at Summit Point
DESCRIPTION:The Washington DC Region of SCCA invites you to the June 2022 MARRS @ Summit Point Regional Race Weekend; June 18 – 19\, 2022 at\nSummit Point Motorsports Park. \nENTRY FEES: Single entry\, any race group: $395 must be registered by 11:59 pm Monday\, June 13th\, 2022. 2nd entry for same driver in any 2nd race group: add $195. 3rd entry for same driver in any 3rd race group: add another $195. Contact the region office for 3rd entry registration.\nNote: There will be no late entries accepted for this event and no at-track entries. \nEVERYONE: Please read the event “Supps”\n(Supplemental Regulations). \nPRACTICE DAY: Please note that the Friday prior to our event is an Open Practice day offered directly by the track. Summit Point also uses MSR for their registration. Friday/practice day is not included as part of the registration for this MARRS event – you will need to register & pay separately if you want Friday/practice. The registration link for Friday\, June 17th is here: https://www.motorsportreg.com/events/summit-point-open-practice \nFor registration questions before and after the event contact the region office at 301-572-7444. During the event contact Registration at the track at 304-725-4071 or 410-271-1991. \nSee you at the track!
URL:https://www.collectorcarguide.net/event/june-2022-marrs-regional-race-weekend-at-summit-point/
LOCATION:Summit Point Motorsports Park\, 201 Motorsports Circle\, Summit Point\, WV\, 25446\, United States
CATEGORIES:Motorsports
ATTACH;FMTTYPE=image/jpeg:https://www.collectorcarguide.net/wp-content/uploads/2022/05/MARRS-Logo-Vector.jpg
ORGANIZER;CN="WDCR SCCA":MAILTO:cluboffice@wdcr-scca.org
END:VEVENT
BEGIN:VEVENT
DTSTART;TZID=America/New_York:20220617T180000
DTEND;TZID=America/New_York:20220617T210000
DTSTAMP:20260424T081618
CREATED:20220531T065938Z
LAST-MODIFIED:20220531T072829Z
UID:25164-1655488800-1655499600@www.collectorcarguide.net
SUMMARY:VFW Post 467 Cruise
DESCRIPTION:Welcome to Molleville Farm Post 467
URL:https://www.collectorcarguide.net/event/vfw-post-467-cruise-3/
LOCATION:VFW Post 467\, 519 Poole Rd\, Westminster\, MD\, 21157\, United States
CATEGORIES:Cruise
ATTACH;FMTTYPE=image/jpeg:https://www.collectorcarguide.net/wp-content/uploads/2022/05/vfw_467.jpg
END:VEVENT
BEGIN:VEVENT
DTSTART;TZID=America/New_York:20220617T173000
DTEND;TZID=America/New_York:20220617T210000
DTSTAMP:20260424T081618
CREATED:20220531T065827Z
LAST-MODIFIED:20220531T072657Z
UID:25155-1655487000-1655499600@www.collectorcarguide.net
SUMMARY:Street Survivors of Maryland
DESCRIPTION:Home
URL:https://www.collectorcarguide.net/event/street-survivors-of-maryland-3/
LOCATION:CA
CATEGORIES:Cruise
ATTACH;FMTTYPE=image/jpeg:https://www.collectorcarguide.net/wp-content/uploads/2022/05/street_survivors_of_maryland_logo.jpg
END:VEVENT
BEGIN:VEVENT
DTSTART;TZID=America/New_York:20220617T140000
DTEND;TZID=America/New_York:20220617T160000
DTSTAMP:20260424T081618
CREATED:20220517T155826Z
LAST-MODIFIED:20220517T160017Z
UID:25063-1655474400-1655481600@www.collectorcarguide.net
SUMMARY:Brooke Grove Retirement Village’s Classic Car Parade & Show
DESCRIPTION:The Car Parade will cruise around the Brooke Grove Retirement Village campus twice beginning at 2:00pm. Please line up along Poplar View Lane\, which is the first left after you enter the campus in Sandy Spring\, MD. \nThe Car Show will immediately follow at Brooke Grove’s Westbrooke Clubhouse (18310 Slade School Road). The Car Show will feature live music by the Swing Time Big Band and frozen treats from a Good Humor Ice Cream Truck! Snacks and cold drinks will also be served. \nIf you want to bring your classic car to our Parade & Show\, we ask you to R.S.V.P. to Susan Phillips (301-260-2392; sphillips@bgf.org). Thank you for being part of this fun event!  Rain date is June 24th.
URL:https://www.collectorcarguide.net/event/brooke-grove-retirement-villages-classic-car-parade-show/
LOCATION:Brooke Grove’s Westbrooke Clubhouse\, 18310 Slade School Road\, Sandy Spring\, Maryland\, 20860\, United States
CATEGORIES:Shows
ORGANIZER;CN="Brooke Grove Retirement Village":MAILTO:sphillips@bgf.org
END:VEVENT
BEGIN:VEVENT
DTSTART;VALUE=DATE:20220617
DTEND;VALUE=DATE:20220619
DTSTAMP:20260424T081618
CREATED:20220602T123357Z
LAST-MODIFIED:20220613T182450Z
UID:25268-1655424000-1655596799@www.collectorcarguide.net
SUMMARY:HOLLEY LS FEST TEXAS INVADES TEXAS MOTOR SPEEDWAY
DESCRIPTION:HOLLEY LS FEST TEXAS INVADES TEXAS MOTOR SPEEDWAY JUNE 17-18\, 2022. REGISTRATION IS LIVE!\nTighten up that belt buckle\, folks…Holley’s LS Fest is headed to the Texas Motor Speedway this June! Holley’s LS Fest shows have been wildly popular ever since the first one was held at Beech Bend\, Kentucky back in 2010. From those early shows at Beech Bend\, the crowds have become bigger and bigger. The show has spilled over into the nearby NCM Motorsports Park\, giving autocrossers and racers a second playground. In 2017\, a second LS Fest sprang up in Las Vegas and in addition to everything fans had come to love about the original\, the dirt racing facilities that Las Vegas Motor Speedway offered up brought a new facet to the show. There’s always been a demand for more\, and it only made sense to bring the next chapter of LS Fest to Texas. \nEach LS Fest event has their own flavor\, and for LS Fest Texas\, it will be the night life. Holley is starting the event later in the day to beat the Texas heat and each segment will continue after dark. The drag racing will take place on Texas Motor Speedway’s Pit Road and will be a true no-prep 1/8th mile drag race\, which will fit the night time vibe perfectly. Additionally\, the drifting\, dyno challenge\, show-n-shine\, autocross\, burnout contests and more will continue into the night as well.\n  \n“The LS engine is no stranger to the great state of Texas”\, stated Blane Burnett\, Holley’s Events Manager. “With numerous high-profile engine builders\, performance shops and LS enthusiasts located throughout the area\, we’ve felt that Texas needed an LS Fest of its own for quite some time. We’re thrilled to see that happen this year and can’t wait to see the variety of LS-powered machines and their owners that come out ready to get down at Texas Motor Speedway!” \nIf you have an LS or current Gen LT based V8 engine powering your ride or if you are considering a swap to LS or LT power\, this is your event! Race cars\, drift cars\, street rods\, rat rods\, muscle cars\, trucks\, late models…if they are powered by an LS or current LT engine\, they’re welcome to party at LS Fest Texas! Event/class champions will be crowned as well as an overall event champion for those that want to compete in multiple events. We hope to see you in the Lone Star State soon!
URL:https://www.collectorcarguide.net/event/holley-ls-fest-texas-invades-texas-motor-speedway/
LOCATION:Texas Motor Speedway\, 3545 Lone Star Cir\, Fort Worth\, TX\, 76177\, United States
CATEGORIES:Motorsports,Shows
ATTACH;FMTTYPE=image/jpeg:https://www.collectorcarguide.net/wp-content/uploads/2022/06/lsfest.jpg
END:VEVENT
BEGIN:VEVENT
DTSTART;TZID=America/New_York:20220616T000000
DTEND;TZID=America/New_York:20220616T210000
DTSTAMP:20260424T081618
CREATED:20220531T065808Z
LAST-MODIFIED:20220531T065808Z
UID:25146-1655337600-1655413200@www.collectorcarguide.net
SUMMARY:Wheels From The Past
DESCRIPTION:https://wheelsfromthepast.org
URL:https://www.collectorcarguide.net/event/wheels-from-the-past-4/
LOCATION:Green Turtle- Edgewater\, 3213 Solomons Island Rd\, Edgewater\, MD\, 21037\, United States
CATEGORIES:Cruise
ATTACH;FMTTYPE=image/png:https://www.collectorcarguide.net/wp-content/uploads/2022/05/wheels_from_the_past_logo.png
END:VEVENT
BEGIN:VEVENT
DTSTART;TZID=America/New_York:20220612T090000
DTEND;TZID=America/New_York:20220612T140000
DTSTAMP:20260424T081618
CREATED:20220411T190222Z
LAST-MODIFIED:20220516T200647Z
UID:4433-1655024400-1655042400@www.collectorcarguide.net
SUMMARY:32nd Annual Appalachain Classics Car & Truck Show
DESCRIPTION:
URL:https://www.collectorcarguide.net/event/32nd-annual-appalachain-classics-car-truck-show-2/
LOCATION:Red Run Park\, 12143 Buchanan Trail E.\, Waynesboro\, PA\, 17268\, United States
CATEGORIES:Shows
END:VEVENT
END:VCALENDAR