BEGIN:VCALENDAR
VERSION:2.0
PRODID:-//Collector Car Guide - ECPv6.15.20//NONSGML v1.0//EN
CALSCALE:GREGORIAN
METHOD:PUBLISH
X-WR-CALNAME:Collector Car Guide
X-ORIGINAL-URL:https://www.collectorcarguide.net
X-WR-CALDESC:Events for Collector Car Guide
REFRESH-INTERVAL;VALUE=DURATION:PT1H
X-Robots-Tag:noindex
X-PUBLISHED-TTL:PT1H
BEGIN:VTIMEZONE
TZID:America/New_York
BEGIN:DAYLIGHT
TZOFFSETFROM:-0500
TZOFFSETTO:-0400
TZNAME:EDT
DTSTART:20210314T070000
END:DAYLIGHT
BEGIN:STANDARD
TZOFFSETFROM:-0400
TZOFFSETTO:-0500
TZNAME:EST
DTSTART:20211107T060000
END:STANDARD
BEGIN:DAYLIGHT
TZOFFSETFROM:-0500
TZOFFSETTO:-0400
TZNAME:EDT
DTSTART:20220313T070000
END:DAYLIGHT
BEGIN:STANDARD
TZOFFSETFROM:-0400
TZOFFSETTO:-0500
TZNAME:EST
DTSTART:20221106T060000
END:STANDARD
BEGIN:DAYLIGHT
TZOFFSETFROM:-0500
TZOFFSETTO:-0400
TZNAME:EDT
DTSTART:20230312T070000
END:DAYLIGHT
BEGIN:STANDARD
TZOFFSETFROM:-0400
TZOFFSETTO:-0500
TZNAME:EST
DTSTART:20231105T060000
END:STANDARD
END:VTIMEZONE
BEGIN:VEVENT
DTSTART;TZID=America/New_York:20220708T180000
DTEND;TZID=America/New_York:20220708T210000
DTSTAMP:20260424T063901
CREATED:20220531T070032Z
LAST-MODIFIED:20220531T073748Z
UID:25168-1657303200-1657314000@www.collectorcarguide.net
SUMMARY:VFW Post 467 Cruise
DESCRIPTION:Welcome to Molleville Farm Post 467
URL:https://www.collectorcarguide.net/event/vfw-post-467-cruise-6/
LOCATION:VFW Post 467\, 519 Poole Rd\, Westminster\, MD\, 21157\, United States
CATEGORIES:Cruise
ATTACH;FMTTYPE=image/jpeg:https://www.collectorcarguide.net/wp-content/uploads/2022/05/vfw_467.jpg
END:VEVENT
BEGIN:VEVENT
DTSTART;TZID=America/New_York:20220708T173000
DTEND;TZID=America/New_York:20220708T210000
DTSTAMP:20260424T063901
CREATED:20220531T065842Z
LAST-MODIFIED:20220531T073638Z
UID:25158-1657301400-1657314000@www.collectorcarguide.net
SUMMARY:Street Survivors of Maryland
DESCRIPTION:Home
URL:https://www.collectorcarguide.net/event/street-survivors-of-maryland-6/
CATEGORIES:Cruise
ATTACH;FMTTYPE=image/jpeg:https://www.collectorcarguide.net/wp-content/uploads/2022/05/street_survivors_of_maryland_logo.jpg
END:VEVENT
BEGIN:VEVENT
DTSTART;VALUE=DATE:20220708
DTEND;VALUE=DATE:20220711
DTSTAMP:20260424T063901
CREATED:20220411T214629Z
LAST-MODIFIED:20220411T214646Z
UID:24788-1657238400-1657497599@www.collectorcarguide.net
SUMMARY:Riverfront Roar
DESCRIPTION:The Marietta Riverfront Roar is a full July weekend of live music\, fireworks\, good food\, and thrilling tunnel boat racing on the Ohio River Levee! Come enjoy the best in powerboat racing with FREE admission\, get to see the boats close up\, and meet the drivers and crews who travel from all over the country to race here! \nHaving started in 2000\, Riverfront Roar is an American Power Boat Association sanctioned Powerboat Superleague race which draws more than 40\,000 spectators over the three-day weekend. Powerboat Nationals referee Suzy Shepard calls Marietta the “best venue ever!” \nOther attractions for the annual event include the Rollin’ Oldies Car Show on Sunday\, Saturday’s Run for the Roar 5k\, which attracts hundreds of runners and walkers from throughout the area\, a kid zone with inflatables\, and the ever-popular traveling Columbus Zoo.
URL:https://www.collectorcarguide.net/event/riverfront-roar/
LOCATION:Marietta\, OH\, Marietta\, OH\, 45750\, United States
CATEGORIES:Motorsports
ATTACH;FMTTYPE=image/jpeg:https://www.collectorcarguide.net/wp-content/uploads/2022/04/marietta_boat_roar.jpeg
END:VEVENT
BEGIN:VEVENT
DTSTART;VALUE=DATE:20220708
DTEND;VALUE=DATE:20220709
DTSTAMP:20260424T063901
CREATED:20220610T164237Z
LAST-MODIFIED:20220706T175137Z
UID:25313-1657238400-1657324799@www.collectorcarguide.net
SUMMARY:PCA COMMUNITY SERVICE 2022
DESCRIPTION:Friday\, July 8th Volunteers Needed!  If you can be available\, please consider coming to Summit Point to help out with “CAMP PORSCHE” where 35 local youth will be joining us for a day of fun at the track.  Let us know you are interested by filling out this form:  https://forms.gle/J72ZnSdP78cfQhJX6
URL:https://www.collectorcarguide.net/event/pca-community-service-2022/
LOCATION:Summit Point Motorsports Park\, 201 Motorsports Circle\, Summit Point\, WV\, 25446\, United States
CATEGORIES:Charity Event,Motorsports
ATTACH;FMTTYPE=image/jpeg:https://www.collectorcarguide.net/wp-content/uploads/2022/06/unnamed-1.jpg
END:VEVENT
BEGIN:VEVENT
DTSTART;TZID=America/New_York:20220707T180000
DTEND;TZID=America/New_York:20220707T210000
DTSTAMP:20260424T063901
CREATED:20220531T065809Z
LAST-MODIFIED:20220625T194427Z
UID:25149-1657216800-1657227600@www.collectorcarguide.net
SUMMARY:Wheels From The Past
DESCRIPTION:https://wheelsfromthepast.org
URL:https://www.collectorcarguide.net/event/wheels-from-the-past-7/
LOCATION:Green Turtle- Edgewater\, 3213 Solomons Island Rd\, Edgewater\, MD\, 21037\, United States
CATEGORIES:Cruise
ATTACH;FMTTYPE=image/png:https://www.collectorcarguide.net/wp-content/uploads/2022/05/wheels_from_the_past_logo.png
END:VEVENT
BEGIN:VEVENT
DTSTART;TZID=America/New_York:20220704T100000
DTEND;TZID=America/New_York:20220704T220000
DTSTAMP:20260424T063901
CREATED:20220607T131350Z
LAST-MODIFIED:20221030T120927Z
UID:25287-1656928800-1656972000@www.collectorcarguide.net
SUMMARY:101st Barbara Fritche Classic
DESCRIPTION:Oldest running half mile Dirt Track race in America. Started in 1922 and held annually at The Great Frederick Fairgrounds\n\n\n\n\n\n\n\n\n\n\n\n \n\n\n\n\n\nLike any bona fide classic\, the Fritchie has stood the test of time. This years Fritchie at The Great Frederick Fairgrounds will be the 92nd running of the event.\n\n\n\n\n\n\nIt’s a Fourth of July tradition in Frederick. But when it started\, the race wasn’t even held on the Fourth. The Fritchie ran Memorial Day. And back then\, it was called the Delphey Brothers Classic\, promoted by J. Paul and Chester Delphey.Of course\, for fans\, the names that mattered most belonged to the racers. My favorite\, considering how hot it usually is during this event\, belongs to 1971 winner Royal Sherbert.Other names\, while not as catchy\, loomed large in racing. Legends like William Minnick. The Wilmington\, Del. native burst onto the Fritchie scene by winning the 1923 race\, but his biggest moment came four years later.On Memorial Day 1927\, Minnick set the world record for a 21 cubic inch motor on a half-mile dirt track. He zoomed his Harley around the oval twice in one minute and three seconds.\n\n\n \nEveryone but Art Pechar must have been thrilled. Pechar was the overshadowed soul who actually won the main event that day after Minnick took a spill fighting for the lead.Records come and go. And through the years\, motorcycles benefited from all sorts of technological advances. But those old time racers had that one essential ingredient riders still use today: boldness. Men weren’t the only bold ones gunning around the Frederick Fairgrounds track\, either. Eventually\, women competed. One of those pioneers was Michelle DiSalvo\, a Modesto\, Cal. native who raced here in 1999. Speaking of pioneers\, Bob Boutwell qualifies. In 1953\, he became the first Fritchie winner to ride a Triumph bike. He ended up winning three straight Fritchie races — a rare feat. For those who never got to see Boutwell in person at the Fritchie\, don’t fret. He’ll be the grand marshal at Tuesday’s race\, a nice link to the event’s rich past. Boutwell\, from Baltimore\, was one of the few Marylanders who won main events at the Fritchie Classic. Another was Cockeysville’s Rodney Farris — who died just before the 1995 Fritchie Classic from injuries he suffered in another race.\n \n\n\nWinners often hailed from Pennsylvania\, Ohio and Virginia\, and some came from even farther away.\n\n\nThen again\, Petrali was known to travel pretty fast\, at least on his bike. He won the Fritchie in 1935 and 1936\, showing why he was regarded as the finest racer of his era.\n\n\n \nBack then\, the Fritchie Classic drew huge crowds\, and they even played a role in the outcome. In the hotly contested 1954 amateur race\, judges said Bud Mertholdt placed second in front of Stuart Dayhoff. “But the fans lodged such a vigorous protest that the management voted second money to both Dayhoff and Bertholdt\,” the News-Post reported. When I say where Fritchie racers come from\, I usually just mention their hometowns. But way back when\, ethnic backgrounds were also given.\n\n\n \nFreddy Toscani — winner in 1937 and 1938 — was described in the paper as a “a swarthy little Italian” from Garfield\, N.J. And when Toscani fell in 1939\, it was to Lester Hillbish\, who was known as the Reading Dutchman. That didn’t necessarily mean he was an avid reader — he just hailed from Reading\, Pa. And as a testament to this event’s longevity\, some grew from virtual kids to middle-age men while racing the Fritchie. Take Steve Morehead. When Morehead won in 1975\, he was a 19-year-old rookie. When he won it for the last time in 1997\, he was 41.\n\n\n \nLike the Fritchie Classic\, he stood the test of time.
URL:https://www.collectorcarguide.net/event/101st-barbara-fritche-classic/
LOCATION:Frederick Fairgrounds\, 797 E PATRICK ST\, Frederick\, MD\, 21701\, United States
CATEGORIES:Motorsports
ATTACH;FMTTYPE=image/jpeg:https://www.collectorcarguide.net/wp-content/uploads/2022/06/280642898_5212219852203090_1348484135275666210_n.jpg
END:VEVENT
BEGIN:VEVENT
DTSTART;TZID=America/New_York:20220704T090000
DTEND;TZID=America/New_York:20220704T150000
DTSTAMP:20260424T063901
CREATED:20220516T193844Z
LAST-MODIFIED:20220625T194028Z
UID:25004-1656925200-1656946800@www.collectorcarguide.net
SUMMARY:Freedom Car/Truck & Bike Show
DESCRIPTION:www..herestores.com
URL:https://www.collectorcarguide.net/event/freedom-car-truck-bike-show/
LOCATION:Downtown Culpeper\, 111 S. Commerce St\, Culpeper\, VA\, 22701\, United States
CATEGORIES:Shows
END:VEVENT
BEGIN:VEVENT
DTSTART;TZID=America/New_York:20220703T090000
DTEND;TZID=America/New_York:20220703T150000
DTSTAMP:20260424T063901
CREATED:20220516T193844Z
LAST-MODIFIED:20220702T200920Z
UID:25003-1656838800-1656860400@www.collectorcarguide.net
SUMMARY:28th Annual Fire Cracker Rod Run
DESCRIPTION:Rick 717-843-3161\, Rain or Shine
URL:https://www.collectorcarguide.net/event/28th-annual-fire-cracker-rod-run/
LOCATION:Brookside Park\, 4054 Fox Run Rd\, Dover\, PA\, 17315\, United States
CATEGORIES:Shows
END:VEVENT
BEGIN:VEVENT
DTSTART;TZID=America/New_York:20220702T170000
DTEND;TZID=America/New_York:20220702T200000
DTSTAMP:20260424T063901
CREATED:20220516T193844Z
LAST-MODIFIED:20221031T130605Z
UID:25001-1656781200-1656792000@www.collectorcarguide.net
SUMMARY:Jimmy Cone Cruise
DESCRIPTION:
URL:https://www.collectorcarguide.net/event/jimmy-cone-cruise-6/
LOCATION:Jimmie Cone\, 1312 S. Main St\, Mt. Airy\, MD\, 21771\, United States
CATEGORIES:Cruise
ATTACH;FMTTYPE=image/png:https://www.collectorcarguide.net/wp-content/uploads/2022/03/381-jimmiecone.png
END:VEVENT
BEGIN:VEVENT
DTSTART;TZID=America/New_York:20220702T120000
DTEND;TZID=America/New_York:20220702T150000
DTSTAMP:20260424T063901
CREATED:20220516T193844Z
LAST-MODIFIED:20220625T193404Z
UID:25002-1656763200-1656774000@www.collectorcarguide.net
SUMMARY:City of Laurel 4th of July Car Show
DESCRIPTION:Rain or shine\, Mike 443 336-3700
URL:https://www.collectorcarguide.net/event/city-of-laurel-4th-of-july-car-show-2/
LOCATION:Gude Park\, 8300 Mulberry St\, Laurel\, MD\, 20707\, United States
CATEGORIES:Shows
END:VEVENT
BEGIN:VEVENT
DTSTART;TZID=America/New_York:20220702T100000
DTEND;TZID=America/New_York:20220702T130000
DTSTAMP:20260424T063901
CREATED:20220610T163516Z
LAST-MODIFIED:20220610T163516Z
UID:25303-1656756000-1656766800@www.collectorcarguide.net
SUMMARY:Monthly PCA Potomac Brunches!
DESCRIPTION:Monthly Potomac Brunches! \nCome out for a great breakfast\, great cars\, and make new friends at our monthly brunches! \nThird Saturday of the month in Glen Echo\, MD: next is 18 June \nJoin us at The Irish Inn in Glen Echo\, MD from 11:00AM – 1:00 PM\, at 6119 Tulane Ave in Glen Echo\, just off of MacArthur Boulevard\, https://irishinnglenecho.com/. \nFirst Saturday of the month in Manassas\, VA: next is 2 July \nJoin us at City Grille in Manassas at 11:30 am (restaurant opens at noon)\, at 10701 Balls Ford Road\, Manassas\, http://www.citygrillemanassas.com/.
URL:https://www.collectorcarguide.net/event/monthly-pca-potomac-brunches-2/
LOCATION:City Grille\, 10701 Balls Ford Rd\, Manassas\, VA\, United States
CATEGORIES:Cruise
ATTACH;FMTTYPE=image/png:https://www.collectorcarguide.net/wp-content/uploads/2022/05/th_23rt33345u_pca_potomac_region_logo.png
END:VEVENT
BEGIN:VEVENT
DTSTART;TZID=America/New_York:20220701T180000
DTEND;TZID=America/New_York:20220701T210000
DTSTAMP:20260424T063901
CREATED:20220531T070031Z
LAST-MODIFIED:20220531T073538Z
UID:25167-1656698400-1656709200@www.collectorcarguide.net
SUMMARY:VFW Post 467 Cruise
DESCRIPTION:Welcome to Molleville Farm Post 467
URL:https://www.collectorcarguide.net/event/vfw-post-467-cruise-5/
LOCATION:VFW Post 467\, 519 Poole Rd\, Westminster\, MD\, 21157\, United States
CATEGORIES:Cruise
ATTACH;FMTTYPE=image/jpeg:https://www.collectorcarguide.net/wp-content/uploads/2022/05/vfw_467.jpg
END:VEVENT
BEGIN:VEVENT
DTSTART;TZID=America/New_York:20220701T173000
DTEND;TZID=America/New_York:20220701T210000
DTSTAMP:20260424T063901
CREATED:20220531T065837Z
LAST-MODIFIED:20220531T073422Z
UID:25157-1656696600-1656709200@www.collectorcarguide.net
SUMMARY:Street Survivors of Maryland
DESCRIPTION:Home
URL:https://www.collectorcarguide.net/event/street-survivors-of-maryland-5/
CATEGORIES:Cruise
ATTACH;FMTTYPE=image/jpeg:https://www.collectorcarguide.net/wp-content/uploads/2022/05/street_survivors_of_maryland_logo.jpg
END:VEVENT
BEGIN:VEVENT
DTSTART;TZID=America/New_York:20220630T000000
DTEND;TZID=America/New_York:20220630T210000
DTSTAMP:20260424T063901
CREATED:20220531T065809Z
LAST-MODIFIED:20220531T065809Z
UID:25148-1656547200-1656622800@www.collectorcarguide.net
SUMMARY:Wheels From The Past
DESCRIPTION:https://wheelsfromthepast.org
URL:https://www.collectorcarguide.net/event/wheels-from-the-past-6/
LOCATION:Green Turtle- Edgewater\, 3213 Solomons Island Rd\, Edgewater\, MD\, 21037\, United States
CATEGORIES:Cruise
ATTACH;FMTTYPE=image/png:https://www.collectorcarguide.net/wp-content/uploads/2022/05/wheels_from_the_past_logo.png
END:VEVENT
BEGIN:VEVENT
DTSTART;TZID=America/New_York:20220626T130000
DTEND;TZID=America/New_York:20220626T210000
DTSTAMP:20260424T063901
CREATED:20220506T235902Z
LAST-MODIFIED:20220526T221957Z
UID:24971-1656248400-1656277200@www.collectorcarguide.net
SUMMARY:Freedom Fest 2022
DESCRIPTION: \nJoin us for our Freedom Fest 2022 Car Show! Freedom Fest is a family-friendly festival in Frederick\, MD celebrating Independence Day. We will have activities throughout the day for families with live music\, inflatables\, food vendors and more.All makes and models are welcome(classics\, street rods\, muscle cars and trucks)! Awards will be presented to the following: Top 20\, Pastor’s Choice\, and Best in Show!Registration: Pre-register for $10 or register onsite for $15. Registration opens at 1:00 p.m. the day of the show and ends at 2:00 PM. Voting starts at 3PM and winners will be announced at 4PM.Register by visiting www.iccog.org/freedomfest
URL:https://www.collectorcarguide.net/event/freedom-fest-2022/
LOCATION:International Community Church\, 123 Byte Drive\, Frederick
CATEGORIES:Shows
ATTACH;FMTTYPE=image/jpeg:https://www.collectorcarguide.net/wp-content/uploads/2022/05/ICC-Freedom-6-26-22.jpg
END:VEVENT
BEGIN:VEVENT
DTSTART;TZID=America/New_York:20220626T120000
DTEND;TZID=America/New_York:20220626T160000
DTSTAMP:20260424T063901
CREATED:20220602T173050Z
LAST-MODIFIED:20220602T173050Z
UID:25280-1656244800-1656259200@www.collectorcarguide.net
SUMMARY:Cruisin' The Fort
DESCRIPTION:Cars – Trucks – Motorcycles – Tractors\nSunday\, June 26 | 12:00 pm – 4:00 pm\nRegistration: $5 per vehicle\nRegister online\, in person\, by phone\, or on the day of the event.\nDash Plaques for the first 100 registered vehicles\nAll vehicles welcome\, no judging\n50/50 Drawing & Raffles\nFood \nVehicles of all makes\, models\, and sizes will be on display down Lake Royer Drive on Sunday\, June 26 as part of the Summer Kickoff Celebration with Ritchie Revival! Find more details on the Summer Kickoff event at RitchieRevival.com/upcoming-events. \nVehicles may check-in and/or register at 10:00 am on the day of the event. \nQuestions? Contact us at 301-241-5085 or email Bev at bcoyle@thefrcc.org \nProceeds of this event benefit Fort Ritchie Community Center’s Summer Camp Field Trips in 2022. \nCruisin’ The Fort is sponsored by D.L. George & Sons and Sanders Market.
URL:https://www.collectorcarguide.net/event/cruisin-the-fort/
LOCATION:Fort Ritchie Community Center\, 14421 Lake Royer Drive\, Cascade\, MD\, 21719\, United States
CATEGORIES:Cruise
ATTACH;FMTTYPE=image/png:https://www.collectorcarguide.net/wp-content/uploads/2022/06/cruise-in-flyer.png
ORGANIZER;CN="Fort Ritchie Community Center%2C Bev Coyle":MAILTO:bcoyle@thefrcc.org
END:VEVENT
BEGIN:VEVENT
DTSTART;TZID=America/New_York:20220626T110000
DTEND;TZID=America/New_York:20220626T160000
DTSTAMP:20260424T063901
CREATED:20220509T234715Z
LAST-MODIFIED:20220526T221951Z
UID:24983-1656241200-1656259200@www.collectorcarguide.net
SUMMARY:Wheaton Moose Lodge Car and Motorcycle Show
DESCRIPTION:Come out and join us for our classic car and motorcycle show. Sunday\, June 26th 2022 11am-4pm there will be 50/50 raffles\, food for sale\, chill cook off\, and a Full bar inside.  \nEmail Rebisnett@yahoo.com  or call (301) 343-9098 for more information.
URL:https://www.collectorcarguide.net/event/wheaton-moose-lodge-car-and-motorcycle-show/
LOCATION:Wheaton Moose Lodge # 1775\, 2901 Bel Pre Rd\, Silver Spring\, MD\, 20906\, United States
CATEGORIES:Shows
ATTACH;FMTTYPE=image/jpeg:https://www.collectorcarguide.net/wp-content/uploads/2022/05/Wheaton-Moose-Lodge.jpeg
END:VEVENT
BEGIN:VEVENT
DTSTART;TZID=America/New_York:20220626T080000
DTEND;TZID=America/New_York:20220626T170000
DTSTAMP:20260424T063901
CREATED:20220524T121253Z
LAST-MODIFIED:20220524T121253Z
UID:25077-1656230400-1656262800@www.collectorcarguide.net
SUMMARY:Corvette Club of America: AutoX #1
DESCRIPTION:NEW LOCATION\nPrince George’s Stadium\n4101 Crain Hwy. Bowie\, MD 20716 \nPRICING\nCCA Members: $45 ($3 Helmet Rental)\nNon-Members: $55 ($6 Helmet Rental)\nYou must pre-register and pay online this season.\nThere will be no day-of registration. \nSee the event calendar pages for more information and the daily schedule.
URL:https://www.collectorcarguide.net/event/corvette-club-of-america-autox-1/
LOCATION:Prince George’s Stadium\, 4101 Crain Hwy\, Bowie\, MD\, 20716\, United States
CATEGORIES:Motorsports
ATTACH;FMTTYPE=image/png:https://www.collectorcarguide.net/wp-content/uploads/2022/05/cca_crest.png
ORGANIZER;CN="Corvette Club of America":MAILTO:CARSHOW@VETTE-CLUB.ORG
END:VEVENT
BEGIN:VEVENT
DTSTART;TZID=America/New_York:20220626T080000
DTEND;TZID=America/New_York:20220626T110000
DTSTAMP:20260424T063901
CREATED:20220411T190322Z
LAST-MODIFIED:20221025T121831Z
UID:4450-1656230400-1656241200@www.collectorcarguide.net
SUMMARY:Chewey's Cruise-In
DESCRIPTION:
URL:https://www.collectorcarguide.net/event/cheweys-cruise-in-16/
LOCATION:Municipal Parking Lot\, 8 Park St\, Mt. Airy\, MD\, 21771\, United States
CATEGORIES:Cruise
ATTACH;FMTTYPE=image/jpeg:https://www.collectorcarguide.net/wp-content/uploads/2022/03/46027197_2207535055932063_8129365066798596096_n.jpg
END:VEVENT
BEGIN:VEVENT
DTSTART;VALUE=DATE:20220626
DTEND;VALUE=DATE:20220627
DTSTAMP:20260424T063901
CREATED:20221009T145926Z
LAST-MODIFIED:20221009T145926Z
UID:26460-1656201600-1656287999@www.collectorcarguide.net
SUMMARY:Miles Through Time - 5th Annual Car Show
DESCRIPTION:When the museum was in its original location\, we had some major space constraints both inside and outside of the building. The annual car show in 2019 took every inch of space we had available and then some.  \nAt the Old Clarkesville Mill\, things are a little bit different\, and a whole lot better.  Not only is the museum itself over twice as large with room to grow\, but the parking lot is massive.  At the 5th Annual Car Show on June 26\, 2021\, we had over 200 vehicles and 1000 visitors\, which filled the entire parking lot. \nWe’re going to keep trying to do additional\, smaller events throughout the year in addition to the big annual show in June. We also enjoy hosting car shows and cruise-ins for other organizations. \nYou can follow MTT on Facebook to stay up on events and check your email because I will also let you know everything that goes on. \nThis was our 5th Annual Car Show which was a huge success!
URL:https://www.collectorcarguide.net/event/miles-through-time-5th-annual-car-show/
CATEGORIES:Shows
ATTACH;FMTTYPE=image/jpeg:https://www.collectorcarguide.net/wp-content/uploads/2022/10/unnamed.jpg
END:VEVENT
BEGIN:VEVENT
DTSTART;VALUE=DATE:20220626
DTEND;VALUE=DATE:20220627
DTSTAMP:20260424T063901
CREATED:20220610T164602Z
LAST-MODIFIED:20230524T164527Z
UID:25320-1656201600-1656287999@www.collectorcarguide.net
SUMMARY:100-Car Toy Drive to Johns Hopkins Children’s Center
DESCRIPTION:Potomac members are invited to join Chesapeake members for a toy drive and follow-on picnic. This epic all-day event starts with a 100-car police-escorted parade from Towson to the Children’s Center to drop off the toys. It then proceeds to the Chesapeake Bay at Rocky Point Park and Beach for a Mission BBQ catered lunch\, informal Concours (with trophies)\, and a relaxing afternoon. CLICK HERE TO REGISTER \nIn addition\, please consider the Johns Hopkins Children’s Center Fundraiser\, where Chesapeake has set a goal to raise $25\,000 to further support the Hopkins kids. These donations will be used to replace and/or add approximately 65 gaming consoles into patient rooms along with downloadable games and TV streaming services. CLICK HERE TO DONATE
URL:https://www.collectorcarguide.net/event/100-car-toy-drive-to-johns-hopkins-childrens-center/
CATEGORIES:Charity Event
ATTACH;FMTTYPE=image/jpeg:https://www.collectorcarguide.net/wp-content/uploads/2022/06/unnamed-1-1.jpg
END:VEVENT
BEGIN:VEVENT
DTSTART;TZID=America/New_York:20220625T100000
DTEND;TZID=America/New_York:20220625T140000
DTSTAMP:20260424T063901
CREATED:20220610T164415Z
LAST-MODIFIED:20221025T122028Z
UID:25316-1656151200-1656165600@www.collectorcarguide.net
SUMMARY:Tech Session for Summit Point Main Event
DESCRIPTION:Tech Session for Summit Point Main Event – June 25 \nPorsche of Chantilly will be hosting the Tech Session for the early July DE at Summit Point Main.  We’ll be in a very large service area with many\, many lifts\, sparkling clean floors and air conditioning!  See PCA Potomac web site for more details about Tech Session hours\, etc.:  https://pcapotomac.org/activities/tech-inspection \nPorsche of Chantilly 4055 Stonecroft Blvd Chantilly\, VA  20151
URL:https://www.collectorcarguide.net/event/25316/
LOCATION:Porsche of Chantilly\, 4055 Stonecroft Blvd\, Chantilly\, VA\, 20151\, United States
CATEGORIES:Motorsports
ATTACH;FMTTYPE=image/png:https://www.collectorcarguide.net/wp-content/uploads/2022/05/th_23rt33345u_pca_potomac_region_logo.png
END:VEVENT
BEGIN:VEVENT
DTSTART;TZID=America/New_York:20220625T090000
DTEND;TZID=America/New_York:20220626T163000
DTSTAMP:20260424T063901
CREATED:20220629T123659Z
LAST-MODIFIED:20220629T123659Z
UID:25434-1656147600-1656261000@www.collectorcarguide.net
SUMMARY:Honda Wars 2022
DESCRIPTION:
URL:https://www.collectorcarguide.net/event/honda-wars-2022/
CATEGORIES:Motorsports,Shows
ATTACH;FMTTYPE=image/jpeg:https://www.collectorcarguide.net/wp-content/uploads/2022/06/Image-from-iOS-6.jpg
END:VEVENT
BEGIN:VEVENT
DTSTART;TZID=America/New_York:20220625T090000
DTEND;TZID=America/New_York:20220625T150000
DTSTAMP:20260424T063901
CREATED:20220411T190310Z
LAST-MODIFIED:20220411T210138Z
UID:4447-1656147600-1656169200@www.collectorcarguide.net
SUMMARY:11th Annual Rocking Chair Nationals
DESCRIPTION:Rain Date 6/26
URL:https://www.collectorcarguide.net/event/11th-annual-rocking-chair-nationals-2/
CATEGORIES:Shows
ORGANIZER;CN="Rocking Chair Nationals":MAILTO:odsgore1@msn.com
END:VEVENT
BEGIN:VEVENT
DTSTART;VALUE=DATE:20220625
DTEND;VALUE=DATE:20220626
DTSTAMP:20260424T063901
CREATED:20230207T125619Z
LAST-MODIFIED:20230207T125619Z
UID:27732-1656115200-1656201599@www.collectorcarguide.net
SUMMARY:ROTARY SPIRIT - Pocono Raceway
DESCRIPTION:Rotary enthusiasts gather to celebrate rotary history and Mazda’s “Challenger Spirit.” After an overwhelming response to last year’s event\, we have been able to secure space at Pocono Raceway for June 25th for the 2023 event. This is due to our generous event partner\, EMRA. This will be an event to be remembered\, with a car show\, track day\, and more. We will also have an all-rotary parade lap for pictures and video. Let’s make memories that will last a lifetime. \n \nInterested individuals will also be able to sign up with our partner EMRA to drive their cars on the race track for Time Attack\, Instructor-led driving\, and more. **Please note that participation with EMRA does come with an extra charge. See below for more details. \n \nThe event is COMPLETELY FREE unless you would like to participate in our car show ($25/car). \n \nParade laps are open to rotary vehicles at no charge. \n \nThank you so much to our current sponsors and supporters who are enabling us to host this event: JPR Imports\, Garage Alpha\, JP3 Motorsports \, Rotor Piston Motorsportz LLC \, Rotary13B1.com \, EMRA\, AtkinsRotary\, Rotary Roger
URL:https://www.collectorcarguide.net/event/rotary-spirit-pocono-raceway/
LOCATION:Pocono Raceway\, 1234 Long Pond Rd\, Long Pond\, PA\, 18334\, United States
CATEGORIES:Cruise,Shows
ATTACH;FMTTYPE=image/jpeg:https://www.collectorcarguide.net/wp-content/uploads/2023/02/IMG_8534.jpg
END:VEVENT
BEGIN:VEVENT
DTSTART;TZID=America/New_York:20220624T180000
DTEND;TZID=America/New_York:20220624T210000
DTSTAMP:20260424T063901
CREATED:20220531T070030Z
LAST-MODIFIED:20220531T073244Z
UID:25165-1656093600-1656104400@www.collectorcarguide.net
SUMMARY:VFW Post 467 Cruise
DESCRIPTION:Welcome to Molleville Farm Post 467
URL:https://www.collectorcarguide.net/event/vfw-post-467-cruise-4/
LOCATION:VFW Post 467\, 519 Poole Rd\, Westminster\, MD\, 21157\, United States
CATEGORIES:Cruise
ATTACH;FMTTYPE=image/jpeg:https://www.collectorcarguide.net/wp-content/uploads/2022/05/vfw_467.jpg
END:VEVENT
BEGIN:VEVENT
DTSTART;TZID=America/New_York:20220624T173000
DTEND;TZID=America/New_York:20220624T210000
DTSTAMP:20260424T063901
CREATED:20220531T065832Z
LAST-MODIFIED:20220531T072937Z
UID:25156-1656091800-1656104400@www.collectorcarguide.net
SUMMARY:Street Survivors of Maryland
DESCRIPTION:Home
URL:https://www.collectorcarguide.net/event/street-survivors-of-maryland-4/
CATEGORIES:Cruise
ATTACH;FMTTYPE=image/jpeg:https://www.collectorcarguide.net/wp-content/uploads/2022/05/street_survivors_of_maryland_logo.jpg
END:VEVENT
BEGIN:VEVENT
DTSTART;TZID=America/New_York:20220624T130000
DTEND;TZID=America/New_York:20220624T200000
DTSTAMP:20260424T063901
CREATED:20220411T190310Z
LAST-MODIFIED:20220411T210112Z
UID:4445-1656075600-1656100800@www.collectorcarguide.net
SUMMARY:Markets at Shrewsbury
DESCRIPTION:
URL:https://www.collectorcarguide.net/event/markets-at-shrewsbury-2/
LOCATION:Markets at Shrewsbury\, 12025 Susquehanna Trail\, Shrewsbury\, PA\, 17327\, United States
CATEGORIES:Cruise
ATTACH;FMTTYPE=image/jpeg:https://www.collectorcarguide.net/wp-content/uploads/2021/02/Markets-At-Shrewsbury-Logo.jpg
END:VEVENT
BEGIN:VEVENT
DTSTART;TZID=America/New_York:20220624T080000
DTEND;TZID=America/New_York:20220625T150000
DTSTAMP:20260424T063901
CREATED:20220411T190310Z
LAST-MODIFIED:20220411T210051Z
UID:4446-1656057600-1656169200@www.collectorcarguide.net
SUMMARY:Chevelle Nationals
DESCRIPTION:Chevelles/Malibu or El Caminos only\, Must Pre-register\, visit site for entry fee 
URL:https://www.collectorcarguide.net/event/chevelle-nationals-2/
LOCATION:North East Community Park\, 106 South Main St\, North East\, MD\, 21901\, United States
CATEGORIES:Shows
END:VEVENT
BEGIN:VEVENT
DTSTART;TZID=America/New_York:20220623T000000
DTEND;TZID=America/New_York:20220623T210000
DTSTAMP:20260424T063901
CREATED:20220531T065809Z
LAST-MODIFIED:20220531T065809Z
UID:25147-1655942400-1656018000@www.collectorcarguide.net
SUMMARY:Wheels From The Past
DESCRIPTION:https://wheelsfromthepast.org
URL:https://www.collectorcarguide.net/event/wheels-from-the-past-5/
LOCATION:Green Turtle- Edgewater\, 3213 Solomons Island Rd\, Edgewater\, MD\, 21037\, United States
CATEGORIES:Cruise
ATTACH;FMTTYPE=image/png:https://www.collectorcarguide.net/wp-content/uploads/2022/05/wheels_from_the_past_logo.png
END:VEVENT
END:VCALENDAR