BEGIN:VCALENDAR
VERSION:2.0
PRODID:-//Collector Car Guide - ECPv6.15.20//NONSGML v1.0//EN
CALSCALE:GREGORIAN
METHOD:PUBLISH
X-WR-CALNAME:Collector Car Guide
X-ORIGINAL-URL:https://www.collectorcarguide.net
X-WR-CALDESC:Events for Collector Car Guide
REFRESH-INTERVAL;VALUE=DURATION:PT1H
X-Robots-Tag:noindex
X-PUBLISHED-TTL:PT1H
BEGIN:VTIMEZONE
TZID:America/New_York
BEGIN:DAYLIGHT
TZOFFSETFROM:-0500
TZOFFSETTO:-0400
TZNAME:EDT
DTSTART:20210314T070000
END:DAYLIGHT
BEGIN:STANDARD
TZOFFSETFROM:-0400
TZOFFSETTO:-0500
TZNAME:EST
DTSTART:20211107T060000
END:STANDARD
BEGIN:DAYLIGHT
TZOFFSETFROM:-0500
TZOFFSETTO:-0400
TZNAME:EDT
DTSTART:20220313T070000
END:DAYLIGHT
BEGIN:STANDARD
TZOFFSETFROM:-0400
TZOFFSETTO:-0500
TZNAME:EST
DTSTART:20221106T060000
END:STANDARD
BEGIN:DAYLIGHT
TZOFFSETFROM:-0500
TZOFFSETTO:-0400
TZNAME:EDT
DTSTART:20230312T070000
END:DAYLIGHT
BEGIN:STANDARD
TZOFFSETFROM:-0400
TZOFFSETTO:-0500
TZNAME:EST
DTSTART:20231105T060000
END:STANDARD
END:VTIMEZONE
BEGIN:VEVENT
DTSTART;TZID=America/New_York:20220828T090000
DTEND;TZID=America/New_York:20220828T110000
DTSTAMP:20260423T223644
CREATED:20220516T194217Z
LAST-MODIFIED:20221117T134431Z
UID:25043-1661677200-1661684400@www.collectorcarguide.net
SUMMARY:Chewey's Cruise-In
DESCRIPTION:
URL:https://www.collectorcarguide.net/event/cheweys-cruise-in-20/
LOCATION:Municipal Parking Lot\, 8 Park St\, Mt. Airy\, MD\, 21771\, United States
CATEGORIES:Cruise
ATTACH;FMTTYPE=image/jpeg:https://www.collectorcarguide.net/wp-content/uploads/2022/03/46027197_2207535055932063_8129365066798596096_n.jpg
END:VEVENT
BEGIN:VEVENT
DTSTART;TZID=America/New_York:20220828T080000
DTEND;TZID=America/New_York:20220828T150000
DTSTAMP:20260423T223644
CREATED:20220516T194217Z
LAST-MODIFIED:20221117T134450Z
UID:25044-1661673600-1661698800@www.collectorcarguide.net
SUMMARY:25th Annual Mid-MD All Ford Show
DESCRIPTION:Doug 301-797-0274\, Ford Products Only
URL:https://www.collectorcarguide.net/event/25th-annual-mid-md-all-ford-show/
LOCATION:Mason-Dixon Dragway\, 21344 National Pike\, Boonsboro\, MD\, 21713\, United States
CATEGORIES:Shows
END:VEVENT
BEGIN:VEVENT
DTSTART;VALUE=DATE:20220828
DTEND;VALUE=DATE:20220829
DTSTAMP:20260423T223644
CREATED:20220819T104754Z
LAST-MODIFIED:20230222T155608Z
UID:25920-1661644800-1661731199@www.collectorcarguide.net
SUMMARY:WDCR/Philly Region Autocross Optional Points Event - Ripken Stadium
DESCRIPTION:And while we’re at it\, don’t forget to register for the Optional Points Event on August 28th at Ripken Stadium in Aberdeen\, MD with the Philly SCCA Region! This really is your very last chance to tune yourself and your car before Nationals! Please note\, Season Subscribers – this event is NOT included in your Subscription. \n \nContact solochair@wdcr-scca.org with questions.\n \n\n\nSee you on the (FedEx Field) parking lot!\n \nEvanthe Salisbury\nWDCR Solo Program Chair (again)
URL:https://www.collectorcarguide.net/event/wdcr-autocross-optional-points-event-ripken-stadium/
LOCATION:Ripken Stadium\, 873 LONG DRIVE\, Aberdeen\, MD\, 21001\, United States
CATEGORIES:Motorsports
ATTACH;FMTTYPE=image/png:https://www.collectorcarguide.net/wp-content/uploads/2022/06/phillyscca.png
ORGANIZER;CN="WDCR SCCA Solo Chair":MAILTO:solochair@wdcr-scca.org
END:VEVENT
BEGIN:VEVENT
DTSTART;TZID=America/New_York:20220827T170000
DTEND;TZID=America/New_York:20220827T210000
DTSTAMP:20260423T223644
CREATED:20220516T194217Z
LAST-MODIFIED:20221117T133848Z
UID:25042-1661619600-1661634000@www.collectorcarguide.net
SUMMARY:Chewey's End of Summer Cruise-In
DESCRIPTION:FREE FOOD-MUSIC
URL:https://www.collectorcarguide.net/event/cheweys-end-of-summer-cruise-in/
LOCATION:Municipal Parking Lot\, 8 Park St\, Mt. Airy\, MD\, 21771\, United States
CATEGORIES:Cruise
ATTACH;FMTTYPE=image/jpeg:https://www.collectorcarguide.net/wp-content/uploads/2022/03/46027197_2207535055932063_8129365066798596096_n.jpg
END:VEVENT
BEGIN:VEVENT
DTSTART;TZID=America/New_York:20220827T160000
DTEND;TZID=America/New_York:20220827T190000
DTSTAMP:20260423T223644
CREATED:20220516T194204Z
LAST-MODIFIED:20221117T133856Z
UID:25040-1661616000-1661626800@www.collectorcarguide.net
SUMMARY:Berryville Main St. End of Summer Cruise
DESCRIPTION:Kim 540-313-6246. Cruise at Main and Taylor Streets.
URL:https://www.collectorcarguide.net/event/berryville-main-st-end-of-summer-cruise/
LOCATION:Berryville VA\, Taylor & Main St.\, Berryville\, VA\, 22611\, United States
CATEGORIES:Cruise
END:VEVENT
BEGIN:VEVENT
DTSTART;TZID=America/New_York:20220827T100000
DTEND;TZID=America/New_York:20220827T140000
DTSTAMP:20260423T223644
CREATED:20220516T194216Z
LAST-MODIFIED:20221117T133908Z
UID:25041-1661594400-1661608800@www.collectorcarguide.net
SUMMARY:8th Annual C & O Canal Car Show
DESCRIPTION:Irv 301-582-0340\, Rain or Shine
URL:https://www.collectorcarguide.net/event/8th-annual-c-o-canal-car-show/
LOCATION:Bowman Museum\, 10702 Hopewell Rd\, Williamsport\, MD\, 21795\, United States
CATEGORIES:Cruise
END:VEVENT
BEGIN:VEVENT
DTSTART;TZID=America/New_York:20220827T080000
DTEND;TZID=America/New_York:20220827T150000
DTSTAMP:20260423T223644
CREATED:20220825T010608Z
LAST-MODIFIED:20221117T133928Z
UID:25956-1661587200-1661612400@www.collectorcarguide.net
SUMMARY:AMVET Car Show
DESCRIPTION:540-335-0446
URL:https://www.collectorcarguide.net/event/amvet-car-show/
LOCATION:Newtown Commons Park\, 5165 Main Street\, Stephens City\, VA\, 22655\, United States
CATEGORIES:Shows
END:VEVENT
BEGIN:VEVENT
DTSTART;VALUE=DATE:20220827
DTEND;VALUE=DATE:20220829
DTSTAMP:20260423T223644
CREATED:20220707T184937Z
LAST-MODIFIED:20221117T133932Z
UID:25562-1661558400-1661731199@www.collectorcarguide.net
SUMMARY:VIR IMSA Porscheplatz
DESCRIPTION:VIR IMSA Porscheplatz 27-28 August – Volunteers needed! \nOur friends in Zone 2 are looking for 14 volunteers to help at the Porsche parking corral and hospitality tent for the IMSA race at VIR the weekend of 27-28 August. Each volunteer will be given one ticket for entrance to the race and a volunteer t-shirt. There will be a morning and evening shift for each day. Duties will include both attending to parking the Porsches and supporting the tent by checking for membership and manning the registration table.  If interested\, please send an email to president@pcapotomac.org.
URL:https://www.collectorcarguide.net/event/vir-imsa-porscheplatz/
LOCATION:Virginia International Raceway (VIR)\, 1245 Pinetree Rd\, Alton\, VA\, 24520\, United States
CATEGORIES:Motorsports
ATTACH;FMTTYPE=image/png:https://www.collectorcarguide.net/wp-content/uploads/2022/05/th_23rt33345u_pca_potomac_region_logo.png
END:VEVENT
BEGIN:VEVENT
DTSTART;VALUE=DATE:20220827
DTEND;VALUE=DATE:20220829
DTSTAMP:20260423T223644
CREATED:20220610T163726Z
LAST-MODIFIED:20221117T133955Z
UID:25306-1661558400-1661731199@www.collectorcarguide.net
SUMMARY:Jets and Lighthouses 2022!
DESCRIPTION:Update: 7/7/2022 – \nWe will be returning to Southern Maryland for a visit to the Patuxent Naval Air Museum along with a lunchtime visit to the infamous Tiki Bar\, plus dinner in Solomons at The Pier\, and then on Sunday a visit to one of the historic lighthouses in the area! The overnighter will be Saturday August 27 and Sunday August 28.  We will be staying at the Solomons Inn and Marina.  REGISTRATION OPENS SATURDAY JULY 9 at 8 AM!  \nRegister at: msreg.com/jets-lighthouses-22 \n\nSAVE THE DATE:  Jets and Lighthouses 2022!  (8/27-28) \nWe will be returning to Southern Maryland for a visit to the Patuxent Naval Air Museum and also one of the historic lighthouses in the area along with a lunchtime visit to the infamous Tiki Bar\, plus dinner in Solomons! The overnighter will be Saturday August 27 and Sunday August 28.  We will be staying at the Solomons Inn and Marina.  More information to come.
URL:https://www.collectorcarguide.net/event/jets-and-lighthouses-2022/
LOCATION:KY
CATEGORIES:Cruise
ATTACH;FMTTYPE=image/png:https://www.collectorcarguide.net/wp-content/uploads/2022/05/th_23rt33345u_pca_potomac_region_logo.png
END:VEVENT
BEGIN:VEVENT
DTSTART;VALUE=DATE:20220827
DTEND;VALUE=DATE:20220828
DTSTAMP:20260423T223644
CREATED:20220819T110317Z
LAST-MODIFIED:20221117T134117Z
UID:25926-1661558400-1661644799@www.collectorcarguide.net
SUMMARY:ACNA NEQ - Lime Rock Park Advanced Solo Day
DESCRIPTION:Lime Rock Park Advanced Solo Day – HPDE\nSingle day event for instructors and any students who have previously been signed off to solo at Lime Rock Park.  The event will have only two run groups based on experience and vehicle speed/horsepower  Read More & Sign Up
URL:https://www.collectorcarguide.net/event/acna-neq-lime-rock-park-advanced-solo-day/
LOCATION:Lime Rock Park\, 60 White Hollow Rd\, Lakeville\, CT\, 06039\, United States
CATEGORIES:Motorsports
ATTACH;FMTTYPE=image/jpeg:https://www.collectorcarguide.net/wp-content/uploads/2022/05/neq-logo.jpg
END:VEVENT
BEGIN:VEVENT
DTSTART;TZID=America/New_York:20220826T130000
DTEND;TZID=America/New_York:20220826T200000
DTSTAMP:20260423T223644
CREATED:20220516T194204Z
LAST-MODIFIED:20221117T134130Z
UID:25039-1661518800-1661544000@www.collectorcarguide.net
SUMMARY:Markets at Shrewsbury Cruise-In
DESCRIPTION:Rain Date is the following Friday.
URL:https://www.collectorcarguide.net/event/markets-at-shrewsbury-cruise-in-5/
LOCATION:Markets at Shrewsbury\, 12025 Susquehanna Trail\, Shrewsbury\, PA\, 17327\, United States
CATEGORIES:Cruise
ATTACH;FMTTYPE=image/jpeg:https://www.collectorcarguide.net/wp-content/uploads/2021/02/Markets-At-Shrewsbury-Logo.jpg
END:VEVENT
BEGIN:VEVENT
DTSTART;VALUE=DATE:20220826
DTEND;VALUE=DATE:20220828
DTSTAMP:20260423T223644
CREATED:20220810T123018Z
LAST-MODIFIED:20230524T165126Z
UID:25814-1661472000-1661644799@www.collectorcarguide.net
SUMMARY:Richmond Auctions
DESCRIPTION:Richmond Auctions\n​August 2022 Showcase Auction \n \nEnding Aug 26-27\, 2022 \nFeaturing 300 world class investment grade pieces\, with all items certified and guaranteed by The Authentication Company (TAC). Bid now at https://bid.richmondauctions.com​ \nAuction ends Sat.\, Aug 27\, 2022 with a live auction in Greenville\, South Carolina. For questions and info\, please contact Richmond Auctions at 864-382-1302 or Jordan@RichmondAuctions.com
URL:https://www.collectorcarguide.net/event/richmond-auctions/
LOCATION:Greenville\, SC\, Greenville\, SC\, United States
CATEGORIES:Auction
ATTACH;FMTTYPE=image/jpeg:https://www.collectorcarguide.net/wp-content/uploads/2022/08/richmond.jpg
ORGANIZER;CN="Richmond Auctions":MAILTO:Jordan@RichmondAuctions.com
END:VEVENT
BEGIN:VEVENT
DTSTART;VALUE=DATE:20220825
DTEND;VALUE=DATE:20220828
DTSTAMP:20260423T223644
CREATED:20220813T194954Z
LAST-MODIFIED:20221117T134154Z
UID:25883-1661385600-1661644799@www.collectorcarguide.net
SUMMARY:Corvettes at Carlisle
DESCRIPTION:Corvettes at Carlisle is the largest and most fun-filled Corvette car show in the world. The annual Corvettes at Carlisle event features thousands of Corvettes representing all generations of America’s classic sports car. Guests flock to Carlisle for this event – an event that was “name dropped” on the Jimmy Kimmel Live TV show in December of 2018. Corvette enthusiasm is contagious with participation in autocross\, exhaust contests\, seminars and more. The excitement continues with an incredible parts shopping experience\, including an automotive flea market with a wide variety of vendors\, an all-Corvette car corral and Manufacturers Midway. Bring your Corvette or walk around and look at the amazing variety on display on the Fun Field. Corvettes at Carlisle spotlights all aspects of the Corvette hobby\, including different styles\, packages and every generation of production\, from year one in 1953 to the modern day C8.
URL:https://www.collectorcarguide.net/event/corvettes-at-carlisle-3/
LOCATION:Carlisle Fairgrounds\, 1000 Bryn Mawr Rd\, Carlisle\, PA\, 17013\, United States
CATEGORIES:Shows,Swap Meet
ATTACH;FMTTYPE=image/png:https://www.collectorcarguide.net/wp-content/uploads/2022/08/Corvettes-@Carlisle-40th-Logo.png
END:VEVENT
BEGIN:VEVENT
DTSTART;TZID=America/New_York:20220821T180000
DTEND;TZID=America/New_York:20220821T210000
DTSTAMP:20260423T223644
CREATED:20220623T125824Z
LAST-MODIFIED:20221117T134219Z
UID:25399-1661104800-1661115600@www.collectorcarguide.net
SUMMARY:Audi Club PCC - Audis & Ice Cream
DESCRIPTION:August 21 – Audis & Ice Cream – 6pm at Brusters in Gaithersburg\, MD \nNo registration required\, but RSVP requested \nFacebook Event link: https://fb.me/e/euZDguNOU \nWe have 3 events this Summer and a new private Facebook page.    \nJoin us! \nOur New Facebook Page:   https://fb.me/g/p_LJf5Y3ktZNsfDfZ7/R4qYcD5q  \nWe are also planning to attend Dubs at the Gap in September\, so stay tuned for that! \nTHANK YOU! \nSheri Palomaki – Membership \nOn Behalf of the Audi Club Potomac Chesapeake Chapter Board
URL:https://www.collectorcarguide.net/event/audi-club-pcc-audis-ice-cream/
LOCATION:Bruster’s Real Ice Cream (Gaithersburg)\, 18519 N Frederick Ave\, Gaithersburg\, MD\, 20879\, United States
CATEGORIES:Meet Up
ATTACH;FMTTYPE=image/png:https://www.collectorcarguide.net/wp-content/uploads/2022/06/unnamed-2.png
ORGANIZER;CN="Sheri Palomaki":MAILTO:sheri.palomaki@audiclubpcc.org
END:VEVENT
BEGIN:VEVENT
DTSTART;TZID=America/New_York:20220821T080000
DTEND;TZID=America/New_York:20220821T140000
DTSTAMP:20260423T223644
CREATED:20220516T194203Z
LAST-MODIFIED:20221117T134238Z
UID:25038-1661068800-1661090400@www.collectorcarguide.net
SUMMARY:17th Annual Rouzerfest Car/Truck Show
DESCRIPTION:Stewart 717-404-9341\, Rain or Shine
URL:https://www.collectorcarguide.net/event/17th-annual-rouzerfest-car-truck-show/
LOCATION:Red Run Park\, 12143 Buchanan Trail E.\, Waynesboro\, PA\, 17268\, United States
CATEGORIES:Shows
END:VEVENT
BEGIN:VEVENT
DTSTART;VALUE=DATE:20220821
DTEND;VALUE=DATE:20220822
DTSTAMP:20260423T223644
CREATED:20220707T185227Z
LAST-MODIFIED:20221117T134603Z
UID:25567-1661040000-1661126399@www.collectorcarguide.net
SUMMARY:Gathering of the Faithful
DESCRIPTION:Gathering of the Faithful:  Sunday 21 August at Augustoberfest\, Washington County (MD) Agricultural Center\, located at 7313 Sharpsburg Pike\, Boonesboro\, Maryland. We are participating with the annual Augustoberfest event which will have food\, beer and entertainment.  Admission to the Augustoberfest events is $10/person (kids 12 and under\, FREE).  More information may be found at their website\, Augustoberfest.org.  Gates open at 9:30 am and close at 5:00 pm. Take a Sunday drive in the scenic Maryland countryside with some fun roads to get there! \nRegister at http://msreg.com/gotf-2022  No cost for displaying your car in a large dedicated parking area (not on grass!).  Registration closes on 19 August at midnight.
URL:https://www.collectorcarguide.net/event/gathering-of-the-faithful/
LOCATION:Washington County (MD) Agricultural Center\, 7313 Sharpsburg Pike\, Boonesboro\, MD\, United States
CATEGORIES:Concours
ATTACH;FMTTYPE=image/png:https://www.collectorcarguide.net/wp-content/uploads/2022/05/th_23rt33345u_pca_potomac_region_logo.png
END:VEVENT
BEGIN:VEVENT
DTSTART;TZID=America/New_York:20220820T150000
DTEND;TZID=America/New_York:20220820T200000
DTSTAMP:20260423T223644
CREATED:20220516T194147Z
LAST-MODIFIED:20221117T134608Z
UID:25033-1661007600-1661025600@www.collectorcarguide.net
SUMMARY:11th annual Car\, Truck\, Bike Tractor and Speciality Vehicle Show
DESCRIPTION:Janie 301-471-9604\, Rain or Shine
URL:https://www.collectorcarguide.net/event/11th-annual-car-truck-bike-tractor-and-speciality-vehicle-show-2/
LOCATION:Middletown VA\, Main St\, Middletown\, VA\, 22645\, United States
CATEGORIES:Shows
END:VEVENT
BEGIN:VEVENT
DTSTART;TZID=America/New_York:20220820T150000
DTEND;TZID=America/New_York:20220820T200000
DTSTAMP:20260423T223644
CREATED:20220516T194132Z
LAST-MODIFIED:20221117T134611Z
UID:25030-1661007600-1661025600@www.collectorcarguide.net
SUMMARY:11th Annual Middletown Car\, Truck & Tractor
DESCRIPTION:Charles 540-877-4594\, Rain Date 8/27
URL:https://www.collectorcarguide.net/event/11th-annual-middletown-car-truck-tractor-2/
LOCATION:Town of Middletown\, 8 Green St\, Middletown\, MD\, 21769\, United States
CATEGORIES:Shows
END:VEVENT
BEGIN:VEVENT
DTSTART;TZID=America/New_York:20220820T120000
DTEND;TZID=America/New_York:20220820T160000
DTSTAMP:20260423T223644
CREATED:20220516T194203Z
LAST-MODIFIED:20221117T134615Z
UID:25037-1660996800-1661011200@www.collectorcarguide.net
SUMMARY:Finish the Race Summer Car\, Truck & Bike Show
DESCRIPTION:Korry 703-430-7307
URL:https://www.collectorcarguide.net/event/finish-the-race-summer-car-truck-bike-show-2/
LOCATION:Calvary Temple\, 50214 Tripleseven Rd\, Sterling\, VA\, 20165\, United States
CATEGORIES:Shows
END:VEVENT
BEGIN:VEVENT
DTSTART;TZID=America/New_York:20220820T090000
DTEND;TZID=America/New_York:20220820T150000
DTSTAMP:20260423T223644
CREATED:20220516T194146Z
LAST-MODIFIED:20221117T134618Z
UID:25032-1660986000-1661007600@www.collectorcarguide.net
SUMMARY:18th Annual Car & Truck Show
DESCRIPTION:410-848-7172\, Rain or Shine
URL:https://www.collectorcarguide.net/event/18th-annual-car-truck-show/
LOCATION:Reese VFD\, 1745 Baltimore Ave\, Westminster\, MD\, 21157\, United States
CATEGORIES:Shows
END:VEVENT
BEGIN:VEVENT
DTSTART;TZID=America/New_York:20220820T080000
DTEND;TZID=America/New_York:20220820T150000
DTSTAMP:20260423T223644
CREATED:20220702T200319Z
LAST-MODIFIED:20221117T134622Z
UID:25447-1660982400-1661007600@www.collectorcarguide.net
SUMMARY:Battlefield Classic Car Clash
DESCRIPTION:https://www.facebook.com/events/1234850757323416\, 717-521-7465 \nCharity for PA Wounded Warriors and H4H foundation. 
URL:https://www.collectorcarguide.net/event/battlefield-classic-car-clash/
LOCATION:Wyndham Hotel- Gettysburg\, 95 Presidential Circle\, Gettysburg\, PA\, 17325\, United States
CATEGORIES:Shows
END:VEVENT
BEGIN:VEVENT
DTSTART;TZID=America/New_York:20220820T080000
DTEND;TZID=America/New_York:20220820T150000
DTSTAMP:20260423T223644
CREATED:20220516T194147Z
LAST-MODIFIED:20221117T134626Z
UID:25034-1660982400-1661007600@www.collectorcarguide.net
SUMMARY:Good Old Days Car Show & Festival
DESCRIPTION:Ken 717-359-7389
URL:https://www.collectorcarguide.net/event/good-old-days-car-show-festival/
LOCATION:Crouse Park\, 81 North St\, Littlestown\, PA\, 17340\, United States
CATEGORIES:Shows
END:VEVENT
BEGIN:VEVENT
DTSTART;TZID=America/New_York:20220820T080000
DTEND;TZID=America/New_York:20220820T140000
DTSTAMP:20260423T223644
CREATED:20220516T194147Z
LAST-MODIFIED:20221117T134630Z
UID:25035-1660982400-1661004000@www.collectorcarguide.net
SUMMARY:367h Annual Rose Hill Manor Car Show
DESCRIPTION:Skip 240-422-0368\, Rain Date 8/21
URL:https://www.collectorcarguide.net/event/367h-annual-rose-hill-manor-car-show/
LOCATION:Rose Hill Manor Museum\, 1611 N. Market St\, Frederick\, MD\, 21701\, United States
CATEGORIES:Shows
END:VEVENT
BEGIN:VEVENT
DTSTART;VALUE=DATE:20220820
DTEND;VALUE=DATE:20220822
DTSTAMP:20260423T223644
CREATED:20220819T104614Z
LAST-MODIFIED:20230222T155614Z
UID:25917-1660953600-1661126399@www.collectorcarguide.net
SUMMARY:WDCR Test/Tune + Champ #5 Autocross
DESCRIPTION: \nONLY A FEW DAYS LEFT to register for our last events at FedExField for the season!\n \nGreetings autocrossers!\n \nWe only have two more events this season at FedExField – THIS WEEKEND – before we take a break for Nationals (in Lincoln\, Nebraska) and head back to Summit Point.\n \nA Test and Tune is on August 20 at FedExField. Tune yourself and your car before leaving for Nationals.\n \nOur last event at FedExField for the season\, Champ Event #5\, is the next day\, August 21\, and it has DISCOUNTED pricing: $58 for members\, $73 for weekend members.\n \nAnd while we’re at it\, don’t forget to register for the Optional Points Event on August 28th at Ripken Stadium in Aberdeen\, MD with the Philly SCCA Region! This really is your very last chance to tune yourself and your car before Nationals! Please note\, Season Subscribers – this event is NOT included in your Subscription. \n \nContact solochair@wdcr-scca.org with questions.\n \n\n\nSee you on the (FedEx Field) parking lot!\n \nEvanthe Salisbury\nWDCR Solo Program Chair (again)
URL:https://www.collectorcarguide.net/event/wdcr-test-tune-champ-5-autocross/
LOCATION:Fedex Field\, 1600 FedEx Way\, Landover\, MD\, 20785\, United States
CATEGORIES:Motorsports
ATTACH;FMTTYPE=image/png:https://www.collectorcarguide.net/wp-content/uploads/2022/03/wdcr_scca.png
ORGANIZER;CN="WDCR SCCA Solo Chair":MAILTO:solochair@wdcr-scca.org
END:VEVENT
BEGIN:VEVENT
DTSTART;VALUE=DATE:20220820
DTEND;VALUE=DATE:20220822
DTSTAMP:20260423T223644
CREATED:20220801T124613Z
LAST-MODIFIED:20220801T124613Z
UID:25728-1660953600-1661126399@www.collectorcarguide.net
SUMMARY:Renegade Monster (Truck) Tour
DESCRIPTION:Welcome to the Renegade Monster Truck Tour\, the industry leader for quality\, affordable motorsports entertainment at your fair or venue. Our team of dedicated staff has over 40 years of combined experience and is ready to partner with you to create a high-energy event that is filled with non-stop action for the fans in your stands.  \nThis new and exciting tour features some of the biggest names in monster trucks\, including Bearly Tame\, Toxic\, Stinger Unleashed\, and Pretty Wicked! With new track designs that will put the monster trucks and drivers to the test\, this new series is sure to have the crowd on its feet! \nEach event is customized for your specific venue needs to ensure the highest quality event\, all while ensuring the event fits your budget\, no matter the size!
URL:https://www.collectorcarguide.net/event/renegade-monster-truck-tour/
LOCATION:Westminster AG Center\, 706 Agriculture Center Dr\, Westminster\, MD\, 21157\, United States
CATEGORIES:Motorsports
ATTACH;FMTTYPE=image/jpeg:https://www.collectorcarguide.net/wp-content/uploads/2022/08/0d118c16eeebf39edaf7164a450c4e5d.jpg
ORGANIZER;CN="Renegade Monster Truck Tour":MAILTO:Forrest@RenegadeMTTour.com
END:VEVENT
BEGIN:VEVENT
DTSTART;VALUE=DATE:20220820
DTEND;VALUE=DATE:20220822
DTSTAMP:20260423T223644
CREATED:20220318T122416Z
LAST-MODIFIED:20221117T134715Z
UID:4145-1660953600-1661126399@www.collectorcarguide.net
SUMMARY:EMRA'S SIZZLING SUMMER AT SUMMIT POINT SHENANDOAH 2022 (CANCELLED)
DESCRIPTION:This is a Race\, Formula Race\, Time Attack and HPDE Event \nEvent Schedule – TBA \nLive Timing and Scoring will be available for this event \nMORE DETAILS COMING SOON
URL:https://www.collectorcarguide.net/event/emras-sizzling-summer-at-summit-point-shenandoah-2022/
LOCATION:Summit Point Motorsports Park\, 201 Motorsports Circle\, Summit Point\, WV\, 25446\, United States
CATEGORIES:Motorsports
ATTACH;FMTTYPE=image/png:https://www.collectorcarguide.net/wp-content/uploads/2022/03/emra-logo-time-trial.png
ORGANIZER;CN="EMRA":MAILTO:jkatz@lissconsulting.com
END:VEVENT
BEGIN:VEVENT
DTSTART;TZID=America/New_York:20220820T000000
DTEND;TZID=America/New_York:20220820T200000
DTSTAMP:20260423T223644
CREATED:20220516T194203Z
LAST-MODIFIED:20221117T134809Z
UID:25036-1660953600-1661025600@www.collectorcarguide.net
SUMMARY:Jimmy Cone Cruise-
DESCRIPTION:4
URL:https://www.collectorcarguide.net/event/jimmy-cone-cruise-9/
LOCATION:Jimmie Cone\, 1312 S. Main St\, Mt. Airy\, MD\, 21771\, United States
CATEGORIES:Cruise
ATTACH;FMTTYPE=image/png:https://www.collectorcarguide.net/wp-content/uploads/2022/03/381-jimmiecone.png
END:VEVENT
BEGIN:VEVENT
DTSTART;TZID=America/New_York:20220819T150000
DTEND;TZID=America/New_York:20220819T210000
DTSTAMP:20260423T223644
CREATED:20220801T124410Z
LAST-MODIFIED:20221117T134823Z
UID:25724-1660921200-1660942800@www.collectorcarguide.net
SUMMARY:VW Cruise-In (Antietam)
DESCRIPTION:Details on Flyer Attached.
URL:https://www.collectorcarguide.net/event/vw-cruise-in-antietam/
LOCATION:Antietam Brewery\, 140 Western Maryland Pkwy\, Hagerstown\, MD\, 21740\, United States
CATEGORIES:Cruise,Shows
ATTACH;FMTTYPE=image/jpeg:https://www.collectorcarguide.net/wp-content/uploads/2022/08/a14cdcbf317cfbd1d5d53b2b39ffabc0.jpg
END:VEVENT
BEGIN:VEVENT
DTSTART;VALUE=DATE:20220819
DTEND;VALUE=DATE:20220820
DTSTAMP:20260423T223644
CREATED:20220708T125252Z
LAST-MODIFIED:20221117T134831Z
UID:25589-1660867200-1660953599@www.collectorcarguide.net
SUMMARY:HOD Southeast Region - Sebring
DESCRIPTION:Forecast is for a beautiful\, sunny day for HOD Southeast’s return to Sebring this\nFriday\, August 19th.\nTime is running out to join us for our big test and tune\, HPDE event at Sebring with the Southeast Region’s new owner\, Steve Fureman. \nWe will run four run groups from 8 am to 5 pm with a 1-hour lunch break \nEach group can expect a minimum of 2 hours of track time and to enjoy a fabulous lunch at the Gator Shack to boot. \nThirsty? No problem! We supply the water. Hungry?  We supply snacks and lunch. Adrenalin\, need for speed?  We supply tons of track time for you to drive at incredible speeds on a world famous racetrack; without the fear of blue and red flashing lights in your rear view mirror! \nWhat are you waiting for? Register now\, before it’s too late!  Run groups are purposely being kept small so the track will be wide open and uncongested. For more info\, please email SteveF@hookedondriving.com. \nSpecial discount for all HOD drivers at the Sebring 7 Hotel. (Please contact them directly at 863-655-7200.) \nSpecial diet needs?  Please contact us with the details. \nGroup D Unrestricted–Please contact SteveF@hookedondriving.com for approval.\nRegistration closes soon\, so don’t miss out! \n\n\n\nI’m Steve Fureman\, the new Florida/Southeast team leader and chief bottle washer. \nI would like to invite you to join us for our upcoming events. \nWe want to build a team of passionate members who share our\, “safety first-customer first” philosophy. We have positions for instructors\, group leaders\, and a chief instructor. The “team” dynamic is a crucial part of our event structure\, without that\, we are simply\, just another HPDE provider.  \nOur first event is at Roebling Road\,  on August 12th. I’m calling this the: “WELCOME TO THE FAMILY‘ open track day\, with no students\, just 8 hours of driving and fellowship. I have included a special price for coaches with prior HOD experience\, MSF level 2 certification\, or other verifiable coaching credentials.  \nOur second event is at Sebring\, on August 19th. This day will feature four run groups\, 30-minute sessions\, and lots of fun. One student per coach\, with a coachrun group that doesn’t conflict with your student’s schedule. And.. as always\, there is no charge for coaches\, free lunch\, and lots of water for everyone. \nWe have an exciting menu planned for the near future at many fantastic “Destination” tracks\, from Carolina to Homestead\, Barber to Atlanta\, with a dash of Sebring\, Roebling Road\, and\, maybe even the FIRM.  Add that to our fall schedule and you get a recipe for success.  \nYOU are the key ingredient\, and with your help and dedication\, together\, we can make this region the best in the country. \nWelcome to our family!  \n  \n\nSteve
URL:https://www.collectorcarguide.net/event/hod-southeast-sebring/
LOCATION:Sebring\, 113 Midway Dr\, Sebring\, FL\, 33870
CATEGORIES:Motorsports
ATTACH;FMTTYPE=image/png:https://www.collectorcarguide.net/wp-content/uploads/2022/07/unnamed-2-1.png
END:VEVENT
BEGIN:VEVENT
DTSTART;VALUE=DATE:20220817
DTEND;VALUE=DATE:20220821
DTSTAMP:20260423T223644
CREATED:20220810T122712Z
LAST-MODIFIED:20230524T165131Z
UID:25810-1660694400-1661039999@www.collectorcarguide.net
SUMMARY:Girard Auction 3-Day Classic Car\, Sign & Advertising Auction
DESCRIPTION:Girard Auction 3-Day Classic Car\, Sign & Advertising Auction featuring the Gary Sandquist Collection! \nEnding Aug 17\, 19-20\, 2022 \nWed.\, Aug 17 – online only auction with over 1\,000 Oil Cans. \nFri.\, Aug 19 – Farm Signs\, Oil Cans and more. \nSat.\, Aug 20 – Classic Cars\, trucks\, hot rods\, gas pumps\, plus over 100 Gas & Oil signs! \nFri. & Sat. auctions end in a LIVE Auction at Wakonda Legion Hall in Wakonda\, South Dakota. Bid now on all three auctions at https://www.girardbid.com​ \nFor questions and info\, please contact Girard Auction at 605-267-2421 or GirardAuction@gmail.com
URL:https://www.collectorcarguide.net/event/girard-auction-3-day-classic-car-sign-advertising-auction/
LOCATION:KY
CATEGORIES:Auction
ATTACH;FMTTYPE=image/jpeg:https://www.collectorcarguide.net/wp-content/uploads/2022/08/girardauction.jpg
ORGANIZER;CN="Girard Auctions":MAILTO:GirardAuction@gmail.com
END:VEVENT
END:VCALENDAR