BEGIN:VCALENDAR
VERSION:2.0
PRODID:-//Collector Car Guide - ECPv6.15.20//NONSGML v1.0//EN
CALSCALE:GREGORIAN
METHOD:PUBLISH
X-WR-CALNAME:Collector Car Guide
X-ORIGINAL-URL:https://www.collectorcarguide.net
X-WR-CALDESC:Events for Collector Car Guide
REFRESH-INTERVAL;VALUE=DURATION:PT1H
X-Robots-Tag:noindex
X-PUBLISHED-TTL:PT1H
BEGIN:VTIMEZONE
TZID:America/New_York
BEGIN:DAYLIGHT
TZOFFSETFROM:-0500
TZOFFSETTO:-0400
TZNAME:EDT
DTSTART:20220313T070000
END:DAYLIGHT
BEGIN:STANDARD
TZOFFSETFROM:-0400
TZOFFSETTO:-0500
TZNAME:EST
DTSTART:20221106T060000
END:STANDARD
BEGIN:DAYLIGHT
TZOFFSETFROM:-0500
TZOFFSETTO:-0400
TZNAME:EDT
DTSTART:20230312T070000
END:DAYLIGHT
BEGIN:STANDARD
TZOFFSETFROM:-0400
TZOFFSETTO:-0500
TZNAME:EST
DTSTART:20231105T060000
END:STANDARD
BEGIN:DAYLIGHT
TZOFFSETFROM:-0500
TZOFFSETTO:-0400
TZNAME:EDT
DTSTART:20240310T070000
END:DAYLIGHT
BEGIN:STANDARD
TZOFFSETFROM:-0400
TZOFFSETTO:-0500
TZNAME:EST
DTSTART:20241103T060000
END:STANDARD
END:VTIMEZONE
BEGIN:VEVENT
DTSTART;VALUE=DATE:20230610
DTEND;VALUE=DATE:20230611
DTSTAMP:20260420T104444
CREATED:20230530T191114Z
LAST-MODIFIED:20230531T233127Z
UID:29002-1686355200-1686441599@www.collectorcarguide.net
SUMMARY:NJMP Food Truck Festival
DESCRIPTION:NJMP’s 7th Annual TD Bank Food Truck Festival will be held June 10th from 4pm – 8pm\, hosting a variety of the best food trucks from New Jersey and Pennsylvania. Over 20 food trucks are expected\, in addition to vendors\, music\, on-track action\, and more! There will be plenty to do for the whole family to enjoy! \n \nAdmission is FREE to the event and there will be plenty of food available for purchase – but that goes without saying. Guests are encouraged to bring their own seating – lawn chairs\, blankets\, etc. – for maximum enjoyment of the festival! Please note that the majority of the festival will be held on grass\, not asphalt like in years past. \n \nHere Are Just a Few of the Food Trucks Joining Us!\n\nKona Ice\nHouse of Cupcakes\nCrawdaddy’s Cajun\nPirate Pete’s Soda Truck\nBake N Bacon\nThe Little Sicilian\nButch’s Smack Your Lips BBQ\nSpirit of San Jaun\nThe Muffin Top\nSJ BBQ Boyz\nS & H Southern Cuisine\nChank’s Grab-N-Go\nWipeout Eats\nBayside UnderTow\n\n \nPROMOTE YOUR SMALL BUSINESS at the TD Bank Food Truck Festival at NJMP on June 10th from 4pm – 8pm. If you have a food truck or a niche business such as crafting\, jewelry\, and so on\, that you would like to promote then contact us to become a vendor at our upcoming Food Truck Festival! Email us your interest at info@njmp.com.
URL:https://www.collectorcarguide.net/event/njmp-food-truck-festival/
LOCATION:New Jersey Motorsports Park (NJMP)\, 8000 Dividing Creek Road\, Millville\, NJ\, 08332\, United States
CATEGORIES:OTHER
ATTACH;FMTTYPE=image/png:https://www.collectorcarguide.net/wp-content/uploads/2023/05/unnamed-3.png
END:VEVENT
BEGIN:VEVENT
DTSTART;VALUE=DATE:20230610
DTEND;VALUE=DATE:20230611
DTSTAMP:20260420T104444
CREATED:20230504T111838Z
LAST-MODIFIED:20230524T165733Z
UID:28708-1686355200-1686441599@www.collectorcarguide.net
SUMMARY:Bring the bodacious at RADwood Philly
DESCRIPTION:RADwood’s coming to Philly!\nJoin us Saturday\, June 10\, 2023\, for a trip back in time! RADwood is back at Subaru Park in Chester\, and we hope you can come party with us! We’ll have a different show layout this time around and we are very excited to see what shows up at Philly- always one of the best shows of the year. \nRegister now for the event with your 1980-1999 car for $35 or motorcycle for $20. Entry for cars not pre-registered will be $40 at the gate if spots are still available. \nGeneral spectator admission is $15 per person in advance\, kids 12 and under are free. \n\nJune 10\, 10 a.m.–3 p.m. EDT | RADwood Philly\nRADwood\, the celebration of ’80s and ’90s automotive lifestyle that blends period correct dress with automotive awesomeness. An event for cars\, trucks\, and bikes from 1980-1999 that captures the essence of a bodacious era. \n\nJoin Hagerty Drivers Club® and save\nAs a Drivers Club member\, you get a truly rad offer of 20% off all tickets to RADwood. Plus\, join for free for 60 days* and enjoy full access to all member benefits\, discounts\, and more. Join now for free. \nAlready a member? Sign in here to access your discount code. \n*Promotion available online to first-time US members only. $70 will be billed annually after the 60 day trial period.
URL:https://www.collectorcarguide.net/event/bring-the-bodacious-at-radwood-philly/
LOCATION:Subaru Park\, 2501 Seaport Dr\, Chester\, PA\, 19013\, United States
CATEGORIES:Shows
ATTACH;FMTTYPE=image/png:https://www.collectorcarguide.net/wp-content/uploads/2023/05/radwood_philly.png
END:VEVENT
BEGIN:VEVENT
DTSTART;VALUE=DATE:20230610
DTEND;VALUE=DATE:20230611
DTSTAMP:20260420T104444
CREATED:20221230T152636Z
LAST-MODIFIED:20230524T171132Z
UID:27226-1686355200-1686441599@www.collectorcarguide.net
SUMMARY:150 LM\, 50 VAR\, 20 8cyl\, 25 LEG\, 15 BANDO
DESCRIPTION:150 LM\, 50 VAR\, 20 8cyl\, 25 LEG\, 15 BANDO more details at https://www.dominionraceway.com/oval-track-schedule \nLM-Late Model\, VAR-VA Racers\, MOD-Modified\, VMOD-VA Modified\, DS-Dominion Stocks\, 4/6c/8cyl-ANYCARS\, LEG-Legends\, MStock-Mini Stocks\, USAC-USAC Midgets\, MCUP-Mini Cup
URL:https://www.collectorcarguide.net/event/150-lm-50-var-20-8cyl-25-leg-15-bando/
LOCATION:Dominion Raceway\, 6501 Dominion Raceway Avenue\, Thornburburg\, VA\, 22580\, United States
CATEGORIES:Motorsports
ATTACH;FMTTYPE=image/png:https://www.collectorcarguide.net/wp-content/uploads/2022/12/dominion_raceway.png
END:VEVENT
BEGIN:VEVENT
DTSTART;VALUE=DATE:20230609
DTEND;VALUE=DATE:20230611
DTSTAMP:20260420T104444
CREATED:20230601T113947Z
LAST-MODIFIED:20230601T113947Z
UID:29042-1686268800-1686441599@www.collectorcarguide.net
SUMMARY:Lime Rock Unmuffled
DESCRIPTION:Lime Rock Open Track Weekend\, June 9th & 10th. Four hours Friday & four hours Saturday WITHOUT SOUND RESTRICTIONS. (See Multiple IMSA teams practice Friday 5-6 pm) \nNJMP Open Tack Day Friday\, June 16th Solo Drivers\, Please Email KenE@hookedondriving.com if you are unsure if you qualify to run this event. \nClick for schedules and details or to register.  \n\nhttps://shop.hookedondriving.com/hooked-on-driving-region/Northeast \nThank you to our regional Sponsors supporting our NE members and Hooked on Driving NE.
URL:https://www.collectorcarguide.net/event/lime-rock-unmuffled/
LOCATION:Lime Rock Park\, 60 White Hollow Rd\, Lakeville\, CT\, 06039\, United States
CATEGORIES:Motorsports
ATTACH;FMTTYPE=image/jpeg:https://www.collectorcarguide.net/wp-content/uploads/2022/03/hodne.jpg
ORGANIZER;CN="HookedOnDriving (NorthEast)":MAILTO:Northeast@hookedondriving.com
END:VEVENT
BEGIN:VEVENT
DTSTART;VALUE=DATE:20230609
DTEND;VALUE=DATE:20230611
DTSTAMP:20260420T104444
CREATED:20230218T145057Z
LAST-MODIFIED:20230524T171135Z
UID:27829-1686268800-1686441599@www.collectorcarguide.net
SUMMARY:Street Outlaws\, No Prep Kings\, Season 6 - Event 2
DESCRIPTION:
URL:https://www.collectorcarguide.net/event/street-outlaws-no-prep-kings-season-6-event-2/
LOCATION:Virginia Motorsports Park\, 8018 Boydton Plank Rd\, Petersburg\, VA\, 23803\, United States
CATEGORIES:Motorsports
ATTACH;FMTTYPE=image/jpeg:https://www.collectorcarguide.net/wp-content/uploads/2023/02/IMG_8570.jpg
END:VEVENT
BEGIN:VEVENT
DTSTART;VALUE=DATE:20230609
DTEND;VALUE=DATE:20230610
DTSTAMP:20260420T104444
CREATED:20221230T152549Z
LAST-MODIFIED:20230524T171139Z
UID:27224-1686268800-1686355199@www.collectorcarguide.net
SUMMARY:35 MOD\, 35 VMOD\, 35 DS\, 25 UCAR\, 20 4/6c
DESCRIPTION:35 MOD\, 35 VMOD\, 35 DS\, 25 UCAR\, 20 4/6c more details at https://www.dominionraceway.com/oval-track-schedule \nLM-Late Model\, VAR-VA Racers\, MOD-Modified\, VMOD-VA Modified\, DS-Dominion Stocks\, 4/6c/8cyl-ANYCARS\, LEG-Legends\, MStock-Mini Stocks\, USAC-USAC Midgets\, MCUP-Mini Cup
URL:https://www.collectorcarguide.net/event/35-mod-35-vmod-35-ds-25-ucar-20-4-6c/
LOCATION:Dominion Raceway\, 6501 Dominion Raceway Avenue\, Thornburburg\, VA\, 22580\, United States
CATEGORIES:Motorsports
ATTACH;FMTTYPE=image/png:https://www.collectorcarguide.net/wp-content/uploads/2022/12/dominion_raceway.png
END:VEVENT
BEGIN:VEVENT
DTSTART;TZID=America/New_York:20230604T110000
DTEND;TZID=America/New_York:20230604T130000
DTSTAMP:20260420T104444
CREATED:20230330T190453Z
LAST-MODIFIED:20230330T190453Z
UID:28348-1685876400-1685883600@www.collectorcarguide.net
SUMMARY:Cars & Craft Brews
DESCRIPTION:
URL:https://www.collectorcarguide.net/event/cars-craft-brews-3/
LOCATION:Lone Oak Farm Brewing Co.\, 5000 Olney Laytonsville Rd\, Olney\, MD\, 20832\, United States
CATEGORIES:Cruise
END:VEVENT
BEGIN:VEVENT
DTSTART;TZID=America/New_York:20230604T100000
DTEND;TZID=America/New_York:20230604T140000
DTSTAMP:20260420T104444
CREATED:20230410T181914Z
LAST-MODIFIED:20230410T181914Z
UID:28475-1685872800-1685887200@www.collectorcarguide.net
SUMMARY:Hagerstown Cars & Coffee
DESCRIPTION:Come and Go Cruise-In
URL:https://www.collectorcarguide.net/event/hagerstown-cars-coffee-5/
LOCATION:Cushwa Brewery\, 10210 Governor Lane Rd\, Williamsport\, MD\, 21795\, United States
CATEGORIES:Cruise
ATTACH;FMTTYPE=image/jpeg:https://www.collectorcarguide.net/wp-content/uploads/2022/02/236796249_4406900979330943_1859075809372883214_n.jpg
END:VEVENT
BEGIN:VEVENT
DTSTART;TZID=America/New_York:20230604T090000
DTEND;TZID=America/New_York:20230604T140000
DTSTAMP:20260420T104444
CREATED:20230410T181914Z
LAST-MODIFIED:20230524T165742Z
UID:28474-1685869200-1685887200@www.collectorcarguide.net
SUMMARY:33rd Annual Appalachain Golden Classics Car & Truck Show
DESCRIPTION:Rain or Shine  Greg 717 765-4471
URL:https://www.collectorcarguide.net/event/33rd-annual-appalachain-golden-classics-car-truck-show/
LOCATION:Red Run Park\, 12143 Buchanan Trail E.\, Waynesboro\, PA\, 17268\, United States
CATEGORIES:Shows
END:VEVENT
BEGIN:VEVENT
DTSTART;TZID=America/New_York:20230603T163000
DTEND;TZID=America/New_York:20230603T210000
DTSTAMP:20260420T104444
CREATED:20230330T190452Z
LAST-MODIFIED:20230330T190452Z
UID:28347-1685809800-1685826000@www.collectorcarguide.net
SUMMARY:Lost In the 50's Cruise
DESCRIPTION:Join our Club
URL:https://www.collectorcarguide.net/event/lost-in-the-50s-cruise-10/
LOCATION:Marley Station Mall\, 7900 Ritchie Hwy\, Lot G\, Glen Burnie\, MD\, 21061\, United States
CATEGORIES:Cruise
ATTACH;FMTTYPE=image/jpeg:https://www.collectorcarguide.net/wp-content/uploads/2023/07/lost_in_the_50s.jpg
END:VEVENT
BEGIN:VEVENT
DTSTART;TZID=America/New_York:20230603T160000
DTEND;TZID=America/New_York:20230603T200000
DTSTAMP:20260420T104444
CREATED:20230410T181901Z
LAST-MODIFIED:20230410T181904Z
UID:28467-1685808000-1685822400@www.collectorcarguide.net
SUMMARY:Cruise-In Jimmy Cone
DESCRIPTION:Come and Go Cruise-In
URL:https://www.collectorcarguide.net/event/cruise-in-jimmy-cone-2/
LOCATION:Jimmie Cone\, 1312 S. Main St\, Mt. Airy\, MD\, 21771\, United States
CATEGORIES:Cruise
END:VEVENT
BEGIN:VEVENT
DTSTART;TZID=America/New_York:20230603T100000
DTEND;TZID=America/New_York:20230603T150000
DTSTAMP:20260420T104444
CREATED:20230410T181901Z
LAST-MODIFIED:20230524T165748Z
UID:28466-1685786400-1685804400@www.collectorcarguide.net
SUMMARY:2nd Annual St Paul's Church Car/Truck Show
DESCRIPTION:Rain D 6/4  Darla 301 471-3303
URL:https://www.collectorcarguide.net/event/2nd-annual-st-pauls-church-car-truck-show/
LOCATION:Myersville VFD\, 301 Main St\, Myersville\, MD\, 21773\, United States
CATEGORIES:Shows
END:VEVENT
BEGIN:VEVENT
DTSTART;TZID=America/New_York:20230603T090000
DTEND;TZID=America/New_York:20230603T140000
DTSTAMP:20260420T104444
CREATED:20230410T181901Z
LAST-MODIFIED:20230524T165753Z
UID:28465-1685782800-1685800800@www.collectorcarguide.net
SUMMARY:10th Annual Ranson Car & Truck Show
DESCRIPTION:Debbie McClure 304 724-3862
URL:https://www.collectorcarguide.net/event/10th-annual-ranson-car-truck-show/
LOCATION:Downtown Ranson\, 312 S. Mildred St\, Ranson\, WV\, 25438\, United States
CATEGORIES:Shows
END:VEVENT
BEGIN:VEVENT
DTSTART;TZID=America/New_York:20230603T080000
DTEND;TZID=America/New_York:20230603T160000
DTSTAMP:20260420T104444
CREATED:20230410T181859Z
LAST-MODIFIED:20230524T165758Z
UID:28464-1685779200-1685808000@www.collectorcarguide.net
SUMMARY:18th Annual Fredericksburg Car Fest
DESCRIPTION:Benefits First Responders\, https://fredericksburgcarfest.com
URL:https://www.collectorcarguide.net/event/18th-annual-fredericksburg-car-fest/
LOCATION:Marketplatz\, Hwy 16 & Main St.\, Fredericksburg\, TX\, 78624\, United States
CATEGORIES:Shows
END:VEVENT
BEGIN:VEVENT
DTSTART;VALUE=DATE:20230603
DTEND;VALUE=DATE:20230605
DTSTAMP:20260420T104444
CREATED:20230523T200259Z
LAST-MODIFIED:20230524T164251Z
UID:28848-1685750400-1685923199@www.collectorcarguide.net
SUMMARY:20% NEQ Club Discount for Greenwich Concours de Sport & Concours d’Elegance
DESCRIPTION:Just a quick email update here from your Social Event team to let you know that we have been able to arrange a special club discount for the Greenwich Concours de Sport and Concours d’Elegance Sat-Sun June 3-4. Use Discount Code AUDI-20 for 20% off General Admission tickets at the following site https://www.greenwichconcours.com/ \nSaturday 3 June\nGreenwich Concours de Sport\n9:00am – 3:00pm\n \nFeaturing a highly curated selection of the epitome of automotive style\, performance and innovation. Across 15 judged car classes\, enjoy some of the world’s most exciting automobiles at a concours for the next generation.\n \nWaterfront Party\n7:00pm – 9:30pm\n \nNew location\, same incredible car-party. Join the Grand Marshal\, entrants\, judges\, exhibitors\, sponsors and fellow car lovers to celebrate all things automotive. \n\nSunday 4 June \n\nGreenwich Concours d’Elegance\n10:00am – 4:00pm\n \nBuilding upon 27 years of excellence\, Sunday’s traditional Concours d’Elegance features 18 judged car classes including post-war American\, Italian and English automobiles\, a celebration of the storied Alfa Romeo brand\, Brass Era steam cars and automobiles transported from the dealerships of 1963.\n \nVisit https://www.greenwichconcours.com/ to buy general admission tickets\nClick the following link to see the 2023 Greenwich Concours d’Elegance event program.
URL:https://www.collectorcarguide.net/event/20-neq-club-discount-for-greenwich-concours-de-sport-concours-delegance/
CATEGORIES:Concours
ATTACH;FMTTYPE=image/png:https://www.collectorcarguide.net/wp-content/uploads/2023/05/unnamed-1.png
END:VEVENT
BEGIN:VEVENT
DTSTART;VALUE=DATE:20230603
DTEND;VALUE=DATE:20230604
DTSTAMP:20260420T104444
CREATED:20230530T195231Z
LAST-MODIFIED:20230530T195231Z
UID:29030-1685750400-1685836799@www.collectorcarguide.net
SUMMARY:Hooked On Driving Pocono Mega Course
DESCRIPTION:Pocono Mega Course is less than two weeks away.\nJoin us Saturday\, June 3rd\, for over 20 turns on 3.51 miles of flowing track. \nLime Rock Open Track Weekend\, June 9th & 10th. Four hours Friday & four hours Saturday WITHOUT SOUND RESTRICTIONS. (See Multiple IMSA teams practice Friday 5-6 pm) \nNJMP Open Tack Day Friday\, June 16th Solo Drivers\, Please Email KenE@hookedondriving.com if you are unsure if you qualify to run this event. \nClick for details or to register. 
URL:https://www.collectorcarguide.net/event/hooked-on-driving-pocono-mega-course/
LOCATION:Pocono Raceway\, 1234 Long Pond Rd\, Long Pond\, PA\, 18334\, United States
CATEGORIES:Motorsports
ATTACH;FMTTYPE=image/jpeg:https://www.collectorcarguide.net/wp-content/uploads/2022/03/hodne.jpg
ORGANIZER;CN="HookedOnDriving (NorthEast)":MAILTO:Northeast@hookedondriving.com
END:VEVENT
BEGIN:VEVENT
DTSTART;VALUE=DATE:20230603
DTEND;VALUE=DATE:20230604
DTSTAMP:20260420T104444
CREATED:20230406T135952Z
LAST-MODIFIED:20230524T165803Z
UID:28398-1685750400-1685836799@www.collectorcarguide.net
SUMMARY:The MOPAR Show @ VOLO MUSEUM
DESCRIPTION:
URL:https://www.collectorcarguide.net/event/the-mopar-show-volo-museum/
LOCATION:Volo Museum\, 27582 Volo Village Rd\, Volo\, IL\, 60073\, United States
CATEGORIES:Museum,Shows
ATTACH;FMTTYPE=image/jpeg:https://www.collectorcarguide.net/wp-content/uploads/2023/04/unnamed-4.jpg
ORGANIZER;CN="Volo Museum":MAILTO:jim@volofun.com
END:VEVENT
BEGIN:VEVENT
DTSTART;VALUE=DATE:20230603
DTEND;VALUE=DATE:20230604
DTSTAMP:20260420T104444
CREATED:20221230T152452Z
LAST-MODIFIED:20230524T171144Z
UID:27222-1685750400-1685836799@www.collectorcarguide.net
SUMMARY:35/35 VAR\, 35 MOD\, 35 VMOD\, 20/20 UCAR\, 20 4/6c\, 20 8cyl
DESCRIPTION:35/35 VAR\, 35 MOD\, 35 VMOD\, 20/20 UCAR\, 20 4/6c\, 20 8cyl more details at https://www.dominionraceway.com/oval-track-schedule \nLM-Late Model\, VAR-VA Racers\, MOD-Modified\, VMOD-VA Modified\, DS-Dominion Stocks\, 4/6c/8cyl-ANYCARS\, LEG-Legends\, MStock-Mini Stocks\, USAC-USAC Midgets\, MCUP-Mini Cup
URL:https://www.collectorcarguide.net/event/35-35-var-35-mod-35-vmod-20-20-ucar-20-4-6c-20-8cyl/
LOCATION:Dominion Raceway\, 6501 Dominion Raceway Avenue\, Thornburburg\, VA\, 22580\, United States
CATEGORIES:Motorsports
ATTACH;FMTTYPE=image/png:https://www.collectorcarguide.net/wp-content/uploads/2022/12/dominion_raceway.png
END:VEVENT
BEGIN:VEVENT
DTSTART;VALUE=DATE:20230602
DTEND;VALUE=DATE:20230605
DTSTAMP:20260420T104444
CREATED:20230509T152056Z
LAST-MODIFIED:20230509T152056Z
UID:28749-1685664000-1685923199@www.collectorcarguide.net
SUMMARY:Rennsport Dragon Rally
DESCRIPTION:At Rennsport Dragon Rally\, we work hard to bring you to the best driving roads in America\, which are here in the Great Smoky Mountains and the surrounding region! What better way to spend your weekend than driving your Porsche through the gorgeous mountains\, along with several other Porsche enthusiasts. \nThe Rennsport Dragon Rally was created to share all that is great with the Great Smoky Mountains; its roads\, people\, hospitality\, scenery\, the list goes on. We will look after you for a few days of great driving\, sharing good company\, and unlock some of the secrets of this very special place we call ‘home’ \nOur mission here is to bring you on a driving adventure like no other around the country. For this adventure we will be exploring the best back roads and some of the most gorgeous scenery our great country has to offer. \nAll of our events start and end at the Fontana Village Resort\, which is less than 10 miles from the Tail of the Dragon. Here\, we will have a group driver’s meeting\, providing a full walk-through of the drives to help orientate you on the journey. You will be given a comprehensive event guide describing in detail each of the drives and stops. Each event will be different\, but we will always have some special activities planned. We will stage the cars for the drives and there will be a tour guide / lead car to create a fully guided group experience. There will be little to no cell phone signal in these mountains\, so the group will communicate with FRS walkie-talkie radios. On the Rennsport Dragon Rally\, bring your car ready to drive\, as you will spend many hours on multiple days\, driving through the country roads of the Great Smoky Mountains! This event is all about the driving experience and the interaction between many fellow Porsche enthusiasts! \nWho attends these events? We have broad range of ages and backgrounds\, which makes for a fantastic dynamic of like minded people\, with a shared passion for Porsches. So it doesn’t matter if you pull a 918 Spyder Hypercar or 944 ChampCar out of the stable\, we are all here to enjoy these cars the way Ferdinand Porsche envisioned. See for yourself what all the hype is about\, and why so many people come from all over the world to experience the iconic Tail of the Dragon and these legendary Smoky Mountain roads! \nbrought to you by…
URL:https://www.collectorcarguide.net/event/rennsport-dragon-rally/
LOCATION:Tail of the Dragon\, US Hwy 129\, Maryville\, TN\, 37801\, United States
CATEGORIES:Cruise
ATTACH;FMTTYPE=image/jpeg:https://www.collectorcarguide.net/wp-content/uploads/2023/05/Rennsport-Color-Logo.jpg
END:VEVENT
BEGIN:VEVENT
DTSTART;VALUE=DATE:20230602
DTEND;VALUE=DATE:20230604
DTSTAMP:20260420T104444
CREATED:20230218T144812Z
LAST-MODIFIED:20230524T171147Z
UID:27824-1685664000-1685836799@www.collectorcarguide.net
SUMMARY:Street Outlaws\, No Prep Kings\, Season 6 - Event 1
DESCRIPTION:
URL:https://www.collectorcarguide.net/event/street-outlaws-no-prep-kings-season-6-event-1/
LOCATION:National Trail Raceway\, 2650 National Rd SW\, Hebron\, OH\, 43025\, United States
CATEGORIES:Motorsports
ATTACH;FMTTYPE=image/jpeg:https://www.collectorcarguide.net/wp-content/uploads/2023/02/IMG_8570.jpg
END:VEVENT
BEGIN:VEVENT
DTSTART;TZID=America/New_York:20230529T090000
DTEND;TZID=America/New_York:20230529T150000
DTSTAMP:20260420T104444
CREATED:20230313T204755Z
LAST-MODIFIED:20230524T165812Z
UID:28119-1685350800-1685372400@www.collectorcarguide.net
SUMMARY:7th Annual Littlestown Chapel Car/Truck & Motorcycle Show
DESCRIPTION:Tony 717 554-9547 Biggest Show in Area
URL:https://www.collectorcarguide.net/event/7th-annual-littlestown-chapel-car-truck-motorcycle-show/
LOCATION:Gettysburg Outlets\, 1863 Gettysburg Village Dr\, Gettysburg\, PA\, 17325\, United States
CATEGORIES:Shows
END:VEVENT
BEGIN:VEVENT
DTSTART;TZID=America/New_York:20230528T110000
DTEND;TZID=America/New_York:20230528T130000
DTSTAMP:20260420T104444
CREATED:20230330T190451Z
LAST-MODIFIED:20230330T190451Z
UID:28346-1685271600-1685278800@www.collectorcarguide.net
SUMMARY:Cars & Craft Brews
DESCRIPTION:
URL:https://www.collectorcarguide.net/event/cars-craft-brews-2/
LOCATION:Lone Oak Farm Brewing Co.\, 5000 Olney Laytonsville Rd\, Olney\, MD\, 20832\, United States
CATEGORIES:Cruise
END:VEVENT
BEGIN:VEVENT
DTSTART;TZID=America/New_York:20230528T090000
DTEND;TZID=America/New_York:20230528T120000
DTSTAMP:20260420T104444
CREATED:20230313T204755Z
LAST-MODIFIED:20230313T204755Z
UID:28118-1685264400-1685275200@www.collectorcarguide.net
SUMMARY:Frederick Elks Cruise-In
DESCRIPTION:Buffet Breakfast offered $12 HMCCC
URL:https://www.collectorcarguide.net/event/frederick-elks-cruise-in-2/
LOCATION:Frederick Elks Club\, 289 Willowdale Dr\, Frederick\, MD\, 21702\, United States
CATEGORIES:Cruise
END:VEVENT
BEGIN:VEVENT
DTSTART;TZID=America/New_York:20230528T080000
DTEND;TZID=America/New_York:20230528T130000
DTSTAMP:20260420T104444
CREATED:20230313T204755Z
LAST-MODIFIED:20230524T165820Z
UID:28120-1685260800-1685278800@www.collectorcarguide.net
SUMMARY:Street Survivors Memorial Day Car & Truck Show
DESCRIPTION:Diane 410 636-5212
URL:https://www.collectorcarguide.net/event/street-survivors-memorial-day-car-truck-show/
LOCATION:Elks Club- Severn\, 878 Stevenson Rd\, Severn\, MD\, 21144\, United States
CATEGORIES:Shows
END:VEVENT
BEGIN:VEVENT
DTSTART;TZID=America/New_York:20230527T163000
DTEND;TZID=America/New_York:20230527T210000
DTSTAMP:20260420T104444
CREATED:20230330T190450Z
LAST-MODIFIED:20230330T190450Z
UID:28345-1685205000-1685221200@www.collectorcarguide.net
SUMMARY:Lost In the 50's Cruise
DESCRIPTION:Join our Club
URL:https://www.collectorcarguide.net/event/lost-in-the-50s-cruise-9/
LOCATION:Marley Station Mall\, 7900 Ritchie Hwy\, Lot G\, Glen Burnie\, MD\, 21061\, United States
CATEGORIES:Cruise
ATTACH;FMTTYPE=image/jpeg:https://www.collectorcarguide.net/wp-content/uploads/2023/07/lost_in_the_50s.jpg
END:VEVENT
BEGIN:VEVENT
DTSTART;TZID=America/New_York:20230527T130000
DTEND;TZID=America/New_York:20230527T170000
DTSTAMP:20260420T104444
CREATED:20230313T204741Z
LAST-MODIFIED:20230524T165825Z
UID:28117-1685192400-1685206800@www.collectorcarguide.net
SUMMARY:Winchester Police Dept.
DESCRIPTION:Rain Date 5/28   Bob 540 303-0110
URL:https://www.collectorcarguide.net/event/winchester-police-dept/
LOCATION:Downtown Winchester\, Picadilly & Cameron Sts\, Winchester\, VA\, 22601\, United States
CATEGORIES:Shows
END:VEVENT
BEGIN:VEVENT
DTSTART;TZID=America/New_York:20230527T103000
DTEND;TZID=America/New_York:20230527T113000
DTSTAMP:20260420T104444
CREATED:20230410T181859Z
LAST-MODIFIED:20230410T181903Z
UID:28463-1685183400-1685187000@www.collectorcarguide.net
SUMMARY:Classic Motor Museum Memorial Day Parade
DESCRIPTION:Honors the service and sacrifice of our fallen military heroes.
URL:https://www.collectorcarguide.net/event/classic-motor-museum-memorial-day-parade/
CATEGORIES:Parade
END:VEVENT
BEGIN:VEVENT
DTSTART;TZID=America/New_York:20230527T100000
DTEND;TZID=America/New_York:20230527T140000
DTSTAMP:20260420T104444
CREATED:20230111T174413Z
LAST-MODIFIED:20230524T165832Z
UID:27428-1685181600-1685196000@www.collectorcarguide.net
SUMMARY:Corvette Car Show 2023
DESCRIPTION:You’re invited to the COOLEST Corvette Car Show in So Cal. \nGet your Corvettes ready for May 27\, 2023\, from 10 am till 2 pm. \nWho is going to take Best of Show this year? \nMake sure to pre register your car now! \nSonny with Route 99 will be ROCKING the house! So make sure to bring your dancing shoes! \nTo purchase your 10x10ft Vendor Space please purchase space below or email JaimeL@theADM.org for more details!
URL:https://www.collectorcarguide.net/event/corvette-car-show-2023/
LOCATION:Zimmerman Automobile Driving Museum\, 610 Lairport St\, El Segundo\, CA\, 90245\, United States
CATEGORIES:Shows
ATTACH;FMTTYPE=image/jpeg:https://www.collectorcarguide.net/wp-content/uploads/2023/01/2023-Corvette-Show-FLYER-v3-copy-scaled-1.jpg
END:VEVENT
BEGIN:VEVENT
DTSTART;TZID=America/New_York:20230527T090000
DTEND;TZID=America/New_York:20230527T160000
DTSTAMP:20260420T104444
CREATED:20230503T155320Z
LAST-MODIFIED:20230524T165837Z
UID:28692-1685178000-1685203200@www.collectorcarguide.net
SUMMARY:Maryland Mayhem Custom Car & Truck Show
DESCRIPTION:A car and truck show for everyone is coming to Westminster. Proceeds from the show will be donated to The Carroll County Humane Society.\nRegistration $20\, Spectators free.  Raffle tickets will be for sale for some pretty nice prizes.  For more information\, visit https://www.facebook.com/events/648587476723359 \n 
URL:https://www.collectorcarguide.net/event/maryland-mayhem-custom-car-truck-show/
LOCATION:Westminster Mall\, 400 N Center St\, Westminster\, MD\, 21157\, United States
CATEGORIES:Shows
ATTACH;FMTTYPE=image/jpeg:https://www.collectorcarguide.net/wp-content/uploads/2023/05/Maryland-Mayhem-Custom-Car-Truck-Show.jpg
END:VEVENT
BEGIN:VEVENT
DTSTART;VALUE=DATE:20230527
DTEND;VALUE=DATE:20230529
DTSTAMP:20260420T104444
CREATED:20230218T144022Z
LAST-MODIFIED:20230524T171156Z
UID:27811-1685145600-1685318399@www.collectorcarguide.net
SUMMARY:Southern WV SCCA - Season Opener
DESCRIPTION:May 27 & 28\, Season Opener Double Header
URL:https://www.collectorcarguide.net/event/southern-wv-scca-season-opener/
LOCATION:WVU Parkersburg\, 300 Campus Dr\, Parkersburg\, WV\, 26104\, United States
CATEGORIES:Motorsports
ATTACH;FMTTYPE=image/jpeg:https://www.collectorcarguide.net/wp-content/uploads/2023/02/IMG_8549.jpg
END:VEVENT
END:VCALENDAR