BEGIN:VCALENDAR
VERSION:2.0
PRODID:-//Collector Car Guide - ECPv6.15.20//NONSGML v1.0//EN
CALSCALE:GREGORIAN
METHOD:PUBLISH
X-WR-CALNAME:Collector Car Guide
X-ORIGINAL-URL:https://www.collectorcarguide.net
X-WR-CALDESC:Events for Collector Car Guide
REFRESH-INTERVAL;VALUE=DURATION:PT1H
X-Robots-Tag:noindex
X-PUBLISHED-TTL:PT1H
BEGIN:VTIMEZONE
TZID:America/New_York
BEGIN:DAYLIGHT
TZOFFSETFROM:-0500
TZOFFSETTO:-0400
TZNAME:EDT
DTSTART:20220313T070000
END:DAYLIGHT
BEGIN:STANDARD
TZOFFSETFROM:-0400
TZOFFSETTO:-0500
TZNAME:EST
DTSTART:20221106T060000
END:STANDARD
BEGIN:DAYLIGHT
TZOFFSETFROM:-0500
TZOFFSETTO:-0400
TZNAME:EDT
DTSTART:20230312T070000
END:DAYLIGHT
BEGIN:STANDARD
TZOFFSETFROM:-0400
TZOFFSETTO:-0500
TZNAME:EST
DTSTART:20231105T060000
END:STANDARD
BEGIN:DAYLIGHT
TZOFFSETFROM:-0500
TZOFFSETTO:-0400
TZNAME:EDT
DTSTART:20240310T070000
END:DAYLIGHT
BEGIN:STANDARD
TZOFFSETFROM:-0400
TZOFFSETTO:-0500
TZNAME:EST
DTSTART:20241103T060000
END:STANDARD
END:VTIMEZONE
BEGIN:VEVENT
DTSTART;VALUE=DATE:20230625
DTEND;VALUE=DATE:20230626
DTSTAMP:20260420T074455
CREATED:20230201T004216Z
LAST-MODIFIED:20230524T171046Z
UID:27640-1687651200-1687737599@www.collectorcarguide.net
SUMMARY:WDCR SCCA AutoCross - Level 2 School
DESCRIPTION:
URL:https://www.collectorcarguide.net/event/wdcr-scca-autocross-level-2-school/
LOCATION:Summit Point Motorsports Park\, 201 Motorsports Circle\, Summit Point\, WV\, 25446\, United States
CATEGORIES:Motorsports
ATTACH;FMTTYPE=image/jpeg:https://www.collectorcarguide.net/wp-content/uploads/2023/01/wdcrsccasolo.jpg
ORGANIZER;CN="WDCR SCCA Solo Chair":MAILTO:solochair@wdcr-scca.org
END:VEVENT
BEGIN:VEVENT
DTSTART;TZID=America/New_York:20230624T210000
DTEND;TZID=America/New_York:20230624T210000
DTSTAMP:20260420T074455
CREATED:20230410T181959Z
LAST-MODIFIED:20230622T163943Z
UID:28490-1687640400-1687640400@www.collectorcarguide.net
SUMMARY:Rocking Chair Nats Car & Truck Show
DESCRIPTION:Rain Date 6/25 Gary 540 439 3558
URL:https://www.collectorcarguide.net/event/rocking-chair-nats-car-truck-show/
LOCATION:Mason-Dixon Dragway\, 21344 National Pike\, Boonsboro\, MD\, 21713\, United States
CATEGORIES:Shows
END:VEVENT
BEGIN:VEVENT
DTSTART;TZID=America/New_York:20230624T163000
DTEND;TZID=America/New_York:20230624T210000
DTSTAMP:20260420T074455
CREATED:20230615T191352Z
LAST-MODIFIED:20230615T191352Z
UID:29103-1687624200-1687640400@www.collectorcarguide.net
SUMMARY:Lost In the 50's
DESCRIPTION:
URL:https://www.collectorcarguide.net/event/lost-in-the-50s-2/
LOCATION:Marley Station Mall\, 7900 Ritchie Hwy\, Lot G\, Glen Burnie\, MD\, 21061\, United States
CATEGORIES:Cruise
ATTACH;FMTTYPE=image/jpeg:https://www.collectorcarguide.net/wp-content/uploads/2023/07/lost_in_the_50s.jpg
END:VEVENT
BEGIN:VEVENT
DTSTART;VALUE=DATE:20230624
DTEND;VALUE=DATE:20230626
DTSTAMP:20260420T074455
CREATED:20230218T144200Z
LAST-MODIFIED:20230524T171043Z
UID:27816-1687564800-1687737599@www.collectorcarguide.net
SUMMARY:Southern WV SCCA - Great Lakes Divisional Weekend
DESCRIPTION:June 24 & 25\, Great Lakes Divisional Weekend
URL:https://www.collectorcarguide.net/event/southern-wv-scca-great-lakes-divisional-weekend/
LOCATION:WVU Parkersburg\, 300 Campus Dr\, Parkersburg\, WV\, 26104\, United States
CATEGORIES:Motorsports
ATTACH;FMTTYPE=image/jpeg:https://www.collectorcarguide.net/wp-content/uploads/2023/02/IMG_8549.jpg
END:VEVENT
BEGIN:VEVENT
DTSTART;VALUE=DATE:20230624
DTEND;VALUE=DATE:20230626
DTSTAMP:20260420T074455
CREATED:20230113T122123Z
LAST-MODIFIED:20230530T190524Z
UID:27465-1687564800-1687737599@www.collectorcarguide.net
SUMMARY:WDCR SCCA - HPDE/TT #6 - Dominion Raceway
DESCRIPTION:Join the Washington DC Region SCCA for our Track Event (HPDE) and Time Trial June 24 – 25\, 2023\, at Dominion Raceway. Track Days (HPDE) and Time Trials will run both days\, with Track Event (HPDE) classes for Novice\, Intermediate\, and Advanced drivers. Time Trials are open to street-licensed and “closed-wheel” race cars.\n \nDominion Raceway Entry Fees:\nOne-day Track Day (HPDE) or Time Trial $ 295\nTwo-day Track Day (HPDE) or Time Trial  $ 420\nInstructors who wish to participate in Time Trials $25\nAn “All You Can Eat” option – Entry into both an Advanced Track Day (HPDE) group and Time Trial\nAYCE – 1-Day    $ 395\nAYCE – 2-Day    $ 495\n \nWant your helmet custom painted for free?  One lucky participant and one lucky instructor will receive this opportunity. Enter one or all of the Dominion events for this opportunity. Each day of participation gets you one chance\, for a total of eight chances. Work one\, get one participants will receive one chance per event. Drawing to be held 9/24/23.\n\n \n\n\n\nGreetings Track Day Folks!\nBelow is the complete list of events for 2023.\nTrack Day Events will be hosted at Summit Point Motorsports Park on all 3 Circuits and at Dominion Raceway in Thornburg\, Virginia!\n \nPlease visit our website for more information or if you are new to these events.\nRegistration opened early this week for Track Event #1 on the Summit Point\, Main Circuit. Keep an eye out for registration openings for events #2 and #3!\n \n2023 Schedule:\n\nMarch 4-5 – HPDE/TT #1 – Summit Point\, Main Circuit\nMarch 25-26 – HPDE/TT #2 – Instructor Clinic Summit Point\, Shenandoah Circuit\nApril 8-9 – HPDE/TT #3 – Dominion Raceway\nApril 28-30 – HPDE/TT #4 – Summit Point\, Main Circuit\nMay 20-21 – HPDE/TT #5 – Dominion Raceway\nJune 24-25 – HPDE/TT #6 – Dominion Raceway\nJuly 15-16 – HPDE Only #7 – Summit Point\, Shenandoah Circuit\nAugust 19-20 – HPDE Only #8 – Summit Point\, Shenandoah Circuit\nSeptember 9-10 – HPDE/TT #9 – Summit Point\, Shenandoah Circuit\nSeptember 23-24 – HPDE/TT #10 – Dominion Raceway\nOctober 14-15 – HPDE/TT #11 – Summit Point\, Jefferson Circuit
URL:https://www.collectorcarguide.net/event/wdcr-scca-hpde-tt-6-dominion-raceway/
LOCATION:Dominion Raceway\, 6501 Dominion Raceway Avenue\, Thornburburg\, VA\, 22580\, United States
CATEGORIES:Motorsports
ATTACH;FMTTYPE=image/png:https://www.collectorcarguide.net/wp-content/uploads/2022/03/wdcr_scca.png
ORGANIZER;CN="WDCR SCCA":MAILTO:cluboffice@wdcr-scca.org
END:VEVENT
BEGIN:VEVENT
DTSTART;VALUE=DATE:20230624
DTEND;VALUE=DATE:20230625
DTSTAMP:20260420T074455
CREATED:20230201T002453Z
LAST-MODIFIED:20230524T171055Z
UID:27616-1687564800-1687651199@www.collectorcarguide.net
SUMMARY:BMWCCA NCC AutoCross Points #2
DESCRIPTION:
URL:https://www.collectorcarguide.net/event/bmwcca-ncc-autocross-points-2/
CATEGORIES:Motorsports
ATTACH;FMTTYPE=image/jpeg:https://www.collectorcarguide.net/wp-content/uploads/2023/01/IMG_8485.jpg
END:VEVENT
BEGIN:VEVENT
DTSTART;VALUE=DATE:20230624
DTEND;VALUE=DATE:20230625
DTSTAMP:20260420T074455
CREATED:20221230T152818Z
LAST-MODIFIED:20230524T171059Z
UID:27230-1687564800-1687651199@www.collectorcarguide.net
SUMMARY:60/60 LM\, 35 MOD\, 35 VMOD\, 35 DS\, 25 MStock\, 25 MCUP
DESCRIPTION:60/60 LM\, 35 MOD\, 35 VMOD\, 35 DS\, 25 MStock\, 25 MCUP more details at https://www.dominionraceway.com/oval-track-schedule \nLM-Late Model\, VAR-VA Racers\, MOD-Modified\, VMOD-VA Modified\, DS-Dominion Stocks\, 4/6c/8cyl-ANYCARS\, LEG-Legends\, MStock-Mini Stocks\, USAC-USAC Midgets\, MCUP-Mini Cup
URL:https://www.collectorcarguide.net/event/60-60-lm-35-mod-35-vmod-35-ds-25-mstock-25-mcup/
LOCATION:Dominion Raceway\, 6501 Dominion Raceway Avenue\, Thornburburg\, VA\, 22580\, United States
CATEGORIES:Motorsports
ATTACH;FMTTYPE=image/png:https://www.collectorcarguide.net/wp-content/uploads/2022/12/dominion_raceway.png
END:VEVENT
BEGIN:VEVENT
DTSTART;TZID=America/New_York:20230623T130000
DTEND;TZID=America/New_York:20230623T200000
DTSTAMP:20260420T074455
CREATED:20230410T181959Z
LAST-MODIFIED:20230410T181959Z
UID:28489-1687525200-1687550400@www.collectorcarguide.net
SUMMARY:Markets at Shrewsbury Cruise-In
DESCRIPTION:Rain Date Following Friday
URL:https://www.collectorcarguide.net/event/markets-at-shrewsbury-cruise-in-8/
CATEGORIES:Cruise
ATTACH;FMTTYPE=image/jpeg:https://www.collectorcarguide.net/wp-content/uploads/2021/02/Markets-At-Shrewsbury-Logo.jpg
END:VEVENT
BEGIN:VEVENT
DTSTART;VALUE=DATE:20230623
DTEND;VALUE=DATE:20230626
DTSTAMP:20260420T074455
CREATED:20230530T191414Z
LAST-MODIFIED:20230530T191414Z
UID:29008-1687478400-1687737599@www.collectorcarguide.net
SUMMARY:American Historic Motorcycle Association (Racing) - Vintage Festival
DESCRIPTION:
URL:https://www.collectorcarguide.net/event/american-historic-motorcycle-association-racing-vintage-festival/
LOCATION:New Jersey Motorsports Park (NJMP)\, 8000 Dividing Creek Road\, Millville\, NJ\, 08332\, United States
CATEGORIES:Motorsports
ATTACH;FMTTYPE=image/png:https://www.collectorcarguide.net/wp-content/uploads/2023/05/njmp3.png
END:VEVENT
BEGIN:VEVENT
DTSTART;VALUE=DATE:20230623
DTEND;VALUE=DATE:20230626
DTSTAMP:20260420T074455
CREATED:20230509T152355Z
LAST-MODIFIED:20230509T152659Z
UID:28753-1687478400-1687737599@www.collectorcarguide.net
SUMMARY:///Mvading the Dragon
DESCRIPTION:Mvading the Dragon is a gathering of BMW fanatics from all around the country\, who want to drive their Ultimate Driving Machines like Munich intended. The Tail of the Dragon and other roads in the area\, are widely considered to be bucket list drives and some of the best in the world. Come join some locals who have spent countless hours on these roads\, enjoy a weekend in the gorgeous Smoky Mountains\, and check taming the Tail of the Dragon off of your bucket list! \nbrought to you by…
URL:https://www.collectorcarguide.net/event/mvading-the-dragon/
LOCATION:Tail of the Dragon\, US Hwy 129\, Maryville\, TN\, 37801\, United States
CATEGORIES:Cruise
ATTACH;FMTTYPE=image/jpeg:https://www.collectorcarguide.net/wp-content/uploads/2023/05/Mvading-Logo-2.jpg
ORGANIZER;CN="Mvading the Dragon":MAILTO:mvadingthedragon@gmail.com
END:VEVENT
BEGIN:VEVENT
DTSTART;VALUE=DATE:20230623
DTEND;VALUE=DATE:20230625
DTSTAMP:20260420T074455
CREATED:20230218T145459Z
LAST-MODIFIED:20230524T171106Z
UID:27835-1687478400-1687651199@www.collectorcarguide.net
SUMMARY:Street Outlaws\, No Prep Kings\, Season 6 - Event 4
DESCRIPTION:
URL:https://www.collectorcarguide.net/event/street-outlaws-no-prep-kings-season-6-event-4/
LOCATION:Beech Bend Raceway\, 798 Beech Bend Rd\, Richardsville\, KY\, 42101\, United States
CATEGORIES:Motorsports
ATTACH;FMTTYPE=image/jpeg:https://www.collectorcarguide.net/wp-content/uploads/2023/02/IMG_8570.jpg
END:VEVENT
BEGIN:VEVENT
DTSTART;VALUE=DATE:20230623
DTEND;VALUE=DATE:20230625
DTSTAMP:20260420T074455
CREATED:20221010T162850Z
LAST-MODIFIED:20231214T164316Z
UID:26465-1687478400-1687651199@www.collectorcarguide.net
SUMMARY:35th Anniversary Mid-Atlantic Chevelle Show
DESCRIPTION:Hosted by the Maryland Chevelle Club.  Open to 1964-1987 Chevelles\, Malibus\, Lagunas\, Beaumonts\, El Caminos and GMC Sprints.  Weekend event includes Chevelle Evaluations\, Participant judging and tunes by DR Kra-z.  Vendor spaces $5- 10\, Car Corral (sell a car)- $10 – 15
URL:https://www.collectorcarguide.net/event/mid-atlantic-chevelle-show/
LOCATION:North East Community Park\, 106 South Main St\, North East\, MD\, 21901\, United States
CATEGORIES:Shows
ATTACH;FMTTYPE=image/jpeg:https://www.collectorcarguide.net/wp-content/uploads/2022/10/IMG_8164-scaled-1.jpg
ORGANIZER;CN="Maryland Chevelle Club":MAILTO:mcc@mdchevelleclub.com
END:VEVENT
BEGIN:VEVENT
DTSTART;TZID=America/New_York:20230618T100000
DTEND;TZID=America/New_York:20230618T153000
DTSTAMP:20260420T074455
CREATED:20230410T181945Z
LAST-MODIFIED:20230410T181945Z
UID:28488-1687082400-1687102200@www.collectorcarguide.net
SUMMARY:Cruise For Kidz
DESCRIPTION:Rain Date    Jon 240 452-5559
URL:https://www.collectorcarguide.net/event/cruise-for-kidz-3/
LOCATION:Shafer Park\, 37 Park Dr\, Boonsboro\, MD\, 21713\, United States
CATEGORIES:Shows
END:VEVENT
BEGIN:VEVENT
DTSTART;TZID=America/New_York:20230618T100000
DTEND;TZID=America/New_York:20230618T153000
DTSTAMP:20260420T074455
CREATED:20230307T151123Z
LAST-MODIFIED:20230524T165618Z
UID:28067-1687082400-1687102200@www.collectorcarguide.net
SUMMARY:Sully Antique Car Show
DESCRIPTION:June 18\, 2023 is not only Father’s Day\, it is the 48th Sully Antique Car Show\, which is jointly sponsored by the GW Chapter\, Inc.\, MAFCA/MARC\, and the Fairfax County Park Authority. The show is to be held 10:00 am – 3:30 pm at the Sully Historic Site\, at 3650 Historic Sully Way\, Chantilly\, VA 20151.Bring your old car to show (pre-1997) for $10 (if pre-registered by June 15) and you will have a good chance for a trophy\, because there are thirty show classes with 1st\, 2nd\, and 3rd place trophies\, as well as trophies for Best in Show and another for the favorite of the Sully Staff. Or\, just bring yourself and your family to enjoy the show where you will see approximately 350 classic and antique cars\, a Car Corral\, special displays including Hit ‘n Miss engines and a “take-apart Model T Ford\,” a flea market\, a selection of food vendors\, a kids’ tent with amusements including free coloring books\, live music from two bands\, and a Century Car Display of cars at least 100 years old. Tours of the first floor of the historic house are included with the price of admission\, which is $12 for adults\, $10 for seniors and $8 for children. Trophies will be awarded to the winners at 3:00 pm. Registration information will be posted on GWCModelA.com beginning in April.
URL:https://www.collectorcarguide.net/event/sully-antique-car-show-2/
LOCATION:Sully Historic Site\, 3650 Historic Sully Way\, Chantilly\, VA\, 20151\, United States
CATEGORIES:Shows
ATTACH;FMTTYPE=image/jpeg:https://www.collectorcarguide.net/wp-content/uploads/2023/03/Sully-Show.jpg
ORGANIZER;CN="Ford Model T GW Chapter%2C Inc.":MAILTO:sullyinfo@gwcmodela.com
END:VEVENT
BEGIN:VEVENT
DTSTART;TZID=America/New_York:20230618T090000
DTEND;TZID=America/New_York:20230618T150000
DTSTAMP:20260420T074455
CREATED:20230410T181945Z
LAST-MODIFIED:20230524T165627Z
UID:28487-1687078800-1687100400@www.collectorcarguide.net
SUMMARY:31st Annual Liberty Street Rods Car & Motorcycle Show
DESCRIPTION:Join Liberty Street Rods as we celebrate our 31st Annual Car & Motorcycle Show\, Sunday June 18\, 2023 at Gamber & Community Fire Company! Bring your street rod\, custom cruiser\, exotic sports car and motorcycles for a day of fun\, food\, music and friends!\nWe are serving a free breakfast in the morning from 8:30-9:30 for all participants! Food will be available throughout the day for purchase\, along with assorted beverages and beer! Cindy Miller Band will be performing LIVE from 11-2! Bring your chairs\, friends and family for a great concert at the car show! \nRegistration for the show is $25. Judging will begin at 1pm. Various categories for both cars and bikes. First 100 cars receive free Dash Plaque! Vendor Midway will be open all day. This event is presented by Chesapeake Automotive Storage and Detailing! Portion of proceeds will benefit the Blue Valor Foundation. The Blue Valor Foundation assists families of Maryland Fallen Law Enforcement Officers and their children. Hope to see you there!  For more information\, contact Chesapeake Automotive Storage & Detailing or call 443-472-8410.
URL:https://www.collectorcarguide.net/event/31st-annual-liberty-street-rods-car-truck-show/
LOCATION:Gamber VFD\, 3838 Niner Rd\, Finksburg\, MD\, 21048\, United States
CATEGORIES:Shows
ATTACH;FMTTYPE=image/jpeg:https://www.collectorcarguide.net/wp-content/uploads/2023/04/Liberty-Street-Rods-Car-Show-Flyer.jpg
ORGANIZER;CN="Chesapeake Automotive Storage & Detailing":MAILTO:tjstetson@chesapeakestorageanddetail.com
END:VEVENT
BEGIN:VEVENT
DTSTART;TZID=America/New_York:20230618T080000
DTEND;TZID=America/New_York:20230618T140000
DTSTAMP:20260420T074455
CREATED:20230615T191351Z
LAST-MODIFIED:20230615T191351Z
UID:29102-1687075200-1687096800@www.collectorcarguide.net
SUMMARY:Fathers Day Charity Car Show
DESCRIPTION:540-270-9051\, https://carshowpro.com/events/view/1288
URL:https://www.collectorcarguide.net/event/fathers-day-charity-car-show/
LOCATION:Warrenton American Legion Post 72\, 345 Legion Dr.\, Warrenton\, VA\, 20186\, United States
CATEGORIES:Shows
END:VEVENT
BEGIN:VEVENT
DTSTART;TZID=America/New_York:20230617T210000
DTEND;TZID=America/New_York:20230617T210000
DTSTAMP:20260420T074455
CREATED:20230410T181944Z
LAST-MODIFIED:20230524T165632Z
UID:28484-1687035600-1687035600@www.collectorcarguide.net
SUMMARY:Waynesboro Days Car & Truck Show
DESCRIPTION:Rain or Shine  717 762-0397
URL:https://www.collectorcarguide.net/event/waynesboro-days-car-truck-show/
LOCATION:Town of Waynesboro\, Main St\, Waynesboro\, PA\, 17268\, United States
CATEGORIES:Shows
END:VEVENT
BEGIN:VEVENT
DTSTART;TZID=America/New_York:20230617T210000
DTEND;TZID=America/New_York:20230617T210000
DTSTAMP:20260420T074455
CREATED:20230410T181930Z
LAST-MODIFIED:20230524T165637Z
UID:28483-1687035600-1687035600@www.collectorcarguide.net
SUMMARY:Cooptown Car & Truck Show
DESCRIPTION:Rain Date 6/18 12N-4pm  410 937-6866
URL:https://www.collectorcarguide.net/event/cooptown-car-truck-show-3/
CATEGORIES:Shows
END:VEVENT
BEGIN:VEVENT
DTSTART;TZID=America/New_York:20230617T210000
DTEND;TZID=America/New_York:20230617T210000
DTSTAMP:20260420T074455
CREATED:20230410T181929Z
LAST-MODIFIED:20230524T165648Z
UID:28481-1687035600-1687035600@www.collectorcarguide.net
SUMMARY:26th Annual Jefferson Ruritan Car & Truck Show
DESCRIPTION:Rain or Shine John 301 991-1033
URL:https://www.collectorcarguide.net/event/26th-annual-jefferson-ruritan-car-truck-show/
LOCATION:Jefferson VFD\, 4603 Lander Rd\, Jefferson\, MD\, 21755\, United States
CATEGORIES:Shows
END:VEVENT
BEGIN:VEVENT
DTSTART;TZID=America/New_York:20230617T210000
DTEND;TZID=America/New_York:20230617T210000
DTSTAMP:20260420T074455
CREATED:20230410T181929Z
LAST-MODIFIED:20230524T165642Z
UID:28480-1687035600-1687035600@www.collectorcarguide.net
SUMMARY:McSherrystown Fish & Game Pig Roast Car & Truck Show
DESCRIPTION:2 Eat for $30 Ray 717 624-2668
URL:https://www.collectorcarguide.net/event/mcsherrystown-fish-game-pig-roast-car-truck-show/
CATEGORIES:Shows
END:VEVENT
BEGIN:VEVENT
DTSTART;TZID=America/New_York:20230617T163000
DTEND;TZID=America/New_York:20230617T210000
DTSTAMP:20260420T074455
CREATED:20230615T191350Z
LAST-MODIFIED:20230615T191350Z
UID:29101-1687019400-1687035600@www.collectorcarguide.net
SUMMARY:Lost In the 50's
DESCRIPTION:
URL:https://www.collectorcarguide.net/event/lost-in-the-50s/
LOCATION:Marley Station Mall\, 7900 Ritchie Hwy\, Lot G\, Glen Burnie\, MD\, 21061\, United States
CATEGORIES:Cruise
ATTACH;FMTTYPE=image/jpeg:https://www.collectorcarguide.net/wp-content/uploads/2023/07/lost_in_the_50s.jpg
END:VEVENT
BEGIN:VEVENT
DTSTART;TZID=America/New_York:20230617T160000
DTEND;TZID=America/New_York:20230617T200000
DTSTAMP:20260420T074455
CREATED:20230410T181945Z
LAST-MODIFIED:20230410T181945Z
UID:28486-1687017600-1687032000@www.collectorcarguide.net
SUMMARY:Cruise-In Jimmy Cone
DESCRIPTION:Come and Go Cruise-In
URL:https://www.collectorcarguide.net/event/cruise-in-jimmy-cone-3/
LOCATION:Jimmie Cone\, 1312 S. Main St\, Mt. Airy\, MD\, 21771\, United States
CATEGORIES:Cruise
END:VEVENT
BEGIN:VEVENT
DTSTART;TZID=America/New_York:20230617T160000
DTEND;TZID=America/New_York:20230617T190000
DTSTAMP:20260420T074455
CREATED:20230410T181930Z
LAST-MODIFIED:20230524T165653Z
UID:28482-1687017600-1687028400@www.collectorcarguide.net
SUMMARY:14th Annual Matthews Tire Community Car Show
DESCRIPTION:Rain Date 6/18.  All proceeds donated to Northeast Social Action Program.  For more information\, see attached flyer or call 410 374-4844
URL:https://www.collectorcarguide.net/event/10th-annual-matthews-tire-co/
LOCATION:Matthews Tire Co\, 1219 N. Main St\, Hampstead\, MD\, 21074\, United States
CATEGORIES:Shows
ATTACH;FMTTYPE=application/pdf:https://www.collectorcarguide.net/wp-content/uploads/2023/04/2023-Matthews-Tire-Car-Show-Flyer.pdf
END:VEVENT
BEGIN:VEVENT
DTSTART;TZID=America/New_York:20230617T120000
DTEND;TZID=America/New_York:20230617T160000
DTSTAMP:20260420T074455
CREATED:20230222T141430Z
LAST-MODIFIED:20230524T165700Z
UID:27924-1687003200-1687017600@www.collectorcarguide.net
SUMMARY:The American Legion Post 168 Car Show
DESCRIPTION:
URL:https://www.collectorcarguide.net/event/the-american-legion-post-168-car-show/
LOCATION:Thurmont American Legion Post 168\, 8 Park Lane\, Thurmont\, MD\, 21788\, United States
CATEGORIES:Shows
ATTACH;FMTTYPE=image/jpeg:https://www.collectorcarguide.net/wp-content/uploads/2023/02/332858819_6053513124738910_7688200352509799958_n.jpg
END:VEVENT
BEGIN:VEVENT
DTSTART;TZID=America/New_York:20230617T110000
DTEND;TZID=America/New_York:20230617T160000
DTSTAMP:20260420T074455
CREATED:20230615T191349Z
LAST-MODIFIED:20230615T191349Z
UID:29100-1686999600-1687017600@www.collectorcarguide.net
SUMMARY:Love the Lake Car Show
DESCRIPTION:541-872-4180\,  https://pleasantslanding.com/car-shows-and-contests/
URL:https://www.collectorcarguide.net/event/love-the-lake-car-show/
LOCATION:Pleasants Landing at Lake Anna\, 349 Pleasants Landing Rd.\, Bumpass\, VA\, 23024\, United States
CATEGORIES:Shows
END:VEVENT
BEGIN:VEVENT
DTSTART;TZID=America/New_York:20230617T100000
DTEND;TZID=America/New_York:20230617T150000
DTSTAMP:20260420T074455
CREATED:20230410T181944Z
LAST-MODIFIED:20230410T181944Z
UID:28485-1686996000-1687014000@www.collectorcarguide.net
SUMMARY:Thunder on the River
DESCRIPTION:Rain or Shine Lions Club 717 715-3592
URL:https://www.collectorcarguide.net/event/thunder-on-the-river-4/
LOCATION:Downtown Columbia\, PA\, 102 Locust St\, Columbia\, PA\, 17512\, United States
CATEGORIES:Shows
END:VEVENT
BEGIN:VEVENT
DTSTART;VALUE=DATE:20230617
DTEND;VALUE=DATE:20230618
DTSTAMP:20260420T074455
CREATED:20230530T192106Z
LAST-MODIFIED:20230530T192252Z
UID:29020-1686960000-1687046399@www.collectorcarguide.net
SUMMARY:"Lost in Maryland" Spring GTA 2023 Rally
DESCRIPTION:Please join the Washington DC Region\, SCCA\, for our Spring GTA Rally\, “Lost in Maryland\,” on Saturday\, June 17th\, 2023\n \nStart your summer season enjoying a rally trek through the hills\, valleys\, and mountains of north central Maryland and southern Pennsylvania with your fellow SCCA members. \n \nWe will start in the historic city of Frederick from the parking lot of the Trinity Recreation Center of Frederick\, located right off Interstate 70 at 6040 New Design Road\, and end our travels at a winery in the Thurmont area of Frederick County.\n \nAlong the way\, you will visit several points of interest in Frederick and Washington counties in Maryland and Adams County in Pennsylvania. About 175 miles will be covered in the 5-hour tour.\n \nFor more information and to register\, click the link below.
URL:https://www.collectorcarguide.net/event/lost-in-maryland-spring-gta-2023-rally/
CATEGORIES:Motorsports
ATTACH;FMTTYPE=image/jpeg:https://www.collectorcarguide.net/wp-content/uploads/2023/05/unnamed-7.jpg
ORGANIZER;CN="WDCR SCCA":MAILTO:cluboffice@wdcr-scca.org
END:VEVENT
BEGIN:VEVENT
DTSTART;VALUE=DATE:20230617
DTEND;VALUE=DATE:20230618
DTSTAMP:20260420T074455
CREATED:20230509T151346Z
LAST-MODIFIED:20230509T153554Z
UID:28733-1686960000-1687046399@www.collectorcarguide.net
SUMMARY:Smoky Mountain Driving Tours
DESCRIPTION:At Smoky Mountain Drives we organize driving adventures where like minded car enthusiasts can drive through the gorgeous scenery and amazing roads of the Great Smoky Mountains\, all while enjoying great company! The roads of Eastern Tennessee and Western North Carolina are destination drives where people travel from all over the world to explore this region. All of the major exotic car rallies have made this area their drive destination\, as well as iconic manufacturers such as Lamborghini\, Porsche and even Pagani. Being local to these Great Smoky Mountains allow us to provide value packed events where car enthusiasts from a variety of backgrounds are treated to driving events that are second to none! On our drives\, there is nothing else to think about. We have done the planning\, the route selection\, the driving notes\, identified fuel stops\, found fantastic hotels and eating spots! All you need to do is show up and be prepared to drive!.\nPRIVATE DRIVING TOURS\nIs it your first time visiting the Tail of the Dragon or Smoky Mountain region? Don’t just drive around blindly in an unfamiliar area\, we can help you make the most of your trip with a guided drive. Let us set up a Private Driving Tour just for you\, where we guide you through the legendary roads of the area\, but also help avoid the heavy traffic and show you some hidden gems that only locals know about. \nGROUP DRIVING TOURS\nIs your group new to the Tail of the Dragon or Smoky Mountain region? We can host your Bachelor Party\, Birthday Party\, or Corporate Event to provide an experience unlike any other! We are now hosting small group drives where lodging\, food\, and drinks are included; you just arrive with your car and we have everything taken care of. Your group will stay together at a great Smoky Mountain venue\, providing an intimate experience with your car enthusiast friends that you will never forget! \nCAR CLUB DRIVING TOURS\nAre you wanting to bring your car club to the Tail of the Dragon\, but don’t know the area? Have locals plan your drive or event and take all the stress off of your group\, while providing a better quality experience for all. We have hosted events and guided drives for Private Car Clubs\, Porsche clubs\, Corvette clubs\, Mustang Clubs\, Exotic Car clubs\, BMW clubs and many more! We have more experience hosting driving events than anyone in the area\, have the knowledge of these iconic roads that few possess\, have elite driving ability to cater to any group\, and partnerships throughout the area that only locals can provide. \nbrought to you by…
URL:https://www.collectorcarguide.net/event/smokey-mountain-driving-tours-4/
LOCATION:Tail of the Dragon\, US Hwy 129\, Maryville\, TN\, 37801\, United States
CATEGORIES:Cruise
ATTACH;FMTTYPE=image/jpeg:https://www.collectorcarguide.net/wp-content/uploads/2023/05/SMD-jpeg-horizontal-logo--scaled.jpg
ORGANIZER;CN="Smoky Mountain Drives":MAILTO:smokymountaindrives@gmail.com
END:VEVENT
BEGIN:VEVENT
DTSTART;VALUE=DATE:20230617
DTEND;VALUE=DATE:20230618
DTSTAMP:20260420T074455
CREATED:20221230T152728Z
LAST-MODIFIED:20230524T171111Z
UID:27228-1686960000-1687046399@www.collectorcarguide.net
SUMMARY:CARS TOUR\, 35/35 VAR\, 25 UCAR\, 25 Southern GP
DESCRIPTION:CARS TOUR\, 35/35 VAR\, 25 UCAR\, 25 Southern GP more details at https://www.dominionraceway.com/oval-track-schedule \nLM-Late Model\, VAR-VA Racers\, MOD-Modified\, VMOD-VA Modified\, DS-Dominion Stocks\, 4/6c/8cyl-ANYCARS\, LEG-Legends\, MStock-Mini Stocks\, USAC-USAC Midgets\, MCUP-Mini Cup
URL:https://www.collectorcarguide.net/event/cars-tour-35-35-var-25-ucar-25-southern-gp/
LOCATION:Dominion Raceway\, 6501 Dominion Raceway Avenue\, Thornburburg\, VA\, 22580\, United States
CATEGORIES:Motorsports
ATTACH;FMTTYPE=image/png:https://www.collectorcarguide.net/wp-content/uploads/2022/12/dominion_raceway.png
END:VEVENT
BEGIN:VEVENT
DTSTART;VALUE=DATE:20230616
DTEND;VALUE=DATE:20230618
DTSTAMP:20260420T074455
CREATED:20230218T145300Z
LAST-MODIFIED:20230524T171115Z
UID:27832-1686873600-1687046399@www.collectorcarguide.net
SUMMARY:Street Outlaws\, No Prep Kings\, Season 6 - Event 3
DESCRIPTION:
URL:https://www.collectorcarguide.net/event/street-outlaws-no-prep-kings-season-6-event-3/
LOCATION:Brainerd International Raceway\, 5523 Birchdale Rd\, Brainerd\, MN\, 56401\, United States
CATEGORIES:Motorsports
ATTACH;FMTTYPE=image/jpeg:https://www.collectorcarguide.net/wp-content/uploads/2023/02/IMG_8570.jpg
END:VEVENT
END:VCALENDAR