BEGIN:VCALENDAR
VERSION:2.0
PRODID:-//Collector Car Guide - ECPv6.15.20//NONSGML v1.0//EN
CALSCALE:GREGORIAN
METHOD:PUBLISH
X-WR-CALNAME:Collector Car Guide
X-ORIGINAL-URL:https://www.collectorcarguide.net
X-WR-CALDESC:Events for Collector Car Guide
REFRESH-INTERVAL;VALUE=DURATION:PT1H
X-Robots-Tag:noindex
X-PUBLISHED-TTL:PT1H
BEGIN:VTIMEZONE
TZID:America/New_York
BEGIN:DAYLIGHT
TZOFFSETFROM:-0500
TZOFFSETTO:-0400
TZNAME:EDT
DTSTART:20220313T070000
END:DAYLIGHT
BEGIN:STANDARD
TZOFFSETFROM:-0400
TZOFFSETTO:-0500
TZNAME:EST
DTSTART:20221106T060000
END:STANDARD
BEGIN:DAYLIGHT
TZOFFSETFROM:-0500
TZOFFSETTO:-0400
TZNAME:EDT
DTSTART:20230312T070000
END:DAYLIGHT
BEGIN:STANDARD
TZOFFSETFROM:-0400
TZOFFSETTO:-0500
TZNAME:EST
DTSTART:20231105T060000
END:STANDARD
BEGIN:DAYLIGHT
TZOFFSETFROM:-0500
TZOFFSETTO:-0400
TZNAME:EDT
DTSTART:20240310T070000
END:DAYLIGHT
BEGIN:STANDARD
TZOFFSETFROM:-0400
TZOFFSETTO:-0500
TZNAME:EST
DTSTART:20241103T060000
END:STANDARD
END:VTIMEZONE
BEGIN:VEVENT
DTSTART;TZID=America/New_York:20230506T160000
DTEND;TZID=America/New_York:20230506T200000
DTSTAMP:20260419T131120
CREATED:20230313T204719Z
LAST-MODIFIED:20230313T204719Z
UID:28104-1683388800-1683403200@www.collectorcarguide.net
SUMMARY:Jimmy Cone Cruise-In
DESCRIPTION:
URL:https://www.collectorcarguide.net/event/jimmy-cone-cruise-in-8/
LOCATION:Jimmie Cone\, 1312 S. Main St\, Mt. Airy\, MD\, 21771\, United States
CATEGORIES:Cruise
ATTACH;FMTTYPE=image/png:https://www.collectorcarguide.net/wp-content/uploads/2022/03/381-jimmiecone.png
END:VEVENT
BEGIN:VEVENT
DTSTART;TZID=America/New_York:20230506T110000
DTEND;TZID=America/New_York:20230506T150000
DTSTAMP:20260419T131120
CREATED:20230313T204719Z
LAST-MODIFIED:20230313T204719Z
UID:28103-1683370800-1683385200@www.collectorcarguide.net
SUMMARY:Vagabonds Rod & Custom Spring Show
DESCRIPTION:Rain Date 5/7  Mark 717 572-6252
URL:https://www.collectorcarguide.net/event/vagabonds-rod-custom-spring-show/
LOCATION:East Petersburg Community Park\, 6051 East Pine St\, East Petersburg\, PA\, 17520\, United States
CATEGORIES:Shows
END:VEVENT
BEGIN:VEVENT
DTSTART;TZID=America/New_York:20230506T103000
DTEND;TZID=America/New_York:20230506T160000
DTSTAMP:20260419T131120
CREATED:20230504T165804Z
LAST-MODIFIED:20230504T165804Z
UID:28713-1683369000-1683388800@www.collectorcarguide.net
SUMMARY:BUBAAHS\, May 6
DESCRIPTION:Greetings!\nOur next Coral Cafe breakfast meeting will be Saturday\, May 6\, 10:30 am\, but early arrivals should get better seats! \nThe BUBAAHS news page is http://www.carlibrary.org/BUBAAHS. This page has a link to a YouTube video of “PAULA MURPHY: UNDAUNTED the World’s Fastest Woman on Wheels”\, in case you missed the March one-hour documentary. \nBecause Paula started as a SCCA and Cal Club racer\, I would like to send her a copy of Bill Pollack’s book “Red Wheels and White Sidewalls”.  Email me if you have one (reasonably priced!) or for her address if you would like to mail it directly to Paula. \nThe BUBAAHS webpage has a note from Dave Wolin about the May 13 Grand Opening of the library at the Woodland Auto Display\nSend me news and/or comments!\nCheers! \nBob & Shannon
URL:https://www.collectorcarguide.net/event/bubaahs-may-6/
LOCATION:MD
CATEGORIES:Meet Up
END:VEVENT
BEGIN:VEVENT
DTSTART;TZID=America/New_York:20230506T090000
DTEND;TZID=America/New_York:20230506T140000
DTSTAMP:20260419T131120
CREATED:20230306T230250Z
LAST-MODIFIED:20230501T154734Z
UID:28047-1683363600-1683381600@www.collectorcarguide.net
SUMMARY:Golden Gears 50th Anniversary Car/Truck Show
DESCRIPTION:Rain Date 5/7 Mark 443-250-5731
URL:https://www.collectorcarguide.net/event/golden-gears-50th-anniversary-car-truck-show/
LOCATION:At Home Store\, 1811 Monocacy Blvd\, Frederick\, MD\, 21701\, United States
CATEGORIES:Shows
ATTACH;FMTTYPE=image/jpeg:https://www.collectorcarguide.net/wp-content/uploads/2022/05/golden_gears_logo.jpg
END:VEVENT
BEGIN:VEVENT
DTSTART;TZID=America/New_York:20230506T080000
DTEND;TZID=America/New_York:20230506T150000
DTSTAMP:20260419T131120
CREATED:20230428T203944Z
LAST-MODIFIED:20230428T203944Z
UID:28630-1683360000-1683385200@www.collectorcarguide.net
SUMMARY:Annapolis All Stars
DESCRIPTION:For more information\, call James- 410-320-1851
URL:https://www.collectorcarguide.net/event/annapolis-all-stars/
LOCATION:First Christian Community Church\, 1800 Hall Brown Rd\, Annapolis\, MD\, 21401\, United States
CATEGORIES:Shows
END:VEVENT
BEGIN:VEVENT
DTSTART;VALUE=DATE:20230506
DTEND;VALUE=DATE:20230508
DTSTAMP:20260419T131120
CREATED:20230502T120908Z
LAST-MODIFIED:20230502T120908Z
UID:28684-1683331200-1683503999@www.collectorcarguide.net
SUMMARY:SARRC/MARRS Challenge! @ VIR
DESCRIPTION:The Mid-Atlantic Road Racing Series (MARRS) and Spring Bracket Road Racing (SBRR) series\, along with special guests\, the Spec MX-5 Challenge\, head to “Heaven on Earth\,” VIRginia International Raceway to do battle in the SARRC / MARRS Challenge. Once again\, it’s a battle of north versus south as our drivers compete against the SCCA Southeast Division’s South Atlantic Road Racing Championship drivers.\n \nIf you’re still on the fence about racing\, you have until WEDNESDAY to sign up!\n \n\nBut if you can’t make it south to race\, you\, your family\, and your friends can still catch all of the action LIVE on YouTube. WDCR announcers Gregg Ginsberg and Dominic Mandile will provide flag-to-flag coverage with multiple cameras on both Saturday and Sunday starting at 8:25 am:\n \nSaturday: https://youtube.com/live/VD9BNlyzGkA\nSunday: https://youtube.com/live/gt3m5r8kvwQ\n \nAnd you can rewatch the April MARRS from Summit Point here:\n \nhttps://youtube.com/@wdcr\n \nRemember to “Like” & Subscribe to find out every time the Region broadcasts\, whether it be Road Racing\, Solo\, RallyX\, and other motorsports events.
URL:https://www.collectorcarguide.net/event/sarrc-marrs-challenge-vir/
LOCATION:Virginia International Raceway (VIR)\, 1245 Pinetree Rd\, Alton\, VA\, 24520\, United States
CATEGORIES:Motorsports
ATTACH;FMTTYPE=image/png:https://www.collectorcarguide.net/wp-content/uploads/2023/05/unnamed.png
ORGANIZER;CN="WDCR SCCA":MAILTO:cluboffice@wdcr-scca.org
END:VEVENT
BEGIN:VEVENT
DTSTART;VALUE=DATE:20230506
DTEND;VALUE=DATE:20230508
DTSTAMP:20260419T131120
CREATED:20230127T002801Z
LAST-MODIFIED:20230222T155314Z
UID:27569-1683331200-1683503999@www.collectorcarguide.net
SUMMARY:WDCR SCCA SARRC/MARRS Challenge @ VIR
DESCRIPTION:2023 MARRS Racing Schedule:\nMarch 17-19 – Comp School @ SPMP\nApril 1-2 – US Majors Tour @ SPMP\nApril 22-23 – April MARRS @ SPMP\nMay 6-7 – SARRC/MARRS Challenge @ VIR\nMay 27-28 – May MARRS @ NJMP Lightning \nJune 10-11 – June MARRS @ SPMP\nJuly 22-23 – July MARRS @ SPMP\nAugust 26-27 – August MARRS @ PittRace\nSeptember 2-4 – Labor Day MARRS Spectacular @ SPMP\nOctober 7-8 – October MARRS @ SPMP\nOctober 20-22 – October MARRS Finale @ NJMP Lightning 
URL:https://www.collectorcarguide.net/event/wdcr-scca-sarrc-marrs-challenge-vir/
LOCATION:Virginia International Raceway (VIR)\, 1245 Pinetree Rd\, Alton\, VA\, 24520\, United States
CATEGORIES:Motorsports
ATTACH;FMTTYPE=image/jpeg:https://www.collectorcarguide.net/wp-content/uploads/2023/01/unnamed-1-3.jpg
ORGANIZER;CN="WDCR SCCA":MAILTO:cluboffice@wdcr-scca.org
END:VEVENT
BEGIN:VEVENT
DTSTART;VALUE=DATE:20230506
DTEND;VALUE=DATE:20230507
DTSTAMP:20260419T131120
CREATED:20230201T003829Z
LAST-MODIFIED:20230222T155230Z
UID:27634-1683331200-1683417599@www.collectorcarguide.net
SUMMARY:WDCR SCCA AutoCross - Level 1 School
DESCRIPTION:
URL:https://www.collectorcarguide.net/event/wdcr-scca-autocross-level-1-school/
LOCATION:Summit Point Motorsports Park\, 201 Motorsports Circle\, Summit Point\, WV\, 25446\, United States
CATEGORIES:Motorsports
ATTACH;FMTTYPE=image/jpeg:https://www.collectorcarguide.net/wp-content/uploads/2023/01/wdcrsccasolo.jpg
ORGANIZER;CN="WDCR SCCA Solo Chair":MAILTO:solochair@wdcr-scca.org
END:VEVENT
BEGIN:VEVENT
DTSTART;VALUE=DATE:20230506
DTEND;VALUE=DATE:20230507
DTSTAMP:20260419T131120
CREATED:20221230T152211Z
LAST-MODIFIED:20221230T160111Z
UID:27216-1683331200-1683417599@www.collectorcarguide.net
SUMMARY:35/35 VAR\, 35 MOD\, 35 VMOD\, 25 UCAR\, 25 LEG\, 15/15 BANDO\, 25 Vintage
DESCRIPTION:35/35 VAR\, 35 MOD\, 35 VMOD\, 25 UCAR\, 25 LEG\, 15/15 BANDO\, 25 Vintage more details at https://www.dominionraceway.com/oval-track-schedule \nLM-Late Model\, VAR-VA Racers\, MOD-Modified\, VMOD-VA Modified\, DS-Dominion Stocks\, 4/6c/8cyl-ANYCARS\, LEG-Legends\, MStock-Mini Stocks\, USAC-USAC Midgets\, MCUP-Mini Cup
URL:https://www.collectorcarguide.net/event/35-35-var-35-mod-35-vmod-25-ucar-25-leg-15-15-bando-25-vintage/
LOCATION:Dominion Raceway\, 6501 Dominion Raceway Avenue\, Thornburburg\, VA\, 22580\, United States
CATEGORIES:Motorsports
ATTACH;FMTTYPE=image/png:https://www.collectorcarguide.net/wp-content/uploads/2022/12/dominion_raceway.png
END:VEVENT
BEGIN:VEVENT
DTSTART;VALUE=DATE:20230505
DTEND;VALUE=DATE:20230506
DTSTAMP:20260419T131120
CREATED:20230415T131328Z
LAST-MODIFIED:20230415T131328Z
UID:28519-1683244800-1683331199@www.collectorcarguide.net
SUMMARY:Speedo de Mayo May 5th with HOD at the FIRM
DESCRIPTION:Hooked on Driving at the Firm Friday\, May 5th\n\nIt’s “Speedo de Mayo” day at the track\n(no speedos please) \n7 hours of track time open for all skill levels. \nCoaches training clinic. \nSign up and feed your need for salsa speed for only \n$189.00\nDon’t have a car?  \nGo to:  www.onemotimeadventures.com. James Davidson and his crew have several fully prepped\,\ntrack cars ready for your individual needs. Contact them at: 321-508-0954 for details. \nGo online and signup at: www.hookedondriving.com.\nWhile your at it\, check out our upcoming events. \nMay 22nd – Roebling Road\nJune 9th – Sebring – DAD’s day special!\nJuly 14th – Road Atlanta \n(limited registrations are available at Road Atlanta for the 15th and 16th.\nContact Steve for details) \n \nSteve Fureman\nEmail: stevef@hookedondriving.com\nPhone: 772-236-3052 \n 
URL:https://www.collectorcarguide.net/event/speedo-de-mayo-may-5th-with-hod-at-the-firm/
LOCATION:Florida International Rally & Motorsport Park\, 7266 Airport Rd\, Starke\, FL\, 32091\, United States
CATEGORIES:Motorsports
ATTACH;FMTTYPE=image/png:https://www.collectorcarguide.net/wp-content/uploads/2022/07/unnamed-2-1.png
END:VEVENT
BEGIN:VEVENT
DTSTART;VALUE=DATE:20230505
DTEND;VALUE=DATE:20230506
DTSTAMP:20260419T131120
CREATED:20230202T211250Z
LAST-MODIFIED:20230202T211250Z
UID:27676-1683244800-1683331199@www.collectorcarguide.net
SUMMARY:National Corvette Museum (NCM) HPDI#3
DESCRIPTION:2023 HPDI Dates – Don’t miss your chance to participate in an HPDI event at the NCM Motorsports Park! If you’ve ever thought about giving the sport a try or taking your driving skills to the next level\, this is the perfect opportunity for you! With more dates than ever before\, you’re sure to find a time that fits your schedule! \n \nHigh Performance Driving Introduction \n\nIntroduces car owners to recreational and performance driving\nA low cost\, low time educational program designed for all skill levels\nFacilitated in a safe and controlled environment\nSmall group sizes with personalized guidance from our world class instructors\nEquips graduates with expectations and skills for progression in performance driving\n\nEvent requirements \nAll vehicles must be able to pass the NCM Tech form as well as follow all of NCM MSP Policy and Procedures!! \nALL VEHICLES MUST MEET A 103DB @ 50 FT LIMIT
URL:https://www.collectorcarguide.net/event/national-corvette-museum-ncm-hpdi3/
LOCATION:National Corvette Museum\, 505 Kimberlee A. Fast Drive\, Bowling Green\, KY\, 42103\, United States
CATEGORIES:Motorsports
ATTACH;FMTTYPE=image/png:https://www.collectorcarguide.net/wp-content/uploads/2023/02/Capture.png
END:VEVENT
BEGIN:VEVENT
DTSTART;VALUE=DATE:20230504
DTEND;VALUE=DATE:20230508
DTSTAMP:20260419T131120
CREATED:20230201T003043Z
LAST-MODIFIED:20230201T003043Z
UID:27626-1683158400-1683503999@www.collectorcarguide.net
SUMMARY:Project EG Mountain Takeover
DESCRIPTION:Closed off mountain roads\, closed off tunnel\, drag strip\, airport runs\, police escort\, and so much more! 
URL:https://www.collectorcarguide.net/event/project-eg-mountain-takeover/
LOCATION:GA/NC/KY/WV
CATEGORIES:Cruise,Meet Up,Motorsports,Shows
ATTACH;FMTTYPE=image/jpeg:https://www.collectorcarguide.net/wp-content/uploads/2023/01/IMG_8483.jpg
ORGANIZER;CN="Project EG":MAILTO:trackday@projecteg.net
END:VEVENT
BEGIN:VEVENT
DTSTART;VALUE=DATE:20230501
DTEND;VALUE=DATE:20230502
DTSTAMP:20260419T131120
CREATED:20230427T125732Z
LAST-MODIFIED:20230524T164641Z
UID:28556-1682899200-1682985599@www.collectorcarguide.net
SUMMARY:Aumann Auctions Walt Turner Estate Auction
DESCRIPTION:Featuring some great advertising signs\, petroliana and automobilia. Online only – Ending May 1\, 2023 \nBid now at https://bid.aumannauctions.com/auctions/catalog/id/34993 \nFor questions and info\, please contact Aumann Auctions at 217-563-2523 or info@AumannAuctions.com
URL:https://www.collectorcarguide.net/event/aumann-auctions-walt-turner-estate-auction/
LOCATION:MD
CATEGORIES:Auction
ATTACH;FMTTYPE=image/jpeg:https://www.collectorcarguide.net/wp-content/uploads/2023/04/unnamed-3-1.jpg
ORGANIZER;CN="Aumann Auctions":MAILTO:info@AumannAuctions.com
END:VEVENT
BEGIN:VEVENT
DTSTART;TZID=America/New_York:20230430T100000
DTEND;TZID=America/New_York:20230430T130000
DTSTAMP:20260419T131120
CREATED:20230306T230249Z
LAST-MODIFIED:20230306T230249Z
UID:28046-1682848800-1682859600@www.collectorcarguide.net
SUMMARY:26th Annual Olney Days Car Show
DESCRIPTION:R or S  T-Shirts to All   301 924-4500
URL:https://www.collectorcarguide.net/event/26th-annual-olney-days-car-show/
LOCATION:Fletchers Service Center\, 18001 Georgia Ave\, Olney\, MD\, 20832\, United States
CATEGORIES:Shows
END:VEVENT
BEGIN:VEVENT
DTSTART;VALUE=DATE:20230430
DTEND;VALUE=DATE:20230501
DTSTAMP:20260419T131120
CREATED:20230427T125538Z
LAST-MODIFIED:20230524T164646Z
UID:28553-1682812800-1682899199@www.collectorcarguide.net
SUMMARY:The Oil Auctions April Automobilia Online Only Auction
DESCRIPTION:Featuring over 450 lots of quality automobilia including automotive mascots\, hood ornaments\, literature\, badges and more. Ending April 30\, 2023. Bid now at: https://www.proxibid.com/Check-the-Oil-Promotions/auction-house/10906 \nFor questions and info\, please contact Check The Oil Auctions at 330-575-3421 or info@ctohotline.com
URL:https://www.collectorcarguide.net/event/the-oil-auctions-april-automobilia-online-only-auction/
LOCATION:MD
CATEGORIES:Auction
ATTACH;FMTTYPE=image/jpeg:https://www.collectorcarguide.net/wp-content/uploads/2023/04/unnamed-2-1.jpg
ORGANIZER;CN="Oil Auctions":MAILTO:info@ctohotline.com
END:VEVENT
BEGIN:VEVENT
DTSTART;TZID=America/New_York:20230429T163000
DTEND;TZID=America/New_York:20230429T210000
DTSTAMP:20260419T131120
CREATED:20230330T190343Z
LAST-MODIFIED:20230330T190343Z
UID:28338-1682785800-1682802000@www.collectorcarguide.net
SUMMARY:Lost In the 50's Cruise
DESCRIPTION:Join our Club
URL:https://www.collectorcarguide.net/event/lost-in-the-50s-cruise-5/
LOCATION:Marley Station Mall\, 7900 Ritchie Hwy\, Lot G\, Glen Burnie\, MD\, 21061\, United States
CATEGORIES:Cruise
ATTACH;FMTTYPE=image/jpeg:https://www.collectorcarguide.net/wp-content/uploads/2023/07/lost_in_the_50s.jpg
END:VEVENT
BEGIN:VEVENT
DTSTART;TZID=America/New_York:20230429T120000
DTEND;TZID=America/New_York:20230429T150000
DTSTAMP:20260419T131120
CREATED:20230306T230249Z
LAST-MODIFIED:20230306T230249Z
UID:28045-1682769600-1682780400@www.collectorcarguide.net
SUMMARY:8th Annual Spring Break Car/Truck Show
DESCRIPTION:Rain or Shine  Mark 410 428-5685
URL:https://www.collectorcarguide.net/event/8th-annual-spring-break-car-truck-show/
LOCATION:Cooper Park\, 7282 Cooper Dr\, Sykesville\, MD\, 21784\, United States
CATEGORIES:Shows
END:VEVENT
BEGIN:VEVENT
DTSTART;TZID=America/New_York:20230429T090000
DTEND;TZID=America/New_York:20230429T140000
DTSTAMP:20260419T131120
CREATED:20230306T230249Z
LAST-MODIFIED:20230306T230249Z
UID:28044-1682758800-1682776800@www.collectorcarguide.net
SUMMARY:2nd Annual Taneytown Collision Car & Truck Show
DESCRIPTION:Rain or Shine  443 918-8091
URL:https://www.collectorcarguide.net/event/2nd-annual-taneytown-collision-car-truck-show/
LOCATION:Taneytown Collision\, 1 Dunbar La\, Taneytown\, MD\, 21787\, United States
CATEGORIES:Shows
END:VEVENT
BEGIN:VEVENT
DTSTART;VALUE=DATE:20230429
DTEND;VALUE=DATE:20230501
DTSTAMP:20260419T131120
CREATED:20230101T142459Z
LAST-MODIFIED:20230101T142459Z
UID:27303-1682726400-1682899199@www.collectorcarguide.net
SUMMARY:EMRA Event #2 - Pocono Raceway
DESCRIPTION:EMRA sanctions competition Racing\, Time Trials and HPDE for sedan\, GT\, and formula cars in the northeast region. We sanction events at all of the major tracks in the area\, including Pocono Raceway\, Lime Rock Park\, NJMP Thunderbolt & Lightning\, Summit Point\, Thompson Raceway\, and Watkins Glen. We also founded the historic 4 hour twilight enduro at Summit Point Motorsports Park over 20 years ago\, which we still run today.
URL:https://www.collectorcarguide.net/event/emra-event-2-pocono-raceway/
LOCATION:Pocono Raceway\, 1234 Long Pond Rd\, Long Pond\, PA\, 18334\, United States
CATEGORIES:Motorsports
ATTACH;FMTTYPE=image/png:https://www.collectorcarguide.net/wp-content/uploads/2022/03/emra-logo-time-trial.png
ORGANIZER;CN="EMRA":MAILTO:jkatz@lissconsulting.com
END:VEVENT
BEGIN:VEVENT
DTSTART;VALUE=DATE:20230429
DTEND;VALUE=DATE:20230430
DTSTAMP:20260419T131120
CREATED:20230427T125412Z
LAST-MODIFIED:20230524T164652Z
UID:28550-1682726400-1682812799@www.collectorcarguide.net
SUMMARY:Worldwide Auctioneers “The Enthusiast Auction”
DESCRIPTION:Featuring hundreds of great neon signs\, pedal cars and more all offered with NO RESERVE. Ending April 29th with a live auction in Auburn\, IN.  \nFor questions and info\, please contact Worldwide Auctioneers at info@WorldwideAuctioneers.com or 260-925-6789. \nRegister to bid now at: https://bit.ly/3o7Kcjw
URL:https://www.collectorcarguide.net/event/worldwide-auctioneers-the-enthusiast-auction/
LOCATION:MD
CATEGORIES:Auction
ATTACH;FMTTYPE=image/jpeg:https://www.collectorcarguide.net/wp-content/uploads/2023/04/unnamed-1-3.jpg
ORGANIZER;CN="Worldwide Auctioneers":MAILTO:info@worldwideauctioneers.com
END:VEVENT
BEGIN:VEVENT
DTSTART;VALUE=DATE:20230429
DTEND;VALUE=DATE:20230430
DTSTAMP:20260419T131120
CREATED:20221230T152100Z
LAST-MODIFIED:20221230T160115Z
UID:27214-1682726400-1682812799@www.collectorcarguide.net
SUMMARY:60/60 LM\, 35 DS\, 20 4/6c\, 20 8cyl
DESCRIPTION:60/60 LM\, 35 DS\, 20 4/6c\, 20 8cyl more details at https://www.dominionraceway.com/oval-track-schedule \nLM-Late Model\, VAR-VA Racers\, MOD-Modified\, VMOD-VA Modified\, DS-Dominion Stocks\, 4/6c/8cyl-ANYCARS\, LEG-Legends\, MStock-Mini Stocks\, USAC-USAC Midgets\, MCUP-Mini Cup
URL:https://www.collectorcarguide.net/event/60-60-lm-35-ds-20-4-6c-20-8cyl/
LOCATION:Dominion Raceway\, 6501 Dominion Raceway Avenue\, Thornburburg\, VA\, 22580\, United States
CATEGORIES:Motorsports
ATTACH;FMTTYPE=image/png:https://www.collectorcarguide.net/wp-content/uploads/2022/12/dominion_raceway.png
END:VEVENT
BEGIN:VEVENT
DTSTART;TZID=America/New_York:20230428T130000
DTEND;TZID=America/New_York:20230428T200000
DTSTAMP:20260419T131120
CREATED:20230306T230248Z
LAST-MODIFIED:20230306T230248Z
UID:28043-1682686800-1682712000@www.collectorcarguide.net
SUMMARY:Markets at Shrewsbury Cruise-In
DESCRIPTION:$2 entry 4th Friday of the Month April thru October
URL:https://www.collectorcarguide.net/event/markets-at-shrewsbury-cruise-in-6/
LOCATION:Markets at Shrewsbury\, 12025 Susquehanna Trail\, Shrewsbury\, PA\, 17327\, United States
CATEGORIES:Cruise
ATTACH;FMTTYPE=image/jpeg:https://www.collectorcarguide.net/wp-content/uploads/2021/02/Markets-At-Shrewsbury-Logo.jpg
END:VEVENT
BEGIN:VEVENT
DTSTART;VALUE=DATE:20230428
DTEND;VALUE=DATE:20230501
DTSTAMP:20260419T131120
CREATED:20230113T121943Z
LAST-MODIFIED:20230113T121943Z
UID:27461-1682640000-1682899199@www.collectorcarguide.net
SUMMARY:WDCR SCCA - HPDE/TT #4 - Summit Point\, Main Circuit
DESCRIPTION:Greetings Track Day Folks!\nBelow is the complete list of events for 2023.\nTrack Day Events will be hosted at Summit Point Motorsports Park on all 3 Circuits and at Dominion Raceway in Thornburg\, Virginia!\n \nPlease visit our website for more information or if you are new to these events.\nRegistration opened early this week for Track Event #1 on the Summit Point\, Main Circuit. Keep an eye out for registration openings for events #2 and #3!\n \n2023 Schedule:\n\nMarch 4-5 – HPDE/TT #1 – Summit Point\, Main Circuit\nMarch 25-26 – HPDE/TT #2 – Instructor Clinic Summit Point\, Shenandoah Circuit\nApril 8-9 – HPDE/TT #3 – Dominion Raceway\nApril 28-30 – HPDE/TT #4 – Summit Point\, Main Circuit\nMay 20-21 – HPDE/TT #5 – Dominion Raceway\nJune 24-25 – HPDE/TT #6 – Dominion Raceway\nJuly 15-16 – HPDE Only #7 – Summit Point\, Shenandoah Circuit\nAugust 19-20 – HPDE Only #8 – Summit Point\, Shenandoah Circuit\nSeptember 9-10 – HPDE/TT #9 – Summit Point\, Shenandoah Circuit\nSeptember 23-24 – HPDE/TT #10 – Dominion Raceway\nOctober 14-15 – HPDE/TT #11 – Summit Point\, Jefferson Circuit
URL:https://www.collectorcarguide.net/event/wdcr-scca-hpde-tt-4-summit-point-main-circuit/
LOCATION:Summit Point Motorsports Park\, 201 Motorsports Circle\, Summit Point\, WV\, 25446\, United States
CATEGORIES:Motorsports
ATTACH;FMTTYPE=image/png:https://www.collectorcarguide.net/wp-content/uploads/2022/03/wdcr_scca.png
ORGANIZER;CN="WDCR SCCA":MAILTO:cluboffice@wdcr-scca.org
END:VEVENT
BEGIN:VEVENT
DTSTART;VALUE=DATE:20230426
DTEND;VALUE=DATE:20230428
DTSTAMP:20260419T131120
CREATED:20230406T115752Z
LAST-MODIFIED:20230406T115752Z
UID:28379-1682467200-1682639999@www.collectorcarguide.net
SUMMARY:HPDE at NCM
DESCRIPTION:High Performance Driving Education: \n\nGenerous track time with 3 run groups (Novice\, Intermediate and Advanced) \nAdvanced skill training in a FUN environment\nComprehensive curriculum cultivated and refined over many years\nHigh-quality instruction on relevant high-performance skills\nPlus more!!\n\nEvent requirements \nAll vehicles must be able to pass the NCM Tech form as well as follow all of NCM MSP Policy and Procedures!! \nALL VEHICLES MUST MEET A 103DB @ 50 FT LIMIT
URL:https://www.collectorcarguide.net/event/hpde-at-ncm/
LOCATION:National Corvette Museum\, 505 Kimberlee A. Fast Drive\, Bowling Green\, KY\, 42103\, United States
CATEGORIES:Motorsports
ATTACH;FMTTYPE=image/png:https://www.collectorcarguide.net/wp-content/uploads/2023/04/unnamed-6.png
END:VEVENT
BEGIN:VEVENT
DTSTART;VALUE=DATE:20230426
DTEND;VALUE=DATE:20230428
DTSTAMP:20260419T131120
CREATED:20230220T193401Z
LAST-MODIFIED:20230220T193401Z
UID:27907-1682467200-1682639999@www.collectorcarguide.net
SUMMARY:NCM High Performance Driving
DESCRIPTION:The first NCM HPDE of the year is on the books\, and it’s your chance to surround yourself with like-minded track enthusiasts\, friendly and approachable driving coaches\, and support from our fantastic partners! \nTake your driving skills to the next level by participating in our upcoming High Performance Driving Education (HPDE) event at the NCM Motorsports Park on April 26th and 27th! \nHigh Performance Driving Benefits Include: \n\nGenerous track time with 3 run groups (Novice\, Intermediate and Advanced)\nAdvanced skill training in a FUN environment\nComprehensive curriculum cultivated and refined over many years\nHigh-quality instruction on relevant high-performance skills\nPlus more!!\n\nEvent requirements \nAll vehicles must be able to pass the NCM Tech form as well as follow all of NCM MSP Policy and Procedures. \nALL VEHICLES MUST MEET A 103DB @ 50 FT SOUND LIMIT
URL:https://www.collectorcarguide.net/event/ncm-high-performance-driving/
LOCATION:National Corvette Museum\, 505 Kimberlee A. Fast Drive\, Bowling Green\, KY\, 42103\, United States
CATEGORIES:Motorsports
ATTACH;FMTTYPE=image/png:https://www.collectorcarguide.net/wp-content/uploads/2023/02/unnamed-2.png
END:VEVENT
BEGIN:VEVENT
DTSTART;TZID=America/New_York:20230423T080000
DTEND;TZID=America/New_York:20230423T110000
DTSTAMP:20260419T131120
CREATED:20230306T230235Z
LAST-MODIFIED:20230307T144908Z
UID:28042-1682236800-1682247600@www.collectorcarguide.net
SUMMARY:Chewey's Cruise-In
DESCRIPTION:
URL:https://www.collectorcarguide.net/event/cheweys-cruise-in-22/
LOCATION:Municipal Parking Lot\, 8 Park St\, Mt. Airy\, MD\, 21771\, United States
CATEGORIES:Cruise
ATTACH;FMTTYPE=image/jpeg:https://www.collectorcarguide.net/wp-content/uploads/2022/03/46027197_2207535055932063_8129365066798596096_n.jpg
END:VEVENT
BEGIN:VEVENT
DTSTART;VALUE=DATE:20230423
DTEND;VALUE=DATE:20230424
DTSTAMP:20260419T131120
CREATED:20230315T120038Z
LAST-MODIFIED:20230315T191217Z
UID:28132-1682208000-1682294399@www.collectorcarguide.net
SUMMARY:NW Ohio Region SCCA AutoCross Schedule
DESCRIPTION:
URL:https://www.collectorcarguide.net/event/nw-ohio-region-scca-autocross/
LOCATION:MD
CATEGORIES:Motorsports
ATTACH;FMTTYPE=image/png:https://www.collectorcarguide.net/wp-content/uploads/2023/03/IMG_8971.png
END:VEVENT
BEGIN:VEVENT
DTSTART;TZID=America/New_York:20230422T163000
DTEND;TZID=America/New_York:20230422T210000
DTSTAMP:20260419T131120
CREATED:20230330T190339Z
LAST-MODIFIED:20230330T190339Z
UID:28337-1682181000-1682197200@www.collectorcarguide.net
SUMMARY:Lost In the 50's Cruise
DESCRIPTION:Join our Club
URL:https://www.collectorcarguide.net/event/lost-in-the-50s-cruise-4/
LOCATION:Marley Station Mall\, 7900 Ritchie Hwy\, Lot G\, Glen Burnie\, MD\, 21061\, United States
CATEGORIES:Cruise
ATTACH;FMTTYPE=image/jpeg:https://www.collectorcarguide.net/wp-content/uploads/2023/07/lost_in_the_50s.jpg
END:VEVENT
BEGIN:VEVENT
DTSTART;TZID=America/New_York:20230422T110000
DTEND;TZID=America/New_York:20230422T143000
DTSTAMP:20260419T131120
CREATED:20230415T121230Z
LAST-MODIFIED:20230415T121230Z
UID:28507-1682161200-1682173800@www.collectorcarguide.net
SUMMARY:The Car Detective: The Stewardship of Historically Important Automobiles
DESCRIPTION:Saturday\, April 22 – 11:15 AM -2:30 PM \n\nUnravel the mysteries of the past with “The Car Detective: The Stewardship of Historically Important Automobiles” at the Simeone Museum’s April 22 Demo Day! Join us on this thrilling journey as we showcase rare and iconic vehicles\, celebrating the craft of automotive preservation and restoration. \nGet ready to marvel at four stunning cars from the Simeone Museum’s collection: the sleek 1934 MG K3 Magnette\, the elegant 1937 BMW 328\, the captivating 1937 Delahaye 135M\, and the legendary 1964 Shelby Cobra Daytona Coupe. Witness the remarkable stories of these cherished automobiles\, as our expert team reveals the secrets behind their discovery\, authentication\, and meticulous conservation\, as taught to us by the greatest Car Detective the world has ever seen\, Dr. Fred Simeone. \nExperience exclusive demonstrations and engaging talks from renowned automotive historians\, as we bring these iconic vehicles to life and share photos and documents straight from the museum archives. \n** As a special one-time only event\, we’re kicking off the day with an enthralling discussion on the topic of preservation vs. restoration\, featuring industry experts Kevin Mackay and Leslie Keno who will delve into a fascinating debate surrounding astronaut Al Worden’s 1971 Chevrolet Corvette “AstroVette”. \nDon’t miss this rare opportunity to gain insights from the experts as we explore the intricacies of maintaining automotive history\, and the conditions that make a car suitable for preservation vs. being a candidate for a full restoration. \nFeatured exhibition cars will include. \n• 1934 MG K3 Magnette\n• 1937 BMW 328\n• 1937 Delahaye 135M\n• 1964 Shelby Cobra Daytona Coupe \nFor tickets\, a schedule of events\, and more information visit the link below.
URL:https://www.collectorcarguide.net/event/the-car-detective-the-stewardship-of-historically-important-automobiles/
LOCATION:Simeone Foundation\, 6825-31 Norwitch Dr\, Philadelphia\, PA\, 19153\, United States
CATEGORIES:Museum
ATTACH;FMTTYPE=image/png:https://www.collectorcarguide.net/wp-content/uploads/2023/04/unnamed-3.png
END:VEVENT
BEGIN:VEVENT
DTSTART;TZID=America/New_York:20230422T100000
DTEND;TZID=America/New_York:20230422T140000
DTSTAMP:20260419T131120
CREATED:20230306T230234Z
LAST-MODIFIED:20230306T230234Z
UID:28041-1682157600-1682172000@www.collectorcarguide.net
SUMMARY:Southern High School FFA Car & Truck Shoqw
DESCRIPTION:Rain Date 4/24  Marge 443 883-6422
URL:https://www.collectorcarguide.net/event/southern-high-school-ffa-car-truck-shoqw/
LOCATION:Green Turtle- Edgewater\, 3213 Solomons Island Rd\, Edgewater\, MD\, 21037\, United States
CATEGORIES:Shows
END:VEVENT
END:VCALENDAR