BEGIN:VCALENDAR
VERSION:2.0
PRODID:-//Collector Car Guide - ECPv6.15.20//NONSGML v1.0//EN
CALSCALE:GREGORIAN
METHOD:PUBLISH
X-WR-CALNAME:Collector Car Guide
X-ORIGINAL-URL:https://www.collectorcarguide.net
X-WR-CALDESC:Events for Collector Car Guide
REFRESH-INTERVAL;VALUE=DURATION:PT1H
X-Robots-Tag:noindex
X-PUBLISHED-TTL:PT1H
BEGIN:VTIMEZONE
TZID:America/New_York
BEGIN:DAYLIGHT
TZOFFSETFROM:-0500
TZOFFSETTO:-0400
TZNAME:EDT
DTSTART:20220313T070000
END:DAYLIGHT
BEGIN:STANDARD
TZOFFSETFROM:-0400
TZOFFSETTO:-0500
TZNAME:EST
DTSTART:20221106T060000
END:STANDARD
BEGIN:DAYLIGHT
TZOFFSETFROM:-0500
TZOFFSETTO:-0400
TZNAME:EDT
DTSTART:20230312T070000
END:DAYLIGHT
BEGIN:STANDARD
TZOFFSETFROM:-0400
TZOFFSETTO:-0500
TZNAME:EST
DTSTART:20231105T060000
END:STANDARD
BEGIN:DAYLIGHT
TZOFFSETFROM:-0500
TZOFFSETTO:-0400
TZNAME:EDT
DTSTART:20240310T070000
END:DAYLIGHT
BEGIN:STANDARD
TZOFFSETFROM:-0400
TZOFFSETTO:-0500
TZNAME:EST
DTSTART:20241103T060000
END:STANDARD
END:VTIMEZONE
BEGIN:VEVENT
DTSTART;VALUE=DATE:20230824
DTEND;VALUE=DATE:20230827
DTSTAMP:20260419T220317
CREATED:20230809T191916Z
LAST-MODIFIED:20230811T135735Z
UID:29617-1692835200-1693094399@www.collectorcarguide.net
SUMMARY:Corvettes at Carlisle
DESCRIPTION:Corvettes at Carlisle is the largest and most fun-filled Corvette car show in the world. The annual Corvettes at Carlisle event showcases 5\,000+ Corvettes representing all generations of production.  Guests flock to Carlisle for this event to see the cars\, shop the automotive flea market\, sit in on FREE seminars\, meet special guests (including Team Chevrolet)\, participate in activities\, head into downtown Carlisle for the annual Corvette Parade and Street Party Saturday night\, see the build and showcase of an all-Corvette American Flag on Saturday afternoon the 26th\, and more!   \nCorvette enthusiasm is contagious\, and the excitement continues beyond the automotive flea market with some of the top brands in the hobby on the Midway\, new vehicle walk-arounds\, non-automotive excitement for the families\, and even a nice mix of FREE goodies for the kids.  Bring your Corvette or walk around and look at the amazing variety on display on the Fun Field. Corvettes at Carlisle spotlights all aspects of the Corvette hobby\, and for 2023\, this includes 50-Years of 1973 Corvettes\, 15 Years of the Cooksey Corvette\, the NCRS Gallery\, NCCC Judged Concours\, and Chip’s Choice\, this year featuring 100 Years of LeMans Corvettes.  JUST ANNOUNCED – Team Chevrolet will bring the all-new E-Ray to the event and as part of the tribute to Reeves Callaway\, the Chip’s Choice display hosts a trio of Callaway Corvettes that come together for the FIRST TIME EVER.  This includes a ’94 Callaway LM #001\, ’97 C7 Callaway\, and ’01 Callaway C12R.  From ’53 to ’23 and then some\, Corvettes at Carlisle has it all.  \nThis event will be held rain or shine. 
URL:https://www.collectorcarguide.net/event/corvettes-at-carlisle-4/
LOCATION:Carlisle Fairgrounds\, 1000 Bryn Mawr Rd\, Carlisle\, PA\, 17013\, United States
CATEGORIES:Shows,Swap Meet
ATTACH;FMTTYPE=image/png:https://www.collectorcarguide.net/wp-content/uploads/2023/08/CorvettesAtCarlisle_Logo.png
END:VEVENT
BEGIN:VEVENT
DTSTART;TZID=America/New_York:20230823T180000
DTEND;TZID=America/New_York:20230823T200000
DTSTAMP:20260419T220317
CREATED:20230807T201734Z
LAST-MODIFIED:20230807T201734Z
UID:29588-1692813600-1692820800@www.collectorcarguide.net
SUMMARY:Cruise and Brews @ Rockville Moose
DESCRIPTION:Stop by every Wednesday evening from 6- 8PM and join your fellow gearheads.\nAll cars\, bikes and trucks are welcome. April through November Free BBQ on the last Wednesday of each month with the purchase of any drink (soft\, beer\, wine\, mixed)
URL:https://www.collectorcarguide.net/event/cruise-and-brews-rockville-moose-3/
LOCATION:Rockville Moose Lodge\, 13755 Travilah Rd\, Rockville\, MD\, 20850\, United States
CATEGORIES:Cruise,Meet Up
ATTACH;FMTTYPE=image/jpeg:https://www.collectorcarguide.net/wp-content/uploads/2023/08/Rocville-Cruise-and-Brews-Flyer.jpg
END:VEVENT
BEGIN:VEVENT
DTSTART;TZID=America/New_York:20230820T130000
DTEND;TZID=America/New_York:20230820T160000
DTSTAMP:20260419T220317
CREATED:20230428T202009Z
LAST-MODIFIED:20230815T160638Z
UID:28622-1692536400-1692547200@www.collectorcarguide.net
SUMMARY:Finish the Race Summer Show
DESCRIPTION:Rain or Shine. Over 200 cars expected with free dash plaques to the first 100 registered\, Food Vendors on site\, Free Registration! \nFor more information\, contact Kory @ 703 430-7307 
URL:https://www.collectorcarguide.net/event/finish-the-race-summer-show/
LOCATION:Calvary Temple\, 50214 Tripleseven Rd\, Sterling\, VA\, 20165\, United States
CATEGORIES:Shows
END:VEVENT
BEGIN:VEVENT
DTSTART;TZID=America/New_York:20230820T080000
DTEND;TZID=America/New_York:20230820T140000
DTSTAMP:20260419T220317
CREATED:20230428T202010Z
LAST-MODIFIED:20230524T165320Z
UID:28624-1692518400-1692540000@www.collectorcarguide.net
SUMMARY:18th Annual Rouzefest Car & Truck Show
DESCRIPTION:Rain or Shine\, Stu 717 404-9341
URL:https://www.collectorcarguide.net/event/18th-annual-rouzefest-car-truck-show/
LOCATION:Red Run Park\, 12143 Buchanan Trail E.\, Waynesboro\, PA\, 17268\, United States
CATEGORIES:Shows
END:VEVENT
BEGIN:VEVENT
DTSTART;VALUE=DATE:20230820
DTEND;VALUE=DATE:20230821
DTSTAMP:20260419T220317
CREATED:20230718T130339Z
LAST-MODIFIED:20230718T130339Z
UID:29374-1692489600-1692575999@www.collectorcarguide.net
SUMMARY:SCDA- Thompson Speedway Motorsports Park- Track Event
DESCRIPTION:Open to All drivers/Experience levels\nThis SCDA driving event will be run in our full day format.   \nEvent is open to ALL run groups/experience levels.   \nParticipants can expect: \n4-5 on track driving sessions (~ 2+hrs) \nPersonalized Instruction for Novice Drivers \nProfessional Classroom Sessions In-Person \nTrack Walk \nFeatured Marque: $40 Discount for LOTUS drivers off entry fee.
URL:https://www.collectorcarguide.net/event/scda-thompson-speedway-motorsports-park-track-event-2/
LOCATION:Thompson Speedway Motorsports Park\, 205 E Thompson Rd\, Thompson\, CT\, 06277\, United States
CATEGORIES:Motorsports
ATTACH;FMTTYPE=image/jpeg:https://www.collectorcarguide.net/wp-content/uploads/2023/07/unnamed-4-1.jpg
ORGANIZER;CN="Sports Car Driving Association (SCDA)":MAILTO:elivan@scda1.com
END:VEVENT
BEGIN:VEVENT
DTSTART;TZID=America/New_York:20230819T163000
DTEND;TZID=America/New_York:20230819T210000
DTSTAMP:20260419T220317
CREATED:20230615T191414Z
LAST-MODIFIED:20230714T140728Z
UID:29111-1692462600-1692478800@www.collectorcarguide.net
SUMMARY:Lost In the 50's
DESCRIPTION:
URL:https://www.collectorcarguide.net/event/lost-in-the-50s-10/
LOCATION:Marley Station Mall\, 7900 Ritchie Hwy\, Lot G\, Glen Burnie\, MD\, 21061\, United States
CATEGORIES:Cruise
ATTACH;FMTTYPE=image/jpeg:https://www.collectorcarguide.net/wp-content/uploads/2023/07/lost_in_the_50s.jpg
END:VEVENT
BEGIN:VEVENT
DTSTART;TZID=America/New_York:20230819T160000
DTEND;TZID=America/New_York:20230819T200000
DTSTAMP:20260419T220317
CREATED:20230428T202009Z
LAST-MODIFIED:20230428T202009Z
UID:28623-1692460800-1692475200@www.collectorcarguide.net
SUMMARY:Jimmy Cone Cruise In
DESCRIPTION:
URL:https://www.collectorcarguide.net/event/jimmy-cone-cruise-in-10/
LOCATION:Jimmie Cone\, 1312 S. Main St\, Mt. Airy\, MD\, 21771\, United States
CATEGORIES:Cruise
ATTACH;FMTTYPE=image/png:https://www.collectorcarguide.net/wp-content/uploads/2022/03/381-jimmiecone.png
END:VEVENT
BEGIN:VEVENT
DTSTART;TZID=America/New_York:20230819T150000
DTEND;TZID=America/New_York:20230819T200000
DTSTAMP:20260419T220317
CREATED:20230428T201955Z
LAST-MODIFIED:20230731T154334Z
UID:28620-1692457200-1692475200@www.collectorcarguide.net
SUMMARY:13th Annual Middletown VA VFD Car/Truck/Tractor Show
DESCRIPTION:Rain Date Sat. 8/26. \nFor more information\, contact Mayor Charles Harbaugh IV @ 540-877-5494 or visit https://www.middletownva.gov/2023/03/29/middletowns-13th-annual-car-truck-and-tractor-show/
URL:https://www.collectorcarguide.net/event/9th-annual-middletownvfd-car-truck-tractor-show/
LOCATION:Middletown VA\, Main St\, Middletown\, VA\, 22645\, United States
CATEGORIES:Shows
END:VEVENT
BEGIN:VEVENT
DTSTART;TZID=America/New_York:20230819T100000
DTEND;TZID=America/New_York:20230819T150000
DTSTAMP:20260419T220317
CREATED:20230428T201955Z
LAST-MODIFIED:20230622T163616Z
UID:28619-1692439200-1692457200@www.collectorcarguide.net
SUMMARY:8th Annual Emmanual Baust UCC Car/Truck & Tractor Show
DESCRIPTION:Rain or Shine\, Ed 410 848-8638
URL:https://www.collectorcarguide.net/event/8th-annual-emmanual-baust-ucc-car-truck-tractor-show/
LOCATION:Emmanual Baust Church\, 2950 Old Taneytown Rd\, Westminster\, MD\, 21158\, United States
CATEGORIES:Shows
END:VEVENT
BEGIN:VEVENT
DTSTART;TZID=America/New_York:20230819T100000
DTEND;TZID=America/New_York:20230819T140000
DTSTAMP:20260419T220317
CREATED:20230428T201954Z
LAST-MODIFIED:20230524T165340Z
UID:28617-1692439200-1692453600@www.collectorcarguide.net
SUMMARY:Rev Up For Rotary
DESCRIPTION:Rain or Shine
URL:https://www.collectorcarguide.net/event/rev-up-for-rotary/
LOCATION:Adventure Park\, 11113 Baldwin Dr\, Monrovia\, MD\, United States
CATEGORIES:Shows
END:VEVENT
BEGIN:VEVENT
DTSTART;TZID=America/New_York:20230819T090000
DTEND;TZID=America/New_York:20230819T150000
DTSTAMP:20260419T220317
CREATED:20230428T201939Z
LAST-MODIFIED:20230622T163632Z
UID:28613-1692435600-1692457200@www.collectorcarguide.net
SUMMARY:Reese VFD Car & Truck Show
DESCRIPTION:Rain or Shine \, 410 848-7172
URL:https://www.collectorcarguide.net/event/reese-vfd-car-truck-show/
LOCATION:Reese VFD\, 1745 Baltimore Ave\, Westminster\, MD\, 21157\, United States
CATEGORIES:Shows
END:VEVENT
BEGIN:VEVENT
DTSTART;TZID=America/New_York:20230819T090000
DTEND;TZID=America/New_York:20230819T130000
DTSTAMP:20260419T220317
CREATED:20230428T201940Z
LAST-MODIFIED:20230524T165349Z
UID:28614-1692435600-1692450000@www.collectorcarguide.net
SUMMARY:VW Meet
DESCRIPTION:Rain Date 8/20\,  Elmer 301 416-7700
URL:https://www.collectorcarguide.net/event/vw-meet/
LOCATION:Mason-Dixon Dragway\, 21344 National Pike\, Boonsboro\, MD\, 21713\, United States
CATEGORIES:Shows
END:VEVENT
BEGIN:VEVENT
DTSTART;TZID=America/New_York:20230819T080000
DTEND;TZID=America/New_York:20230819T160000
DTSTAMP:20260419T220317
CREATED:20230428T201940Z
LAST-MODIFIED:20230622T163642Z
UID:28616-1692432000-1692460800@www.collectorcarguide.net
SUMMARY:Good Old Days Car Show & Festival
DESCRIPTION:Rain or Shine\, Jessica 717 677-1799
URL:https://www.collectorcarguide.net/event/good-old-days-car-show-festival-2/
LOCATION:Crouse Park\, 81 North St\, Littlestown\, PA\, 17340\, United States
CATEGORIES:Shows
END:VEVENT
BEGIN:VEVENT
DTSTART;TZID=America/New_York:20230819T080000
DTEND;TZID=America/New_York:20230819T150000
DTSTAMP:20260419T220317
CREATED:20230428T201956Z
LAST-MODIFIED:20230622T163646Z
UID:28621-1692432000-1692457200@www.collectorcarguide.net
SUMMARY:35th Rose Hill Monor FSK Antique Car/Truck Show
DESCRIPTION:Rain Date 8/20\, Skip  240 422-0368
URL:https://www.collectorcarguide.net/event/35th-rose-hill-monor-fsk-antique-car-truck-show/
LOCATION:Rose Hill Manor Museum\, 1611 N. Market St\, Frederick\, MD\, 21701\, United States
CATEGORIES:Shows
END:VEVENT
BEGIN:VEVENT
DTSTART;TZID=America/New_York:20230819T080000
DTEND;TZID=America/New_York:20230819T150000
DTSTAMP:20260419T220317
CREATED:20230428T201940Z
LAST-MODIFIED:20230622T163650Z
UID:28615-1692432000-1692457200@www.collectorcarguide.net
SUMMARY:3rd Annual St. Jude Car & Truck Show
DESCRIPTION:Rain or Shine\, Jean 240 409-2128
URL:https://www.collectorcarguide.net/event/3rd-annual-st-jude-car-truck-show/
LOCATION:Vigilant Hose Company\, 17701 Creamery Rd\, Emmitsburg\, MD\, 21727\, United States
CATEGORIES:Shows
END:VEVENT
BEGIN:VEVENT
DTSTART;VALUE=DATE:20230819
DTEND;VALUE=DATE:20230821
DTSTAMP:20260419T220317
CREATED:20230113T122246Z
LAST-MODIFIED:20230712T123721Z
UID:27469-1692403200-1692575999@www.collectorcarguide.net
SUMMARY:WDCR SCCA - HPDE Only #8 - Summit Point\, Shenandoah Circuit
DESCRIPTION:The Wait is OVER\, and Registration for the August 19-20 High-Performance Driving Education event on the Shenandoah Circuit is open! \n \nThere will be no Time Trial Component for this event freeing up that weekend and making it easier for our local entrants to travel to the National Events that weekend.\n \nIn place of Time Trials\, we have expanded the track sessions for the 2 Solo Run Groups: Intermediate and Advanced. 2hrs 30 Min of track time will be available on the schedule for this event. \n \nThe Data Guided Coaching will also be available to Drivers at no cost\, just include it in your registration. \n \nLooking forward to seeing you there!\n\n\n\n\n \nGreetings Track Day Folks!\nBelow is the complete list of events for 2023.\nTrack Day Events will be hosted at Summit Point Motorsports Park on all 3 Circuits and at Dominion Raceway in Thornburg\, Virginia!\n \nPlease visit our website for more information or if you are new to these events.\nRegistration opened early this week for Track Event #1 on the Summit Point\, Main Circuit. Keep an eye out for registration openings for events #2 and #3!\n \n2023 Schedule:\n\nMarch 4-5 – HPDE/TT #1 – Summit Point\, Main Circuit\nMarch 25-26 – HPDE/TT #2 – Instructor Clinic Summit Point\, Shenandoah Circuit\nApril 8-9 – HPDE/TT #3 – Dominion Raceway\nApril 28-30 – HPDE/TT #4 – Summit Point\, Main Circuit\nMay 20-21 – HPDE/TT #5 – Dominion Raceway\nJune 24-25 – HPDE/TT #6 – Dominion Raceway\nJuly 15-16 – HPDE Only #7 – Summit Point\, Shenandoah Circuit\nAugust 19-20 – HPDE Only #8 – Summit Point\, Shenandoah Circuit\nSeptember 9-10 – HPDE/TT #9 – Summit Point\, Shenandoah Circuit\nSeptember 23-24 – HPDE/TT #10 – Dominion Raceway\nOctober 14-15 – HPDE/TT #11 – Summit Point\, Jefferson Circuit
URL:https://www.collectorcarguide.net/event/wdcr-scca-hpde-only-8-summit-point-shenandoah-circuit/
LOCATION:Summit Point Motorsports Park\, 201 Motorsports Circle\, Summit Point\, WV\, 25446\, United States
CATEGORIES:Motorsports
ATTACH;FMTTYPE=image/png:https://www.collectorcarguide.net/wp-content/uploads/2022/03/wdcr_scca.png
ORGANIZER;CN="WDCR SCCA":MAILTO:cluboffice@wdcr-scca.org
END:VEVENT
BEGIN:VEVENT
DTSTART;VALUE=DATE:20230819
DTEND;VALUE=DATE:20230820
DTSTAMP:20260419T220317
CREATED:20230530T190327Z
LAST-MODIFIED:20230530T190327Z
UID:28998-1692403200-1692489599@www.collectorcarguide.net
SUMMARY:MPACT at Pocono Aug 19th
DESCRIPTION:We will be running the HPDE portion of the MPACT Motorsports Festival event at the Pocono Raceway on Aug 19th. \nThis will be a regular HPDE event for us with a massive sideshow. \nThe HPDE event will run on the South-East Course with the regular HOD safety standards and procedures. \nI am looking for a limited number of Coaches to assist with Novice Drivers for this event.\nTo entice you to help us at this event\, We will give you one additional free track day (without any students) at another event. \nThis is in addition to all the regular goodies you get\, like no fees\, lunches\, $50 Toyo-BUCKS\, etc. \n \nPlease help us out at this event and register here: https://shop.hookedondriving.com/event-details/MPACT_Motorsports_Festival_2023\n \n============================================================================\nWe will be running our Pocono MEGA course next Saturday on June 3rd. I only have a couple of Coaching spots remaining. \nIf you want to join us at the MEGA course\, register now. https://shop.hookedondriving.com/event-details/Pocono_Mega_Course_Saturday_June_3_2023\nTuesday morning\, Coach registration will be closed and assignment email will be sent.\n \n\n\n\n\n\n\nKen Eviner\nHead Coach – Hooked On Driving NE\nhttps://shop.hookedondriving.com/hooked-on-driving-region/Northeast
URL:https://www.collectorcarguide.net/event/mpact-at-pocono-aug-19th/
LOCATION:Pocono Raceway\, 1234 Long Pond Rd\, Long Pond\, PA\, 18334\, United States
CATEGORIES:Motorsports
ATTACH;FMTTYPE=image/png:https://www.collectorcarguide.net/wp-content/uploads/2023/05/mpact_logo.png
ORGANIZER;CN="HookedOnDriving (NorthEast)":MAILTO:Northeast@hookedondriving.com
END:VEVENT
BEGIN:VEVENT
DTSTART;VALUE=DATE:20230819
DTEND;VALUE=DATE:20230820
DTSTAMP:20260419T220317
CREATED:20221230T153406Z
LAST-MODIFIED:20230524T170917Z
UID:27241-1692403200-1692489599@www.collectorcarguide.net
SUMMARY:35/35 VAR\, 35 MOD\, 35 VMOD\, 20/20 UCAR\, 20/20 LEG\, 15 BANDO
DESCRIPTION:35/35 VAR\, 35 MOD\, 35 VMOD\, 20/20 UCAR\, 20/20 LEG\, 15 BANDO more details at https://www.dominionraceway.com/oval-track-schedule \nLM-Late Model\, VAR-VA Racers\, MOD-Modified\, VMOD-VA Modified\, DS-Dominion Stocks\, 4/6c/8cyl-ANYCARS\, LEG-Legends\, MStock-Mini Stocks\, USAC-USAC Midgets\, MCUP-Mini Cup
URL:https://www.collectorcarguide.net/event/60-60-lm-35-35-ds-25-mstock-25-mcup/
LOCATION:Dominion Raceway\, 6501 Dominion Raceway Avenue\, Thornburburg\, VA\, 22580\, United States
CATEGORIES:Motorsports
ATTACH;FMTTYPE=image/png:https://www.collectorcarguide.net/wp-content/uploads/2022/12/dominion_raceway.png
END:VEVENT
BEGIN:VEVENT
DTSTART;VALUE=DATE:20230818
DTEND;VALUE=DATE:20230819
DTSTAMP:20260419T220317
CREATED:20230712T122338Z
LAST-MODIFIED:20230712T122419Z
UID:29215-1692316800-1692403199@www.collectorcarguide.net
SUMMARY:Sebring (long sleeves optional) w/ Geoff Bodine & Jimmy V
DESCRIPTION:It’s been an exciting first half of 2023 with a fantastic Spring track day at Homestead\, three great events at Roebling Road\, including our first annual Memorial Day weekend. We visited the FIRM a couple times for a couple days of open track and coach mentoring. \nAnd\, how about Easter Thursday at Sebring and the Cadillac V club at Sebring in June! \n \nThere are more exciting events to come.  \nFriday\, July 14th Road Atlanta (what a lap!) w/ Geoff Bodine \nFriday\, August 11th Roebling Road (with the chicane) \nFriday\, August 18th Sebring (long sleeves optional) w/ Geoff\, me\, and Jimmy V \nComing up this fall and winter: Roebling Road\, Sebring\, Homestead Miami\, and Atlanta\, the sequel. \nMark your calendars! \nHooked On Driving to register today\n \n \nSteve Fureman\nEmail: stevef@hookedondriving.com\nPhone: 772-236-3052 \n 
URL:https://www.collectorcarguide.net/event/sebring-long-sleeves-optional-w-geoff-bodine-jimmy-v/
LOCATION:Sebring\, 113 Midway Dr\, Sebring\, FL\, 33870
CATEGORIES:Motorsports
ATTACH;FMTTYPE=image/png:https://www.collectorcarguide.net/wp-content/uploads/2022/07/unnamed-2-1.png
END:VEVENT
BEGIN:VEVENT
DTSTART;TZID=America/New_York:20230817T080000
DTEND;TZID=America/New_York:20230819T170000
DTSTAMP:20260419T220317
CREATED:20230712T151850Z
LAST-MODIFIED:20230712T151850Z
UID:29243-1692259200-1692464400@www.collectorcarguide.net
SUMMARY:MECUM Monterey Auction
DESCRIPTION:1959 Porsche 718 RSK Center Seat Riding Solo to Mecum Monterey 2023\n\n1959 PORSCHE 718 RSK CENTER SEAT\n\nReportedly 1 of 6 Produced in Center Seat Configuration\, Original Wendler Bodywork\, Type 547/3 Engine and Transaxle
URL:https://www.collectorcarguide.net/event/mecum-monterey-auction/
LOCATION:Hyatt Regencey Monterey Hotel & Spa\, Monterey\, CA\, United States
CATEGORIES:Auction
ATTACH;FMTTYPE=image/png:https://www.collectorcarguide.net/wp-content/uploads/2023/07/unnamed-2.png
END:VEVENT
BEGIN:VEVENT
DTSTART;TZID=America/New_York:20230816T180000
DTEND;TZID=America/New_York:20230816T200000
DTSTAMP:20260419T220317
CREATED:20230807T201618Z
LAST-MODIFIED:20230807T201618Z
UID:29589-1692208800-1692216000@www.collectorcarguide.net
SUMMARY:Cruise and Brews @ Rockville Moose
DESCRIPTION:Stop by every Wednesday evening from 6- 8PM and join your fellow gearheads.\nAll cars\, bikes and trucks are welcome. April through November Free BBQ on the last Wednesday of each month with the purchase of any drink (soft\, beer\, wine\, mixed)
URL:https://www.collectorcarguide.net/event/cruise-and-brews-rockville-moose-2/
LOCATION:Rockville Moose Lodge\, 13755 Travilah Rd\, Rockville\, MD\, 20850\, United States
CATEGORIES:Cruise,Meet Up
ATTACH;FMTTYPE=image/jpeg:https://www.collectorcarguide.net/wp-content/uploads/2023/08/Rocville-Cruise-and-Brews-Flyer.jpg
END:VEVENT
BEGIN:VEVENT
DTSTART;VALUE=DATE:20230815
DTEND;VALUE=DATE:20230816
DTSTAMP:20260419T220317
CREATED:20230713T110759Z
LAST-MODIFIED:20230713T110759Z
UID:29274-1692057600-1692143999@www.collectorcarguide.net
SUMMARY:American Vintage Sports Car Racing Collection Auction
DESCRIPTION:The American Vintage Sports Car Racing Collection auction is where speed\, elegance and nostalgia collide in a symphony of automotive excellence. This special Mecum On Time auction offers an extraordinary assemblage of posters\, artwork\, racing memorabilia and more\, each piece a testament to the golden age of American motorsports. \nTIMED LOTS BEGIN CLOSING\n TUESDAY\, AUGUST 15\, AT 2 P.M. CT 
URL:https://www.collectorcarguide.net/event/american-vintage-sports-car-racing-collection-auction/
LOCATION:MECUM ON-time
CATEGORIES:Auction,Motorsports
ATTACH;FMTTYPE=image/png:https://www.collectorcarguide.net/wp-content/uploads/2023/07/unnamed-2-1.png
END:VEVENT
BEGIN:VEVENT
DTSTART;TZID=America/New_York:20230813T113000
DTEND;TZID=America/New_York:20230813T140000
DTSTAMP:20260419T220317
CREATED:20230809T123518Z
LAST-MODIFIED:20230809T123518Z
UID:29615-1691926200-1691935200@www.collectorcarguide.net
SUMMARY:WDCR Karting @ United Karting
DESCRIPTION:The Washington DC Region SCCA invites you to kart at United Karting this Sunday\, August 13\, 2023\, at United Karting- 7206 Ridge Road\, Hanover\, MD 21076. This event starts at 11:30 AM sharp and runs through 2:00 PM. \n \nNo equipment is necessary\, but we recommend bringing your helmet\, water\, and sunblock. WDCR SCCA members and their guests are welcome. Bring your friends and family! This is a low-stress and fun social gathering.\n \nNo pre-payment is required. Please pre-register yourself and your guests\, show up\, and be ready to Kart! Payment is processed on-site at United Karting. Pricing for all future WDCR Karting events at United Karting is now a flat fee of $75. This includes practice/warm-up\, a qualifier\, and a heat race. Included as part of the event pricing\, trophies for heat races will be provided. For more information and to pre-register\, please click the registration link below. Hope to see you there!
URL:https://www.collectorcarguide.net/event/wdcr-karting-united-karting-2/
LOCATION:United Karting\, 7206 Ridge Rd\, Hanover\, MD\, 21076\, United States
CATEGORIES:Motorsports
ATTACH;FMTTYPE=image/jpeg:https://www.collectorcarguide.net/wp-content/uploads/2023/07/unnamed-8.jpg
ORGANIZER;CN="WDCR SCCA":MAILTO:cluboffice@wdcr-scca.org
END:VEVENT
BEGIN:VEVENT
DTSTART;TZID=America/New_York:20230813T100000
DTEND;TZID=America/New_York:20230813T160000
DTSTAMP:20260419T220317
CREATED:20230428T201926Z
LAST-MODIFIED:20230622T163703Z
UID:28611-1691920800-1691942400@www.collectorcarguide.net
SUMMARY:8th Annual Road Knights Car & Truck Show
DESCRIPTION:Rain or Shine\, Tay 301 305-1978
URL:https://www.collectorcarguide.net/event/8th-annual-road-knights-car-truck-show/
LOCATION:Petersville Ruritan Club\, 3816 Petersville Rd\, Knoxville\, MD\, 21758\, United States
CATEGORIES:Shows
END:VEVENT
BEGIN:VEVENT
DTSTART;TZID=America/New_York:20230813T100000
DTEND;TZID=America/New_York:20230813T150000
DTSTAMP:20260419T220317
CREATED:20230731T161933Z
LAST-MODIFIED:20230731T162746Z
UID:29415-1691920800-1691938800@www.collectorcarguide.net
SUMMARY:Road Knights 64th Anniversary Car Show
DESCRIPTION:For More information\, visit: \nhttps://www.facebook.com/events/1417818499015757/?acontext=%7B%22event_action_history%22%3A%5B%7B%22surface%22%3A%22group%22%7D%5D%7D
URL:https://www.collectorcarguide.net/event/road-knights-64th-anniversary-car-show/
LOCATION:Petersville Farmers Club\, 3816 Petersville Rd.\, Knoxville\, MD\, 21758-9103\, United States
CATEGORIES:Shows
END:VEVENT
BEGIN:VEVENT
DTSTART;TZID=America/New_York:20230813T090000
DTEND;TZID=America/New_York:20230813T110000
DTSTAMP:20260419T220317
CREATED:20230428T201939Z
LAST-MODIFIED:20230428T201939Z
UID:28612-1691917200-1691924400@www.collectorcarguide.net
SUMMARY:Cheweys Cruise-In
DESCRIPTION:
URL:https://www.collectorcarguide.net/event/cheweys-cruise-in-26/
LOCATION:Municipal Parking Lot\, 8 Park St\, Mt. Airy\, MD\, 21771\, United States
CATEGORIES:Cruise
ATTACH;FMTTYPE=image/jpeg:https://www.collectorcarguide.net/wp-content/uploads/2022/03/46027197_2207535055932063_8129365066798596096_n.jpg
END:VEVENT
BEGIN:VEVENT
DTSTART;TZID=America/New_York:20230812T163000
DTEND;TZID=America/New_York:20230812T210000
DTSTAMP:20260419T220317
CREATED:20230615T191413Z
LAST-MODIFIED:20230714T140717Z
UID:29110-1691857800-1691874000@www.collectorcarguide.net
SUMMARY:Lost In the 50's
DESCRIPTION:
URL:https://www.collectorcarguide.net/event/lost-in-the-50s-9/
LOCATION:Marley Station Mall\, 7900 Ritchie Hwy\, Lot G\, Glen Burnie\, MD\, 21061\, United States
CATEGORIES:Cruise
ATTACH;FMTTYPE=image/jpeg:https://www.collectorcarguide.net/wp-content/uploads/2023/07/lost_in_the_50s.jpg
END:VEVENT
BEGIN:VEVENT
DTSTART;TZID=America/New_York:20230812T160000
DTEND;TZID=America/New_York:20230812T200000
DTSTAMP:20260419T220317
CREATED:20230428T201925Z
LAST-MODIFIED:20230428T201925Z
UID:28610-1691856000-1691870400@www.collectorcarguide.net
SUMMARY:Jimmy Cone Cruise
DESCRIPTION:
URL:https://www.collectorcarguide.net/event/jimmy-cone-cruise-11/
LOCATION:Jimmie Cone\, 1312 S. Main St\, Mt. Airy\, MD\, 21771\, United States
CATEGORIES:Cruise
ATTACH;FMTTYPE=image/png:https://www.collectorcarguide.net/wp-content/uploads/2022/03/381-jimmiecone.png
END:VEVENT
BEGIN:VEVENT
DTSTART;TZID=America/New_York:20230812T130000
DTEND;TZID=America/New_York:20230812T170000
DTSTAMP:20260419T220317
CREATED:20230718T130149Z
LAST-MODIFIED:20230718T130149Z
UID:29371-1691845200-1691859600@www.collectorcarguide.net
SUMMARY:SCDA- Lime Rock Park- Track Event
DESCRIPTION:Open to INT 1\, 2\, and Advanced drivers/Experience levels\nThis SCDA driving event will be run in our half-day format with only 3 run groups. Four sessions for each run group  \nEvent is open to Intermediate and Advanced run groups/experience levels.   \nParticipants can expect: \n4 on track driving sessions \nProfessional Classroom Sessions In-Person \nTrack Walk \nNOTE: Morning Car Control Clinic is sold out.
URL:https://www.collectorcarguide.net/event/scda-lime-rock-park-track-event-4/
LOCATION:Lime Rock Park\, 60 White Hollow Rd\, Lakeville\, CT\, 06039\, United States
CATEGORIES:Motorsports
ATTACH;FMTTYPE=image/jpeg:https://www.collectorcarguide.net/wp-content/uploads/2023/07/unnamed-3-2.jpg
ORGANIZER;CN="Sports Car Driving Association (SCDA)":MAILTO:elivan@scda1.com
END:VEVENT
BEGIN:VEVENT
DTSTART;TZID=America/New_York:20230812T110000
DTEND;TZID=America/New_York:20230812T143000
DTSTAMP:20260419T220317
CREATED:20230812T133613Z
LAST-MODIFIED:20230812T181820Z
UID:29636-1691838000-1691850600@www.collectorcarguide.net
SUMMARY:Luigi Chinetti…Not Just N.A.R.T. Demo Day
DESCRIPTION:Saturday\, August 12 – 11:00AM – 2:30PM\nLuigi Chinetti was an Italian-born racing driver and founder of the North American Racing Team (NART). Renowned for his exceptional skill behind the wheel\, Chinetti played a pivotal role in popularizing Ferrari in the United States and cementing the brand’s legacy in motorsport history. \nAs part of our interactive programming\, visitors will have the rare opportunity to see these prized vehicles in motion\, demonstrating their power and elegance on our 3-acre tarmac. \nFeatured collection cars will include:\n• 1933 Alfa Romeo 8C 2300 Le Mans\n• 1950 Talbot-Lago T26 Grand Sport\n• 1954 Ferrari 375 Mille Miglia \nWhether you’re an ardent classic car enthusiast or curious about the intricate ties between Luigi Chinetti and the world of racing\, “Luigi Chinetti…Not Just N.A.R.T.” offers a riveting journey through time\, powered by legendary wheels and stories. \nDon’t miss this exceptional opportunity to immerse yourself in an unparalleled automotive narrative. We’re eager to welcome you for a day of history\, horsepower\, and homage to a racing icon!
URL:https://www.collectorcarguide.net/event/luigi-chinettinot-just-n-a-r-t-demo-day/
LOCATION:Simeone Foundation\, 6825-31 Norwitch Dr\, Philadelphia\, PA\, 19153\, United States
CATEGORIES:Museum
ATTACH;FMTTYPE=image/png:https://www.collectorcarguide.net/wp-content/uploads/2023/08/unnamed-1-5.png
END:VEVENT
END:VCALENDAR