BEGIN:VCALENDAR
VERSION:2.0
PRODID:-//Collector Car Guide - ECPv6.15.20//NONSGML v1.0//EN
CALSCALE:GREGORIAN
METHOD:PUBLISH
X-WR-CALNAME:Collector Car Guide
X-ORIGINAL-URL:https://www.collectorcarguide.net
X-WR-CALDESC:Events for Collector Car Guide
REFRESH-INTERVAL;VALUE=DURATION:PT1H
X-Robots-Tag:noindex
X-PUBLISHED-TTL:PT1H
BEGIN:VTIMEZONE
TZID:America/New_York
BEGIN:DAYLIGHT
TZOFFSETFROM:-0500
TZOFFSETTO:-0400
TZNAME:EDT
DTSTART:20220313T070000
END:DAYLIGHT
BEGIN:STANDARD
TZOFFSETFROM:-0400
TZOFFSETTO:-0500
TZNAME:EST
DTSTART:20221106T060000
END:STANDARD
BEGIN:DAYLIGHT
TZOFFSETFROM:-0500
TZOFFSETTO:-0400
TZNAME:EDT
DTSTART:20230312T070000
END:DAYLIGHT
BEGIN:STANDARD
TZOFFSETFROM:-0400
TZOFFSETTO:-0500
TZNAME:EST
DTSTART:20231105T060000
END:STANDARD
BEGIN:DAYLIGHT
TZOFFSETFROM:-0500
TZOFFSETTO:-0400
TZNAME:EDT
DTSTART:20240310T070000
END:DAYLIGHT
BEGIN:STANDARD
TZOFFSETFROM:-0400
TZOFFSETTO:-0500
TZNAME:EST
DTSTART:20241103T060000
END:STANDARD
END:VTIMEZONE
BEGIN:VEVENT
DTSTART;TZID=America/New_York:20230527T100000
DTEND;TZID=America/New_York:20230527T140000
DTSTAMP:20260420T222033
CREATED:20230111T174413Z
LAST-MODIFIED:20230524T165832Z
UID:27428-1685181600-1685196000@www.collectorcarguide.net
SUMMARY:Corvette Car Show 2023
DESCRIPTION:You’re invited to the COOLEST Corvette Car Show in So Cal. \nGet your Corvettes ready for May 27\, 2023\, from 10 am till 2 pm. \nWho is going to take Best of Show this year? \nMake sure to pre register your car now! \nSonny with Route 99 will be ROCKING the house! So make sure to bring your dancing shoes! \nTo purchase your 10x10ft Vendor Space please purchase space below or email JaimeL@theADM.org for more details!
URL:https://www.collectorcarguide.net/event/corvette-car-show-2023/
LOCATION:Zimmerman Automobile Driving Museum\, 610 Lairport St\, El Segundo\, CA\, 90245\, United States
CATEGORIES:Shows
ATTACH;FMTTYPE=image/jpeg:https://www.collectorcarguide.net/wp-content/uploads/2023/01/2023-Corvette-Show-FLYER-v3-copy-scaled-1.jpg
END:VEVENT
BEGIN:VEVENT
DTSTART;TZID=America/New_York:20230527T090000
DTEND;TZID=America/New_York:20230527T160000
DTSTAMP:20260420T222033
CREATED:20230503T155320Z
LAST-MODIFIED:20230524T165837Z
UID:28692-1685178000-1685203200@www.collectorcarguide.net
SUMMARY:Maryland Mayhem Custom Car & Truck Show
DESCRIPTION:A car and truck show for everyone is coming to Westminster. Proceeds from the show will be donated to The Carroll County Humane Society.\nRegistration $20\, Spectators free.  Raffle tickets will be for sale for some pretty nice prizes.  For more information\, visit https://www.facebook.com/events/648587476723359 \n 
URL:https://www.collectorcarguide.net/event/maryland-mayhem-custom-car-truck-show/
LOCATION:Westminster Mall\, 400 N Center St\, Westminster\, MD\, 21157\, United States
CATEGORIES:Shows
ATTACH;FMTTYPE=image/jpeg:https://www.collectorcarguide.net/wp-content/uploads/2023/05/Maryland-Mayhem-Custom-Car-Truck-Show.jpg
END:VEVENT
BEGIN:VEVENT
DTSTART;VALUE=DATE:20230527
DTEND;VALUE=DATE:20230529
DTSTAMP:20260420T222033
CREATED:20230218T144022Z
LAST-MODIFIED:20230524T171156Z
UID:27811-1685145600-1685318399@www.collectorcarguide.net
SUMMARY:Southern WV SCCA - Season Opener
DESCRIPTION:May 27 & 28\, Season Opener Double Header
URL:https://www.collectorcarguide.net/event/southern-wv-scca-season-opener/
LOCATION:WVU Parkersburg\, 300 Campus Dr\, Parkersburg\, WV\, 26104\, United States
CATEGORIES:Motorsports
ATTACH;FMTTYPE=image/jpeg:https://www.collectorcarguide.net/wp-content/uploads/2023/02/IMG_8549.jpg
END:VEVENT
BEGIN:VEVENT
DTSTART;VALUE=DATE:20230527
DTEND;VALUE=DATE:20230529
DTSTAMP:20260420T222033
CREATED:20230203T214348Z
LAST-MODIFIED:20230524T165843Z
UID:27686-1685145600-1685318399@www.collectorcarguide.net
SUMMARY:The Great Pocono Raceway Air Show
DESCRIPTION:The Great Pocono Raceway Airshow will take place\, May 27 & 28\, 2023. The show is headlined by the U.S. Navy Blue Angels as well as many other performances and demonstrations. Tickets and additional information can be found on this page. See you this Memorial Day Weekend!
URL:https://www.collectorcarguide.net/event/the-great-pocono-raceway-air-show/
LOCATION:Pocono Raceway\, 1234 Long Pond Rd\, Long Pond\, PA\, 18334\, United States
CATEGORIES:Shows
ATTACH;FMTTYPE=image/jpeg:https://www.collectorcarguide.net/wp-content/uploads/2023/02/unnamed.jpg
END:VEVENT
BEGIN:VEVENT
DTSTART;VALUE=DATE:20230527
DTEND;VALUE=DATE:20230529
DTSTAMP:20260420T222033
CREATED:20230127T002905Z
LAST-MODIFIED:20230524T171203Z
UID:27571-1685145600-1685318399@www.collectorcarguide.net
SUMMARY:WDCR SCCA MARRS @ NJMP Lightning 
DESCRIPTION:2023 MARRS Racing Schedule:\nMarch 17-19 – Comp School @ SPMP\nApril 1-2 – US Majors Tour @ SPMP\nApril 22-23 – April MARRS @ SPMP\nMay 6-7 – SARRC/MARRS Challenge @ VIR\nMay 27-28 – May MARRS @ NJMP Lightning \nJune 10-11 – June MARRS @ SPMP\nJuly 22-23 – July MARRS @ SPMP\nAugust 26-27 – August MARRS @ PittRace\nSeptember 2-4 – Labor Day MARRS Spectacular @ SPMP\nOctober 7-8 – October MARRS @ SPMP\nOctober 20-22 – October MARRS Finale @ NJMP Lightning 
URL:https://www.collectorcarguide.net/event/wdcr-scca-marrs-njmp-lightning/
LOCATION:New Jersey Motorsports Park (NJMP)\, 8000 Dividing Creek Road\, Millville\, NJ\, 08332\, United States
CATEGORIES:Motorsports
ATTACH;FMTTYPE=image/jpeg:https://www.collectorcarguide.net/wp-content/uploads/2023/01/unnamed-1-3.jpg
ORGANIZER;CN="WDCR SCCA":MAILTO:cluboffice@wdcr-scca.org
END:VEVENT
BEGIN:VEVENT
DTSTART;VALUE=DATE:20230527
DTEND;VALUE=DATE:20230529
DTSTAMP:20260420T222033
CREATED:20230519T193403Z
LAST-MODIFIED:20230524T171152Z
UID:28842-1685145600-1685318399@www.collectorcarguide.net
SUMMARY:HOD Southeast Region - Roebling Road
DESCRIPTION:HOD at Roebling Road\, Saturday and Sunday\, May 27th and 28th  $399.00* 2 day total\nHOD at Sebring International\, Friday\, June 9th  $359.00* \n \n*solo drivers\, minimal coaching fee applies to novice drivers\, lunches and camping included\, see event listings for current pricing and availability \n  \nRegister today at  www.hookedondriving.com \n  \nSteve Fureman\nEmail: stevef@hookedondriving.com\nPhone: 772-236-3052
URL:https://www.collectorcarguide.net/event/hod-southeast-region-roebling-road-3/
LOCATION:Roebling Road\, 1135 Roebling Road\, Bloomingdale\, GA\, 31302\, United States
CATEGORIES:Motorsports
ATTACH;FMTTYPE=image/png:https://www.collectorcarguide.net/wp-content/uploads/2022/07/unnamed-2-1.png
END:VEVENT
BEGIN:VEVENT
DTSTART;TZID=America/New_York:20230526T130000
DTEND;TZID=America/New_York:20230526T200000
DTSTAMP:20260420T222033
CREATED:20230313T204741Z
LAST-MODIFIED:20230313T204741Z
UID:28116-1685106000-1685131200@www.collectorcarguide.net
SUMMARY:Markets at Shrewsbury Cruise-In
DESCRIPTION:
URL:https://www.collectorcarguide.net/event/markets-at-shrewsbury-cruise-in-7/
LOCATION:Markets at Shrewsbury\, 12025 Susquehanna Trail\, Shrewsbury\, PA\, 17327\, United States
CATEGORIES:Cruise
ATTACH;FMTTYPE=image/jpeg:https://www.collectorcarguide.net/wp-content/uploads/2021/02/Markets-At-Shrewsbury-Logo.jpg
END:VEVENT
BEGIN:VEVENT
DTSTART;TZID=America/New_York:20230525T080000
DTEND;TZID=America/New_York:20230527T170000
DTSTAMP:20260420T222033
CREATED:20230509T154250Z
LAST-MODIFIED:20230524T164607Z
UID:28780-1685001600-1685206800@www.collectorcarguide.net
SUMMARY:INDY MEMORABILIA SHOW
DESCRIPTION:Thur\, May 25th 4-8pm • Fri\, May 26th 3-8pm • Sat\, May 27th 9am-4pm\nat the Embassy Suites Event Center in Plainfield\, IN https://www.facebook.com/IndyMemorabilia/​\nContact Craig and Kendall at 317-985-0924 or RacingMemorabiliaShow@gmail.com \nThe World’s Largest Racing Memorabilia Show. Featuring over 160 vendors selling original and authentic racing memorabilia! Everything from old press passes to great vintage racing photos\, racing books and posters to racing art and so much more! \n 
URL:https://www.collectorcarguide.net/event/indy-memorabilia-show/
LOCATION:Embassy Suites Event Center\, Plainfield\, IN\, United States
CATEGORIES:Auction
ATTACH;FMTTYPE=image/jpeg:https://www.collectorcarguide.net/wp-content/uploads/2023/05/unnamed-2.jpg
ORGANIZER;CN="Craig and Kendall":MAILTO:RacingMemorabiliaShow@gmail.com
END:VEVENT
BEGIN:VEVENT
DTSTART;TZID=America/New_York:20230521T110000
DTEND;TZID=America/New_York:20230521T160000
DTSTAMP:20260420T222033
CREATED:20230313T204740Z
LAST-MODIFIED:20230524T165902Z
UID:28114-1684666800-1684684800@www.collectorcarguide.net
SUMMARY:Boumi Shriners
DESCRIPTION:R or S   410 391-6400
URL:https://www.collectorcarguide.net/event/boumi-shriners/
LOCATION:Western Auto- Rosedale\, 5050 King Ave\, Rosedale\, MD\, 21237\, United States
CATEGORIES:Shows
END:VEVENT
BEGIN:VEVENT
DTSTART;TZID=America/New_York:20230521T110000
DTEND;TZID=America/New_York:20230521T130000
DTSTAMP:20260420T222033
CREATED:20230330T190345Z
LAST-MODIFIED:20230330T190345Z
UID:28344-1684666800-1684674000@www.collectorcarguide.net
SUMMARY:Cars & Craft Brews
DESCRIPTION:
URL:https://www.collectorcarguide.net/event/cars-craft-brews/
LOCATION:Lone Oak Farm Brewing Co.\, 5000 Olney Laytonsville Rd\, Olney\, MD\, 20832\, United States
CATEGORIES:Cruise
END:VEVENT
BEGIN:VEVENT
DTSTART;TZID=America/New_York:20230521T090000
DTEND;TZID=America/New_York:20230521T150000
DTSTAMP:20260420T222033
CREATED:20230410T181854Z
LAST-MODIFIED:20230524T165851Z
UID:28462-1684659600-1684681200@www.collectorcarguide.net
SUMMARY:St. Baldrick's Car Show
DESCRIPTION:Benefits St. Baldrick’s Charity
URL:https://www.collectorcarguide.net/event/st-baldricks-car-show/
LOCATION:MD
CATEGORIES:Shows
END:VEVENT
BEGIN:VEVENT
DTSTART;TZID=America/New_York:20230521T090000
DTEND;TZID=America/New_York:20230521T140000
DTSTAMP:20260420T222033
CREATED:20230313T204740Z
LAST-MODIFIED:20230313T204740Z
UID:28113-1684659600-1684677600@www.collectorcarguide.net
SUMMARY:8th Annual West Friendship Car & Truck Show
DESCRIPTION:Al 410 560-0237
URL:https://www.collectorcarguide.net/event/8th-annual-west-friendship-car-truck-show/
LOCATION:Howard Co. Farm Museum\, 12985 Frederick Rd\, West Friendship\, MD\, 21794\, United States
CATEGORIES:Shows
END:VEVENT
BEGIN:VEVENT
DTSTART;TZID=America/New_York:20230521T080000
DTEND;TZID=America/New_York:20230521T110000
DTSTAMP:20260420T222033
CREATED:20230313T204741Z
LAST-MODIFIED:20230313T204741Z
UID:28115-1684656000-1684666800@www.collectorcarguide.net
SUMMARY:Chewey's Cruise-In
DESCRIPTION:
URL:https://www.collectorcarguide.net/event/cheweys-cruise-in-23/
LOCATION:Municipal Parking Lot\, 8 Park St\, Mt. Airy\, MD\, 21771\, United States
CATEGORIES:Cruise
ATTACH;FMTTYPE=image/jpeg:https://www.collectorcarguide.net/wp-content/uploads/2022/03/46027197_2207535055932063_8129365066798596096_n.jpg
END:VEVENT
BEGIN:VEVENT
DTSTART;VALUE=DATE:20230521
DTEND;VALUE=DATE:20230522
DTSTAMP:20260420T222033
CREATED:20230201T004012Z
LAST-MODIFIED:20230524T171207Z
UID:27638-1684627200-1684713599@www.collectorcarguide.net
SUMMARY:WDCR SCCA AutoCross - Test-n-Tune
DESCRIPTION:
URL:https://www.collectorcarguide.net/event/wdcr-scca-autocross-test-n-tune/
LOCATION:Summit Point Motorsports Park\, 201 Motorsports Circle\, Summit Point\, WV\, 25446\, United States
CATEGORIES:Motorsports
ATTACH;FMTTYPE=image/jpeg:https://www.collectorcarguide.net/wp-content/uploads/2023/01/wdcrsccasolo.jpg
ORGANIZER;CN="WDCR SCCA Solo Chair":MAILTO:solochair@wdcr-scca.org
END:VEVENT
BEGIN:VEVENT
DTSTART;VALUE=DATE:20230521
DTEND;VALUE=DATE:20230522
DTSTAMP:20260420T222033
CREATED:20230201T002414Z
LAST-MODIFIED:20230524T171212Z
UID:27614-1684627200-1684713599@www.collectorcarguide.net
SUMMARY:BMWCCA NCC AutoCross Points #1
DESCRIPTION:
URL:https://www.collectorcarguide.net/event/bmwcca-ncc-autocross-points-1/
LOCATION:MD
CATEGORIES:Motorsports
ATTACH;FMTTYPE=image/jpeg:https://www.collectorcarguide.net/wp-content/uploads/2023/01/IMG_8485.jpg
END:VEVENT
BEGIN:VEVENT
DTSTART;TZID=America/New_York:20230520T163000
DTEND;TZID=America/New_York:20230520T210000
DTSTAMP:20260420T222033
CREATED:20230330T190345Z
LAST-MODIFIED:20230330T190345Z
UID:28342-1684600200-1684616400@www.collectorcarguide.net
SUMMARY:Lost In the 50's Cruise
DESCRIPTION:Join our Club
URL:https://www.collectorcarguide.net/event/lost-in-the-50s-cruise-8/
LOCATION:Marley Station Mall\, 7900 Ritchie Hwy\, Lot G\, Glen Burnie\, MD\, 21061\, United States
CATEGORIES:Cruise
ATTACH;FMTTYPE=image/jpeg:https://www.collectorcarguide.net/wp-content/uploads/2023/07/lost_in_the_50s.jpg
END:VEVENT
BEGIN:VEVENT
DTSTART;TZID=America/New_York:20230520T160000
DTEND;TZID=America/New_York:20230520T200000
DTSTAMP:20260420T222034
CREATED:20230313T204727Z
LAST-MODIFIED:20230313T204727Z
UID:28112-1684598400-1684612800@www.collectorcarguide.net
SUMMARY:Jimmy Cone Cruise-In
DESCRIPTION:
URL:https://www.collectorcarguide.net/event/jimmy-cone-cruise-in-9/
LOCATION:Jimmie Cone\, 1312 S. Main St\, Mt. Airy\, MD\, 21771\, United States
CATEGORIES:Cruise
ATTACH;FMTTYPE=image/png:https://www.collectorcarguide.net/wp-content/uploads/2022/03/381-jimmiecone.png
END:VEVENT
BEGIN:VEVENT
DTSTART;TZID=America/New_York:20230520T130000
DTEND;TZID=America/New_York:20230520T170000
DTSTAMP:20260420T222034
CREATED:20230302T134014Z
LAST-MODIFIED:20230302T134014Z
UID:27985-1684587600-1684602000@www.collectorcarguide.net
SUMMARY:Liqui Moly presents Dubsfest 2023
DESCRIPTION:
URL:https://www.collectorcarguide.net/event/liqui-moly-presents-dubsfest-2023/
LOCATION:Wisp Resort\, 290 Marsh Hill Road\, McHenry\, MD\, 21541\, United States
CATEGORIES:Meet Up,Shows
ATTACH;FMTTYPE=image/jpeg:https://www.collectorcarguide.net/wp-content/uploads/2023/03/IMG_8798.jpg
END:VEVENT
BEGIN:VEVENT
DTSTART;TZID=America/New_York:20230520T100000
DTEND;TZID=America/New_York:20230520T150000
DTSTAMP:20260420T222034
CREATED:20230410T181854Z
LAST-MODIFIED:20230410T181854Z
UID:28461-1684576800-1684594800@www.collectorcarguide.net
SUMMARY:Fairfax Antique Car Show
DESCRIPTION:https://www.fairfaxva.gov/government/parks-recreation/special-events/antique-car-show
URL:https://www.collectorcarguide.net/event/fairfax-antique-car-show/
LOCATION:Fairfax City Hall\, 10455 Armstrong St\, Fairfax\, VA\, 22030\, United States
CATEGORIES:Shows
END:VEVENT
BEGIN:VEVENT
DTSTART;TZID=America/New_York:20230520T100000
DTEND;TZID=America/New_York:20230520T150000
DTSTAMP:20260420T222034
CREATED:20230313T204727Z
LAST-MODIFIED:20230425T175211Z
UID:28111-1684576800-1684594800@www.collectorcarguide.net
SUMMARY:Gold Star Mothers Car & Truck Show
DESCRIPTION:Rain Date 5/21\,  Rhonda Grove  717-515-8706
URL:https://www.collectorcarguide.net/event/gold-star-mothers-car-truck-show/
LOCATION:Sunset Lane Park\, 2442 Sunset Lane\, York\, PA\, 17408\, United States
CATEGORIES:Shows
END:VEVENT
BEGIN:VEVENT
DTSTART;TZID=America/New_York:20230520T100000
DTEND;TZID=America/New_York:20230520T140000
DTSTAMP:20260420T222034
CREATED:20230530T192709Z
LAST-MODIFIED:20230530T192709Z
UID:29024-1684576800-1684591200@www.collectorcarguide.net
SUMMARY:Exotic Car Garage Open House
DESCRIPTION:Join Us on Saturday\, May 20th between 10am – 2pm to start planning your dream garage at NJMP! \nUnits at the private garage condominium Exotic Car Garages at New Jersey Motorsports Park range in size from 1\,000 to 3\,000 square feet and have ceilings high enough to store a trailer or stack automobiles. Up to 10 automobiles can be kept in garages\, depending on their overall size. \nExotic Car Garages are a home-away-from-home where you keep your expensive cars while unwinding in the lap of luxury. If you choose a mezzanine level or viewing deck\, you get a higher viewing gallery for your collection and beautiful views of the top-notch Thunderbolt Raceway. Units can be completely customized! \nGarage amenities include: \n\n110V Electric Service\nClimate Controlled garages\nAnti-Freeze Sprinkler Systems\nCO2 Detectors\nWater and Floor Drains\nInterior Water and Sewer\n24 Hour Security\nGround Level Patio\n18’ Ceiling\n14’ to 16’ wide Garage Doors\n\nFull customization is available and upgrades can include: \n\nElevated mezzanine loft\nViewing decks overlooking the Thunderbolt Raceway\nPowder Rooms\, Full Bathrooms\nUpgraded Electric\nKitchenettes\nWine Cellars\, Custom Bars and Entertainment Center\nHome Theater Packages\, Music Systems\nMechanic Tool Packages\, Lifts\, Tire Changers\nCustom Flooring\, Shelving and Wall Units
URL:https://www.collectorcarguide.net/event/exotic-car-garage-open-house/
LOCATION:New Jersey Motorsports Park (NJMP)\, 8000 Dividing Creek Road\, Millville\, NJ\, 08332\, United States
CATEGORIES:OTHER
ATTACH;FMTTYPE=image/png:https://www.collectorcarguide.net/wp-content/uploads/2023/05/unnamed-2.png
END:VEVENT
BEGIN:VEVENT
DTSTART;VALUE=DATE:20230520
DTEND;VALUE=DATE:20230522
DTSTAMP:20260420T222034
CREATED:20230113T122037Z
LAST-MODIFIED:20230113T122037Z
UID:27463-1684540800-1684713599@www.collectorcarguide.net
SUMMARY:WDCR SCCA - HPDE/TT #5 - Dominion Raceway
DESCRIPTION:Greetings Track Day Folks!\nBelow is the complete list of events for 2023.\nTrack Day Events will be hosted at Summit Point Motorsports Park on all 3 Circuits and at Dominion Raceway in Thornburg\, Virginia!\n \nPlease visit our website for more information or if you are new to these events.\nRegistration opened early this week for Track Event #1 on the Summit Point\, Main Circuit. Keep an eye out for registration openings for events #2 and #3!\n \n2023 Schedule:\n\nMarch 4-5 – HPDE/TT #1 – Summit Point\, Main Circuit\nMarch 25-26 – HPDE/TT #2 – Instructor Clinic Summit Point\, Shenandoah Circuit\nApril 8-9 – HPDE/TT #3 – Dominion Raceway\nApril 28-30 – HPDE/TT #4 – Summit Point\, Main Circuit\nMay 20-21 – HPDE/TT #5 – Dominion Raceway\nJune 24-25 – HPDE/TT #6 – Dominion Raceway\nJuly 15-16 – HPDE Only #7 – Summit Point\, Shenandoah Circuit\nAugust 19-20 – HPDE Only #8 – Summit Point\, Shenandoah Circuit\nSeptember 9-10 – HPDE/TT #9 – Summit Point\, Shenandoah Circuit\nSeptember 23-24 – HPDE/TT #10 – Dominion Raceway\nOctober 14-15 – HPDE/TT #11 – Summit Point\, Jefferson Circuit
URL:https://www.collectorcarguide.net/event/wdcr-scca-hpde-tt-5-dominion-raceway/
LOCATION:Dominion Raceway\, 6501 Dominion Raceway Avenue\, Thornburburg\, VA\, 22580\, United States
CATEGORIES:Motorsports
ATTACH;FMTTYPE=image/png:https://www.collectorcarguide.net/wp-content/uploads/2022/03/wdcr_scca.png
ORGANIZER;CN="WDCR SCCA":MAILTO:cluboffice@wdcr-scca.org
END:VEVENT
BEGIN:VEVENT
DTSTART;VALUE=DATE:20230520
DTEND;VALUE=DATE:20230521
DTSTAMP:20260420T222034
CREATED:20230509T154735Z
LAST-MODIFIED:20230524T164614Z
UID:28788-1684540800-1684627199@www.collectorcarguide.net
SUMMARY:Lloyd Ralston Gallery's Matchbox Vehicles and Toy Online Only Auction
DESCRIPTION:Featuring a great selection of Matchbox vehicles and toys with almost 500 lots\, ending May 20\, 2023. Bid now at https://www.liveauctioneers.com/auctioneer/308/lloyd-ralston-gallery/​ \nFor questions and info contact Lloyd Ralston Gallery at 203-924-5804 or RalstonToyAuction@gmail.com
URL:https://www.collectorcarguide.net/event/lloyd-ralston-gallerys-matchbox-vehicles-and-toy-online-only-auction/
LOCATION:MD
CATEGORIES:Auction
ATTACH;FMTTYPE=image/jpeg:https://www.collectorcarguide.net/wp-content/uploads/2023/05/unnamed-4.jpg
ORGANIZER;CN="Lloyd Ralston Gallery":MAILTO:RalstonToyAuction@gmail.com
END:VEVENT
BEGIN:VEVENT
DTSTART;VALUE=DATE:20230520
DTEND;VALUE=DATE:20230521
DTSTAMP:20260420T222034
CREATED:20230411T201319Z
LAST-MODIFIED:20230411T201319Z
UID:28493-1684540800-1684627199@www.collectorcarguide.net
SUMMARY:AM & Friends Auto Show 2023 is Coming Up Fast
DESCRIPTION:The World’s Largest Charity Mustang Car Show is extending an invite to all Muscle Car owners to raise money for Make-A-Wish® this year! There’s still time left to register so shine your steed and head on over to Maple Grove Raceway in Mohnton\, PA on May 20th\, 2023 for the 13th annual event! \nTo Register: https://www.americanmuscle.com/autoshow2023.html \nPAOLI\, Pa. (April 6th\, 2023)- American Muscle(AM) announces May 20th\, 2023\, as the date of its charity auto show to be held at Maple Grove Raceway in Mohnton\, PA. Having raised more than $400k to date\, AM continues to support critically ill children via Make-A-Wish Philadelphia\, Delaware & Susquehanna Valley. Gates will open at 9 am with show hours from 10 am to 4:30 pm. In the event of rain\, the show will be held the following day\, May 21st\, 2023.AM invites the community to get involved by registering their modded muscle car and signing up for one of the show’s premium experiences. These include the Make-A-Wish opening ceremony parade\, Mickey Thompson burnout competition\, and Pypes revving competition. Show goers can also take advantage of AM’s VIP Parking with 100%of the proceeds donated to Make-A-Wish. Regular registration is being offered at a discounted rate up until May 19\, 2023. Registrants will receive a swag bag and a voucher for a free t-shirt. Clubs are welcome to participate as a group with more information on the event page below. Spectator parking will be available on the day of the event for $10 per vehicle. Spectators and participants at AM’s 2023 Charity Auto Show will rub shoulders with thousands of auto enthusiasts to enjoy a day of raffles\, food\, drink\, racing\, and most importantly\, giving back! Learn more \n\nAbout AmericanMuscleStarting out in 2003\, AmericanMusclequickly rose to be one of the leading aftermarket Mustang parts providers in the business.With the addition of Challenger in 2018 and Charger in 2020\, AmericanMuscle provides the most sought-after parts\, accessories\,and fast shipping. Located just outside of Philadelphia\, AmericanMuscle is dedicated to supporting the Mustang\, Challenger andCharger\, and Corvette communities with the highest level of customer service. Please visithttp://www.AmericanMuscle.comformore information
URL:https://www.collectorcarguide.net/event/am-friends-auto-show-2023-is-coming-up-fast/
LOCATION:Maple Grove Raceway\, 30 Stauffer Park Ln\, Mohnton\, PA\, 19540\, United States
CATEGORIES:Shows
ATTACH;FMTTYPE=image/jpeg:https://www.collectorcarguide.net/wp-content/uploads/2023/04/Auto-Show-1080x720-AM.jpg
ORGANIZER;CN="AmericanMuscle.com":MAILTO:rostum.hernandez@turn5.com
END:VEVENT
BEGIN:VEVENT
DTSTART;VALUE=DATE:20230520
DTEND;VALUE=DATE:20230521
DTSTAMP:20260420T222034
CREATED:20230406T135731Z
LAST-MODIFIED:20230406T135731Z
UID:28394-1684540800-1684627199@www.collectorcarguide.net
SUMMARY:Fast & Furious Day @ VOLO MUSEUM
DESCRIPTION:
URL:https://www.collectorcarguide.net/event/fast-furious-day-volo-museum/
LOCATION:Volo Museum\, 27582 Volo Village Rd\, Volo\, IL\, 60073\, United States
CATEGORIES:Museum
ATTACH;FMTTYPE=image/jpeg:https://www.collectorcarguide.net/wp-content/uploads/2023/04/unnamed-3.jpg
ORGANIZER;CN="Volo Museum":MAILTO:jim@volofun.com
END:VEVENT
BEGIN:VEVENT
DTSTART;VALUE=DATE:20230520
DTEND;VALUE=DATE:20230521
DTSTAMP:20260420T222034
CREATED:20221230T152356Z
LAST-MODIFIED:20221230T160104Z
UID:27220-1684540800-1684627199@www.collectorcarguide.net
SUMMARY:60/60 LM\, 35 DS\, 20/20 UCAR\, 25 LEG\, 15 BANDO
DESCRIPTION:60/60 LM\, 35 DS\, 20/20 UCAR\, 25 LEG\, 15 BANDO more details at https://www.dominionraceway.com/oval-track-schedule \nLM-Late Model\, VAR-VA Racers\, MOD-Modified\, VMOD-VA Modified\, DS-Dominion Stocks\, 4/6c/8cyl-ANYCARS\, LEG-Legends\, MStock-Mini Stocks\, USAC-USAC Midgets\, MCUP-Mini Cup
URL:https://www.collectorcarguide.net/event/60-60-lm-35-ds-20-20-ucar-25-leg-15-bando/
LOCATION:Dominion Raceway\, 6501 Dominion Raceway Avenue\, Thornburburg\, VA\, 22580\, United States
CATEGORIES:Motorsports
ATTACH;FMTTYPE=image/png:https://www.collectorcarguide.net/wp-content/uploads/2022/12/dominion_raceway.png
END:VEVENT
BEGIN:VEVENT
DTSTART;TZID=America/New_York:20230519T080000
DTEND;TZID=America/New_York:20230520T170000
DTSTAMP:20260420T222034
CREATED:20230509T154004Z
LAST-MODIFIED:20230524T164619Z
UID:28775-1684483200-1684602000@www.collectorcarguide.net
SUMMARY:KALAMAZOO ANTIQUE & COLLECTIBLE TOY SHOW
DESCRIPTION:Sat.\, May 20\, 2023 at the Kalamazoo Expo Center\, Kalamazoo\, MI\, https://www.uniqueeventsshows.com/\nContact Jim Welytok at 262-366-1314 or unievents@aol.com \nNearly 50\,000 square feet of toys from over 200 vendors around the country will be here for you to explore. \n9am-2pm – Sat\nAdmission $10 \n3pm-7pm – Fri\nPreview\n​Admission $40
URL:https://www.collectorcarguide.net/event/kalamazoo-antique-collectible-toy-show/
LOCATION:Kalamazoo Expo Center\, Kalamazoo\, MI\, United States
CATEGORIES:Auction
ATTACH;FMTTYPE=image/jpeg:https://www.collectorcarguide.net/wp-content/uploads/2023/05/unnamed-1.jpg
ORGANIZER;CN="Jim Welytok":MAILTO:unievents@aol.com
END:VEVENT
BEGIN:VEVENT
DTSTART;VALUE=DATE:20230519
DTEND;VALUE=DATE:20230522
DTSTAMP:20260420T222034
CREATED:20230509T152613Z
LAST-MODIFIED:20230509T152613Z
UID:28756-1684454400-1684713599@www.collectorcarguide.net
SUMMARY:Lotus verus the Dragon
DESCRIPTION:Lotus versus the Dragon is an annual gathering of Lotus cars\, taking over the Smoky Mountain region for three days every May. Our 2023 event is our inaugural event\, and we are very excited about our future with the hardcore brand loyalty and enthusiast following. The Great Smoky Mountains are home to some of the greatest roads in the world\, and several roads in the area always make up the bucket-list drives list seen from numerous experts and publications. The area is most well known for the legendary Tail of the Dragon\, but there are hundreds of miles of equally amazing drives like the Cherohala Skyway\, Devil’s Triangle\, Foothills Parkway\, Hellbender\, Blue Ridge Parkway\, Moonshiner 28 and so many more.. This event is hosted by area locals that also own Smoky Mountain Drives\, where we host more area driving events than anyone by far. Our vast knowledge of these roads\, elite driving ability\, and unmatched experience hosting area events makes us the leader among all event planners and guided drive services the Tail of the Dragon and Smoky Mountains has to offer. \nJoin us in May where we have your ultimate weekend of driving planned from beginning to end. Being local to these Great Smoky Mountains allow us to provide value packed events where Lotus enthusiasts from a variety of backgrounds are treated to driving events that are second to none! On our drives\, there is nothing else to think about. We have done the planning\, the route selection\, the driving notes\, identified fuel stops\, found fantastic hotels and eating spots! All you need to do is show up and be prepared to drive!. \nbrought to you by…
URL:https://www.collectorcarguide.net/event/lotus-verus-the-dragon/
LOCATION:Tail of the Dragon\, US Hwy 129\, Maryville\, TN\, 37801\, United States
CATEGORIES:Cruise
ATTACH;FMTTYPE=image/png:https://www.collectorcarguide.net/wp-content/uploads/2023/05/JV-Lotus-Rally-LOGO-v1.png
ORGANIZER;CN="Lotus versus the Dragon":MAILTO:lotusversusthedragon@gmail.com
END:VEVENT
BEGIN:VEVENT
DTSTART;TZID=America/New_York:20230518T170000
DTEND;TZID=America/New_York:20230518T210000
DTSTAMP:20260420T222034
CREATED:20230201T212855Z
LAST-MODIFIED:20230201T214219Z
UID:27653-1684429200-1684443600@www.collectorcarguide.net
SUMMARY:Gettysburg\, PA- Antique Auto Club of America (AACA)\, Chesapeake Region\, Cruise-In
DESCRIPTION:A Cruise-In that is open to all vehicles\, which will include food\, drink\, music\, fun\, and fellowship. A $5.00 participation fee per vehicle will be collected on the day of the event (no advance registration required). Located at Gettysburg Gateway Center – Windham Hotel (Rt. 30 and Rt. 15). View attached flier. \nFor more information\, call (410) 916-4278 or visit https://chesapeake.aaca.com
URL:https://www.collectorcarguide.net/event/gettysburg-pa-antique-auto-club-of-america-aaca-chesapeake-region-cruise-in/
LOCATION:Gettysburg Gateway Center\, 95 Presidential Circle\, Gettysburg\, PA\, 17325\, United States
CATEGORIES:Cruise
ORGANIZER;CN="Chesapeake Region- AACA":MAILTO:chev565041@comcast.net
END:VEVENT
BEGIN:VEVENT
DTSTART;TZID=America/New_York:20230518T130000
DTEND;TZID=America/New_York:20230518T150000
DTSTAMP:20260420T222034
CREATED:20230428T173929Z
LAST-MODIFIED:20230428T174237Z
UID:28560-1684414800-1684422000@www.collectorcarguide.net
SUMMARY:Twisted Rodz Car Show!
DESCRIPTION:May 18th 2023\, 1-3 pm. We are hosting a show in conjunction with Cruisin’ Ocean City. We will have trophies and dash plaques!  Rain or Shine! Twistedrodzofmaryland@gmail.com
URL:https://www.collectorcarguide.net/event/twisted-rodz-car-show-2/
LOCATION:Pit and Pub Northside OC\, 12701 Coastal Highway\, Ocean City\, MD\, 21842\, United States
CATEGORIES:Shows
ATTACH;FMTTYPE=image/jpeg:https://www.collectorcarguide.net/wp-content/uploads/2023/04/Cruisin-OC-2023-scaled.jpg
END:VEVENT
END:VCALENDAR