BEGIN:VCALENDAR
VERSION:2.0
PRODID:-//Collector Car Guide - ECPv6.15.20//NONSGML v1.0//EN
CALSCALE:GREGORIAN
METHOD:PUBLISH
X-ORIGINAL-URL:https://www.collectorcarguide.net
X-WR-CALDESC:Events for Collector Car Guide
REFRESH-INTERVAL;VALUE=DURATION:PT1H
X-Robots-Tag:noindex
X-PUBLISHED-TTL:PT1H
BEGIN:VTIMEZONE
TZID:America/New_York
BEGIN:DAYLIGHT
TZOFFSETFROM:-0500
TZOFFSETTO:-0400
TZNAME:EDT
DTSTART:19690427T070000
END:DAYLIGHT
BEGIN:STANDARD
TZOFFSETFROM:-0400
TZOFFSETTO:-0500
TZNAME:EST
DTSTART:19691026T060000
END:STANDARD
BEGIN:DAYLIGHT
TZOFFSETFROM:-0500
TZOFFSETTO:-0400
TZNAME:EDT
DTSTART:19700426T070000
END:DAYLIGHT
BEGIN:STANDARD
TZOFFSETFROM:-0400
TZOFFSETTO:-0500
TZNAME:EST
DTSTART:19701025T060000
END:STANDARD
BEGIN:DAYLIGHT
TZOFFSETFROM:-0500
TZOFFSETTO:-0400
TZNAME:EDT
DTSTART:19710425T070000
END:DAYLIGHT
BEGIN:STANDARD
TZOFFSETFROM:-0400
TZOFFSETTO:-0500
TZNAME:EST
DTSTART:19711031T060000
END:STANDARD
BEGIN:DAYLIGHT
TZOFFSETFROM:-0500
TZOFFSETTO:-0400
TZNAME:EDT
DTSTART:19720430T070000
END:DAYLIGHT
BEGIN:STANDARD
TZOFFSETFROM:-0400
TZOFFSETTO:-0500
TZNAME:EST
DTSTART:19721029T060000
END:STANDARD
BEGIN:DAYLIGHT
TZOFFSETFROM:-0500
TZOFFSETTO:-0400
TZNAME:EDT
DTSTART:19730429T070000
END:DAYLIGHT
BEGIN:STANDARD
TZOFFSETFROM:-0400
TZOFFSETTO:-0500
TZNAME:EST
DTSTART:19731028T060000
END:STANDARD
BEGIN:DAYLIGHT
TZOFFSETFROM:-0500
TZOFFSETTO:-0400
TZNAME:EDT
DTSTART:19740106T070000
END:DAYLIGHT
BEGIN:STANDARD
TZOFFSETFROM:-0400
TZOFFSETTO:-0500
TZNAME:EST
DTSTART:19741027T060000
END:STANDARD
BEGIN:DAYLIGHT
TZOFFSETFROM:-0500
TZOFFSETTO:-0400
TZNAME:EDT
DTSTART:19750223T070000
END:DAYLIGHT
BEGIN:STANDARD
TZOFFSETFROM:-0400
TZOFFSETTO:-0500
TZNAME:EST
DTSTART:19751026T060000
END:STANDARD
BEGIN:DAYLIGHT
TZOFFSETFROM:-0500
TZOFFSETTO:-0400
TZNAME:EDT
DTSTART:19760425T070000
END:DAYLIGHT
BEGIN:STANDARD
TZOFFSETFROM:-0400
TZOFFSETTO:-0500
TZNAME:EST
DTSTART:19761031T060000
END:STANDARD
BEGIN:DAYLIGHT
TZOFFSETFROM:-0500
TZOFFSETTO:-0400
TZNAME:EDT
DTSTART:19770424T070000
END:DAYLIGHT
BEGIN:STANDARD
TZOFFSETFROM:-0400
TZOFFSETTO:-0500
TZNAME:EST
DTSTART:19771030T060000
END:STANDARD
BEGIN:DAYLIGHT
TZOFFSETFROM:-0500
TZOFFSETTO:-0400
TZNAME:EDT
DTSTART:19780430T070000
END:DAYLIGHT
BEGIN:STANDARD
TZOFFSETFROM:-0400
TZOFFSETTO:-0500
TZNAME:EST
DTSTART:19781029T060000
END:STANDARD
BEGIN:DAYLIGHT
TZOFFSETFROM:-0500
TZOFFSETTO:-0400
TZNAME:EDT
DTSTART:19790429T070000
END:DAYLIGHT
BEGIN:STANDARD
TZOFFSETFROM:-0400
TZOFFSETTO:-0500
TZNAME:EST
DTSTART:19791028T060000
END:STANDARD
BEGIN:DAYLIGHT
TZOFFSETFROM:-0500
TZOFFSETTO:-0400
TZNAME:EDT
DTSTART:19800427T070000
END:DAYLIGHT
BEGIN:STANDARD
TZOFFSETFROM:-0400
TZOFFSETTO:-0500
TZNAME:EST
DTSTART:19801026T060000
END:STANDARD
BEGIN:DAYLIGHT
TZOFFSETFROM:-0500
TZOFFSETTO:-0400
TZNAME:EDT
DTSTART:19810426T070000
END:DAYLIGHT
BEGIN:STANDARD
TZOFFSETFROM:-0400
TZOFFSETTO:-0500
TZNAME:EST
DTSTART:19811025T060000
END:STANDARD
BEGIN:DAYLIGHT
TZOFFSETFROM:-0500
TZOFFSETTO:-0400
TZNAME:EDT
DTSTART:19820425T070000
END:DAYLIGHT
BEGIN:STANDARD
TZOFFSETFROM:-0400
TZOFFSETTO:-0500
TZNAME:EST
DTSTART:19821031T060000
END:STANDARD
BEGIN:DAYLIGHT
TZOFFSETFROM:-0500
TZOFFSETTO:-0400
TZNAME:EDT
DTSTART:19830424T070000
END:DAYLIGHT
BEGIN:STANDARD
TZOFFSETFROM:-0400
TZOFFSETTO:-0500
TZNAME:EST
DTSTART:19831030T060000
END:STANDARD
BEGIN:DAYLIGHT
TZOFFSETFROM:-0500
TZOFFSETTO:-0400
TZNAME:EDT
DTSTART:19840429T070000
END:DAYLIGHT
BEGIN:STANDARD
TZOFFSETFROM:-0400
TZOFFSETTO:-0500
TZNAME:EST
DTSTART:19841028T060000
END:STANDARD
BEGIN:DAYLIGHT
TZOFFSETFROM:-0500
TZOFFSETTO:-0400
TZNAME:EDT
DTSTART:19850428T070000
END:DAYLIGHT
BEGIN:STANDARD
TZOFFSETFROM:-0400
TZOFFSETTO:-0500
TZNAME:EST
DTSTART:19851027T060000
END:STANDARD
BEGIN:DAYLIGHT
TZOFFSETFROM:-0500
TZOFFSETTO:-0400
TZNAME:EDT
DTSTART:19860427T070000
END:DAYLIGHT
BEGIN:STANDARD
TZOFFSETFROM:-0400
TZOFFSETTO:-0500
TZNAME:EST
DTSTART:19861026T060000
END:STANDARD
BEGIN:DAYLIGHT
TZOFFSETFROM:-0500
TZOFFSETTO:-0400
TZNAME:EDT
DTSTART:19870405T070000
END:DAYLIGHT
BEGIN:STANDARD
TZOFFSETFROM:-0400
TZOFFSETTO:-0500
TZNAME:EST
DTSTART:19871025T060000
END:STANDARD
BEGIN:DAYLIGHT
TZOFFSETFROM:-0500
TZOFFSETTO:-0400
TZNAME:EDT
DTSTART:19880403T070000
END:DAYLIGHT
BEGIN:STANDARD
TZOFFSETFROM:-0400
TZOFFSETTO:-0500
TZNAME:EST
DTSTART:19881030T060000
END:STANDARD
BEGIN:DAYLIGHT
TZOFFSETFROM:-0500
TZOFFSETTO:-0400
TZNAME:EDT
DTSTART:19890402T070000
END:DAYLIGHT
BEGIN:STANDARD
TZOFFSETFROM:-0400
TZOFFSETTO:-0500
TZNAME:EST
DTSTART:19891029T060000
END:STANDARD
BEGIN:DAYLIGHT
TZOFFSETFROM:-0500
TZOFFSETTO:-0400
TZNAME:EDT
DTSTART:19900401T070000
END:DAYLIGHT
BEGIN:STANDARD
TZOFFSETFROM:-0400
TZOFFSETTO:-0500
TZNAME:EST
DTSTART:19901028T060000
END:STANDARD
BEGIN:DAYLIGHT
TZOFFSETFROM:-0500
TZOFFSETTO:-0400
TZNAME:EDT
DTSTART:19910407T070000
END:DAYLIGHT
BEGIN:STANDARD
TZOFFSETFROM:-0400
TZOFFSETTO:-0500
TZNAME:EST
DTSTART:19911027T060000
END:STANDARD
BEGIN:DAYLIGHT
TZOFFSETFROM:-0500
TZOFFSETTO:-0400
TZNAME:EDT
DTSTART:19920405T070000
END:DAYLIGHT
BEGIN:STANDARD
TZOFFSETFROM:-0400
TZOFFSETTO:-0500
TZNAME:EST
DTSTART:19921025T060000
END:STANDARD
BEGIN:DAYLIGHT
TZOFFSETFROM:-0500
TZOFFSETTO:-0400
TZNAME:EDT
DTSTART:19930404T070000
END:DAYLIGHT
BEGIN:STANDARD
TZOFFSETFROM:-0400
TZOFFSETTO:-0500
TZNAME:EST
DTSTART:19931031T060000
END:STANDARD
BEGIN:DAYLIGHT
TZOFFSETFROM:-0500
TZOFFSETTO:-0400
TZNAME:EDT
DTSTART:19940403T070000
END:DAYLIGHT
BEGIN:STANDARD
TZOFFSETFROM:-0400
TZOFFSETTO:-0500
TZNAME:EST
DTSTART:19941030T060000
END:STANDARD
BEGIN:DAYLIGHT
TZOFFSETFROM:-0500
TZOFFSETTO:-0400
TZNAME:EDT
DTSTART:19950402T070000
END:DAYLIGHT
BEGIN:STANDARD
TZOFFSETFROM:-0400
TZOFFSETTO:-0500
TZNAME:EST
DTSTART:19951029T060000
END:STANDARD
BEGIN:DAYLIGHT
TZOFFSETFROM:-0500
TZOFFSETTO:-0400
TZNAME:EDT
DTSTART:19960407T070000
END:DAYLIGHT
BEGIN:STANDARD
TZOFFSETFROM:-0400
TZOFFSETTO:-0500
TZNAME:EST
DTSTART:19961027T060000
END:STANDARD
BEGIN:DAYLIGHT
TZOFFSETFROM:-0500
TZOFFSETTO:-0400
TZNAME:EDT
DTSTART:19970406T070000
END:DAYLIGHT
BEGIN:STANDARD
TZOFFSETFROM:-0400
TZOFFSETTO:-0500
TZNAME:EST
DTSTART:19971026T060000
END:STANDARD
BEGIN:DAYLIGHT
TZOFFSETFROM:-0500
TZOFFSETTO:-0400
TZNAME:EDT
DTSTART:19980405T070000
END:DAYLIGHT
BEGIN:STANDARD
TZOFFSETFROM:-0400
TZOFFSETTO:-0500
TZNAME:EST
DTSTART:19981025T060000
END:STANDARD
BEGIN:DAYLIGHT
TZOFFSETFROM:-0500
TZOFFSETTO:-0400
TZNAME:EDT
DTSTART:19990404T070000
END:DAYLIGHT
BEGIN:STANDARD
TZOFFSETFROM:-0400
TZOFFSETTO:-0500
TZNAME:EST
DTSTART:19991031T060000
END:STANDARD
BEGIN:DAYLIGHT
TZOFFSETFROM:-0500
TZOFFSETTO:-0400
TZNAME:EDT
DTSTART:20000402T070000
END:DAYLIGHT
BEGIN:STANDARD
TZOFFSETFROM:-0400
TZOFFSETTO:-0500
TZNAME:EST
DTSTART:20001029T060000
END:STANDARD
BEGIN:DAYLIGHT
TZOFFSETFROM:-0500
TZOFFSETTO:-0400
TZNAME:EDT
DTSTART:20010401T070000
END:DAYLIGHT
BEGIN:STANDARD
TZOFFSETFROM:-0400
TZOFFSETTO:-0500
TZNAME:EST
DTSTART:20011028T060000
END:STANDARD
BEGIN:DAYLIGHT
TZOFFSETFROM:-0500
TZOFFSETTO:-0400
TZNAME:EDT
DTSTART:20020407T070000
END:DAYLIGHT
BEGIN:STANDARD
TZOFFSETFROM:-0400
TZOFFSETTO:-0500
TZNAME:EST
DTSTART:20021027T060000
END:STANDARD
BEGIN:DAYLIGHT
TZOFFSETFROM:-0500
TZOFFSETTO:-0400
TZNAME:EDT
DTSTART:20030406T070000
END:DAYLIGHT
BEGIN:STANDARD
TZOFFSETFROM:-0400
TZOFFSETTO:-0500
TZNAME:EST
DTSTART:20031026T060000
END:STANDARD
BEGIN:DAYLIGHT
TZOFFSETFROM:-0500
TZOFFSETTO:-0400
TZNAME:EDT
DTSTART:20040404T070000
END:DAYLIGHT
BEGIN:STANDARD
TZOFFSETFROM:-0400
TZOFFSETTO:-0500
TZNAME:EST
DTSTART:20041031T060000
END:STANDARD
BEGIN:DAYLIGHT
TZOFFSETFROM:-0500
TZOFFSETTO:-0400
TZNAME:EDT
DTSTART:20050403T070000
END:DAYLIGHT
BEGIN:STANDARD
TZOFFSETFROM:-0400
TZOFFSETTO:-0500
TZNAME:EST
DTSTART:20051030T060000
END:STANDARD
BEGIN:DAYLIGHT
TZOFFSETFROM:-0500
TZOFFSETTO:-0400
TZNAME:EDT
DTSTART:20060402T070000
END:DAYLIGHT
BEGIN:STANDARD
TZOFFSETFROM:-0400
TZOFFSETTO:-0500
TZNAME:EST
DTSTART:20061029T060000
END:STANDARD
BEGIN:DAYLIGHT
TZOFFSETFROM:-0500
TZOFFSETTO:-0400
TZNAME:EDT
DTSTART:20070311T070000
END:DAYLIGHT
BEGIN:STANDARD
TZOFFSETFROM:-0400
TZOFFSETTO:-0500
TZNAME:EST
DTSTART:20071104T060000
END:STANDARD
BEGIN:DAYLIGHT
TZOFFSETFROM:-0500
TZOFFSETTO:-0400
TZNAME:EDT
DTSTART:20080309T070000
END:DAYLIGHT
BEGIN:STANDARD
TZOFFSETFROM:-0400
TZOFFSETTO:-0500
TZNAME:EST
DTSTART:20081102T060000
END:STANDARD
BEGIN:DAYLIGHT
TZOFFSETFROM:-0500
TZOFFSETTO:-0400
TZNAME:EDT
DTSTART:20090308T070000
END:DAYLIGHT
BEGIN:STANDARD
TZOFFSETFROM:-0400
TZOFFSETTO:-0500
TZNAME:EST
DTSTART:20091101T060000
END:STANDARD
BEGIN:DAYLIGHT
TZOFFSETFROM:-0500
TZOFFSETTO:-0400
TZNAME:EDT
DTSTART:20100314T070000
END:DAYLIGHT
BEGIN:STANDARD
TZOFFSETFROM:-0400
TZOFFSETTO:-0500
TZNAME:EST
DTSTART:20101107T060000
END:STANDARD
BEGIN:DAYLIGHT
TZOFFSETFROM:-0500
TZOFFSETTO:-0400
TZNAME:EDT
DTSTART:20110313T070000
END:DAYLIGHT
BEGIN:STANDARD
TZOFFSETFROM:-0400
TZOFFSETTO:-0500
TZNAME:EST
DTSTART:20111106T060000
END:STANDARD
BEGIN:DAYLIGHT
TZOFFSETFROM:-0500
TZOFFSETTO:-0400
TZNAME:EDT
DTSTART:20120311T070000
END:DAYLIGHT
BEGIN:STANDARD
TZOFFSETFROM:-0400
TZOFFSETTO:-0500
TZNAME:EST
DTSTART:20121104T060000
END:STANDARD
BEGIN:DAYLIGHT
TZOFFSETFROM:-0500
TZOFFSETTO:-0400
TZNAME:EDT
DTSTART:20130310T070000
END:DAYLIGHT
BEGIN:STANDARD
TZOFFSETFROM:-0400
TZOFFSETTO:-0500
TZNAME:EST
DTSTART:20131103T060000
END:STANDARD
BEGIN:DAYLIGHT
TZOFFSETFROM:-0500
TZOFFSETTO:-0400
TZNAME:EDT
DTSTART:20140309T070000
END:DAYLIGHT
BEGIN:STANDARD
TZOFFSETFROM:-0400
TZOFFSETTO:-0500
TZNAME:EST
DTSTART:20141102T060000
END:STANDARD
BEGIN:DAYLIGHT
TZOFFSETFROM:-0500
TZOFFSETTO:-0400
TZNAME:EDT
DTSTART:20150308T070000
END:DAYLIGHT
BEGIN:STANDARD
TZOFFSETFROM:-0400
TZOFFSETTO:-0500
TZNAME:EST
DTSTART:20151101T060000
END:STANDARD
BEGIN:DAYLIGHT
TZOFFSETFROM:-0500
TZOFFSETTO:-0400
TZNAME:EDT
DTSTART:20160313T070000
END:DAYLIGHT
BEGIN:STANDARD
TZOFFSETFROM:-0400
TZOFFSETTO:-0500
TZNAME:EST
DTSTART:20161106T060000
END:STANDARD
BEGIN:DAYLIGHT
TZOFFSETFROM:-0500
TZOFFSETTO:-0400
TZNAME:EDT
DTSTART:20170312T070000
END:DAYLIGHT
BEGIN:STANDARD
TZOFFSETFROM:-0400
TZOFFSETTO:-0500
TZNAME:EST
DTSTART:20171105T060000
END:STANDARD
BEGIN:DAYLIGHT
TZOFFSETFROM:-0500
TZOFFSETTO:-0400
TZNAME:EDT
DTSTART:20180311T070000
END:DAYLIGHT
BEGIN:STANDARD
TZOFFSETFROM:-0400
TZOFFSETTO:-0500
TZNAME:EST
DTSTART:20181104T060000
END:STANDARD
BEGIN:DAYLIGHT
TZOFFSETFROM:-0500
TZOFFSETTO:-0400
TZNAME:EDT
DTSTART:20190310T070000
END:DAYLIGHT
BEGIN:STANDARD
TZOFFSETFROM:-0400
TZOFFSETTO:-0500
TZNAME:EST
DTSTART:20191103T060000
END:STANDARD
BEGIN:DAYLIGHT
TZOFFSETFROM:-0500
TZOFFSETTO:-0400
TZNAME:EDT
DTSTART:20200308T070000
END:DAYLIGHT
BEGIN:STANDARD
TZOFFSETFROM:-0400
TZOFFSETTO:-0500
TZNAME:EST
DTSTART:20201101T060000
END:STANDARD
BEGIN:DAYLIGHT
TZOFFSETFROM:-0500
TZOFFSETTO:-0400
TZNAME:EDT
DTSTART:20210314T070000
END:DAYLIGHT
BEGIN:STANDARD
TZOFFSETFROM:-0400
TZOFFSETTO:-0500
TZNAME:EST
DTSTART:20211107T060000
END:STANDARD
BEGIN:DAYLIGHT
TZOFFSETFROM:-0500
TZOFFSETTO:-0400
TZNAME:EDT
DTSTART:20220313T070000
END:DAYLIGHT
BEGIN:STANDARD
TZOFFSETFROM:-0400
TZOFFSETTO:-0500
TZNAME:EST
DTSTART:20221106T060000
END:STANDARD
BEGIN:DAYLIGHT
TZOFFSETFROM:-0500
TZOFFSETTO:-0400
TZNAME:EDT
DTSTART:20230312T070000
END:DAYLIGHT
BEGIN:STANDARD
TZOFFSETFROM:-0400
TZOFFSETTO:-0500
TZNAME:EST
DTSTART:20231105T060000
END:STANDARD
BEGIN:DAYLIGHT
TZOFFSETFROM:-0500
TZOFFSETTO:-0400
TZNAME:EDT
DTSTART:20240310T070000
END:DAYLIGHT
BEGIN:STANDARD
TZOFFSETFROM:-0400
TZOFFSETTO:-0500
TZNAME:EST
DTSTART:20241103T060000
END:STANDARD
BEGIN:DAYLIGHT
TZOFFSETFROM:-0500
TZOFFSETTO:-0400
TZNAME:EDT
DTSTART:20250309T070000
END:DAYLIGHT
BEGIN:STANDARD
TZOFFSETFROM:-0400
TZOFFSETTO:-0500
TZNAME:EST
DTSTART:20251102T060000
END:STANDARD
BEGIN:DAYLIGHT
TZOFFSETFROM:-0500
TZOFFSETTO:-0400
TZNAME:EDT
DTSTART:20260308T070000
END:DAYLIGHT
BEGIN:STANDARD
TZOFFSETFROM:-0400
TZOFFSETTO:-0500
TZNAME:EST
DTSTART:20261101T060000
END:STANDARD
END:VTIMEZONE
BEGIN:VEVENT
DTSTART;TZID=America/New_York:20260419T122749
DTEND;TZID=America/New_York:20250727T150000
DTSTAMP:20260419T122749
CREATED:20250609T174444Z
LAST-MODIFIED:20250609T174444Z
UID:31750-0-1753628400@www.collectorcarguide.net
SUMMARY:Carroll Co. 4H FFA Fair & Car Show
DESCRIPTION:Rain or Shine\,  Katie- 814 644-5054
URL:https://www.collectorcarguide.net/event/carroll-co-4h-ffa-fair-car-show-3/
LOCATION:Carroll Co. Agricultural Center\, 706 Ag Center Dr\, Westminster\, MD\, 21157\, United States
CATEGORIES:Shows
END:VEVENT
BEGIN:VEVENT
DTSTART;TZID=America/New_York:20240426T130000
DTEND;TZID=America/New_York:20240426T200000
DTSTAMP:20260419T122749
CREATED:20240312T203310Z
LAST-MODIFIED:20240312T203310Z
UID:30547-1714136400-1714161600@www.collectorcarguide.net
SUMMARY:Markets at Shrewsbury Cruise-In
DESCRIPTION:$2 entry 4th Friday of the Month April thru October
URL:https://www.collectorcarguide.net/event/markets-at-shrewsbury-cruise-in-11/
LOCATION:Markets at Shrewsbury\, 12025 Susquehanna Trail\, Shrewsbury\, PA\, 17327\, United States
CATEGORIES:Cruise
ATTACH;FMTTYPE=image/jpeg:https://www.collectorcarguide.net/wp-content/uploads/2021/02/Markets-At-Shrewsbury-Logo.jpg
END:VEVENT
BEGIN:VEVENT
DTSTART;TZID=America/New_York:20240427T060000
DTEND;TZID=America/New_York:20240427T090000
DTSTAMP:20260419T122749
CREATED:20240312T203310Z
LAST-MODIFIED:20240312T203310Z
UID:30548-1714197600-1714208400@www.collectorcarguide.net
SUMMARY:Katie's Cars & Coffee
DESCRIPTION:Every Saturday Weather Permitting\, 703-759-2759
URL:https://www.collectorcarguide.net/event/katies-cars-coffee-4/
LOCATION:Katie’s Coffee House\, 760 Walker Rd\, Great Falls\, VA\, 22066\, United States
CATEGORIES:Cruise
ATTACH;FMTTYPE=image/jpeg:https://www.collectorcarguide.net/wp-content/uploads/2026/04/katiecc.jpg
END:VEVENT
BEGIN:VEVENT
DTSTART;TZID=America/New_York:20240427T090000
DTEND;TZID=America/New_York:20240427T120000
DTSTAMP:20260419T122749
CREATED:20240415T204956Z
LAST-MODIFIED:20240415T204956Z
UID:30652-1714208400-1714219200@www.collectorcarguide.net
SUMMARY:Trending Motorsports Cars & Coffee
DESCRIPTION:Our 1st Cars & Coffee\, Visit our Shop\, 240-651-3251\, www.trending-motorsports.com
URL:https://www.collectorcarguide.net/event/trending-motorsports-cars-coffee/
LOCATION:Trending Motorsports\, 900 E. Patrick St\, Frederick\, 20701\, United States
CATEGORIES:Cruise
END:VEVENT
BEGIN:VEVENT
DTSTART;TZID=America/New_York:20240427T090000
DTEND;TZID=America/New_York:20240427T140000
DTSTAMP:20260419T122749
CREATED:20240312T203325Z
LAST-MODIFIED:20240312T203325Z
UID:30553-1714208400-1714226400@www.collectorcarguide.net
SUMMARY:1st Annual Charity Car Show
DESCRIPTION:Call for information: 240-299-4426
URL:https://www.collectorcarguide.net/event/1st-annual-charity-car-show/
LOCATION:Emmanuel Baptist Church\, 8006 Centreville Rd\, Manassas\, VA\, 20111\, United States
CATEGORIES:Show
END:VEVENT
BEGIN:VEVENT
DTSTART;TZID=America/New_York:20240427T090000
DTEND;TZID=America/New_York:20240427T140000
DTSTAMP:20260419T122749
CREATED:20240312T203325Z
LAST-MODIFIED:20240312T203325Z
UID:30551-1714208400-1714226400@www.collectorcarguide.net
SUMMARY:3rd Annual Taneytown Collision Car & Truck Show
DESCRIPTION:Rain or Shine  443 918-8091
URL:https://www.collectorcarguide.net/event/3rd-annual-taneytown-collision-car-truck-show/
LOCATION:Taneytown Collision\, 1 Dunbar La\, Taneytown\, MD\, 21787\, United States
CATEGORIES:Shows
END:VEVENT
BEGIN:VEVENT
DTSTART;TZID=America/New_York:20240427T090000
DTEND;TZID=America/New_York:20240427T150000
DTSTAMP:20260419T122749
CREATED:20240312T203339Z
LAST-MODIFIED:20240312T203339Z
UID:30554-1714208400-1714230000@www.collectorcarguide.net
SUMMARY:Heart For Missions Car Show
DESCRIPTION:Contact Charles at HFMYouthCarShow@gmail.com
URL:https://www.collectorcarguide.net/event/heart-for-missions-car-show-2/
LOCATION:Bethel Baptist Church\, 1193 White Oak Rd.\, Fredericksburg\, VA\, 22405\, United States
CATEGORIES:Shows
END:VEVENT
BEGIN:VEVENT
DTSTART;TZID=America/New_York:20240427T100000
DTEND;TZID=America/New_York:20240427T100000
DTSTAMP:20260419T122749
CREATED:20240211T164040Z
LAST-MODIFIED:20240211T164040Z
UID:30456-1714212000-1714212000@www.collectorcarguide.net
SUMMARY:11th Annual Southern HS Car\,Truck & Tract
DESCRIPTION:Margaret 443-882-6425 Rain Date 4/28
URL:https://www.collectorcarguide.net/event/11th-annual-southern-hs-cartruck-tract/
LOCATION:Green Turtle- Edgewater\, 3213 Solomons Island Rd\, Edgewater\, MD\, 21037\, United States
CATEGORIES:Shows
END:VEVENT
BEGIN:VEVENT
DTSTART;TZID=America/New_York:20240427T100000
DTEND;TZID=America/New_York:20240427T140000
DTSTAMP:20260419T122749
CREATED:20240312T203324Z
LAST-MODIFIED:20240312T203324Z
UID:30549-1714212000-1714226400@www.collectorcarguide.net
SUMMARY:Southern High School FFA Car & Truck Shoqw
DESCRIPTION:Rain Date 4/28  Marge 443 883-6422
URL:https://www.collectorcarguide.net/event/southern-high-school-ffa-car-truck-shoqw-2/
LOCATION:Green Turtle- Edgewater\, 3213 Solomons Island Rd\, Edgewater\, MD\, 21037\, United States
CATEGORIES:Shows
END:VEVENT
BEGIN:VEVENT
DTSTART;TZID=America/New_York:20240427T120000
DTEND;TZID=America/New_York:20240427T150000
DTSTAMP:20260419T122749
CREATED:20240312T203325Z
LAST-MODIFIED:20240312T203325Z
UID:30552-1714219200-1714230000@www.collectorcarguide.net
SUMMARY:8th Annual Spring Break Car/Truck Show
DESCRIPTION:Rain or Shine  Mark 410 428-5685
URL:https://www.collectorcarguide.net/event/8th-annual-spring-break-car-truck-show-2/
LOCATION:Cooper Park\, 7282 Cooper Dr\, Sykesville\, MD\, 21784\, United States
CATEGORIES:Shows
END:VEVENT
BEGIN:VEVENT
DTSTART;TZID=America/New_York:20240427T150000
DTEND;TZID=America/New_York:20240427T190000
DTSTAMP:20260419T122749
CREATED:20240312T203324Z
LAST-MODIFIED:20240312T203324Z
UID:30550-1714230000-1714244400@www.collectorcarguide.net
SUMMARY:Southwestern HS Alumni Car\, Truck Sho
DESCRIPTION:Rain or Shine  Dave 717 637-7697
URL:https://www.collectorcarguide.net/event/southwestern-hs-alumni-car-truck-sho/
LOCATION:Southwestern High School\, 200 Bowman Dr\, Hanover\, PA\, 17331\, United States
CATEGORIES:Shows
END:VEVENT
BEGIN:VEVENT
DTSTART;TZID=America/New_York:20240428T080000
DTEND;TZID=America/New_York:20240428T110000
DTSTAMP:20260419T122749
CREATED:20240312T203340Z
LAST-MODIFIED:20240312T203340Z
UID:30555-1714291200-1714302000@www.collectorcarguide.net
SUMMARY:Chewey's Cruise-In
DESCRIPTION:912-409-7199
URL:https://www.collectorcarguide.net/event/cheweys-cruise-in-31/
LOCATION:Municipal Parking Lot\, 8 Park St\, Mt. Airy\, MD\, 21771\, United States
CATEGORIES:Cruise
ATTACH;FMTTYPE=image/jpeg:https://www.collectorcarguide.net/wp-content/uploads/2022/03/46027197_2207535055932063_8129365066798596096_n.jpg
END:VEVENT
BEGIN:VEVENT
DTSTART;TZID=America/New_York:20240428T100000
DTEND;TZID=America/New_York:20240428T130000
DTSTAMP:20260419T122749
CREATED:20240312T203340Z
LAST-MODIFIED:20240312T203340Z
UID:30556-1714298400-1714309200@www.collectorcarguide.net
SUMMARY:26th Annual Olney Days Car Show
DESCRIPTION:R or S  T-Shirts to All   301 924-4500
URL:https://www.collectorcarguide.net/event/26th-annual-olney-days-car-show-2/
LOCATION:Fletchers Service Center\, 18001 Georgia Ave\, Olney\, MD\, 20832\, United States
CATEGORIES:Shows
END:VEVENT
BEGIN:VEVENT
DTSTART;TZID=America/New_York:20240504T060000
DTEND;TZID=America/New_York:20240504T090000
DTSTAMP:20260419T122749
CREATED:20240312T203340Z
LAST-MODIFIED:20240312T203340Z
UID:30557-1714802400-1714813200@www.collectorcarguide.net
SUMMARY:Katie's Cars & Coffee
DESCRIPTION:Every Saturday Weather Permitting\, 703-759-2759
URL:https://www.collectorcarguide.net/event/katies-cars-coffee-5/
LOCATION:Katie’s Coffee House\, 760 Walker Rd\, Great Falls\, VA\, 22066\, United States
CATEGORIES:Cruise
ATTACH;FMTTYPE=image/jpeg:https://www.collectorcarguide.net/wp-content/uploads/2026/04/katiecc.jpg
END:VEVENT
BEGIN:VEVENT
DTSTART;TZID=America/New_York:20240504T090000
DTEND;TZID=America/New_York:20240504T090000
DTSTAMP:20260419T122749
CREATED:20240211T164043Z
LAST-MODIFIED:20240211T164048Z
UID:30457-1714813200-1714813200@www.collectorcarguide.net
SUMMARY:3rd Annual Mayo Legion Car\, Truck & Motorcycle Show
DESCRIPTION:Tom 443 971-7196
URL:https://www.collectorcarguide.net/event/3rd-annual-mayo-legion-car-truck-motorcycle-show/
LOCATION:Edgewater American Legion\, 830 Central Ave E.\, Edgewater\, MD\, 21037\, United States
CATEGORIES:Shows
END:VEVENT
BEGIN:VEVENT
DTSTART;TZID=America/New_York:20240504T090000
DTEND;TZID=America/New_York:20240504T120000
DTSTAMP:20260419T122749
CREATED:20240312T203341Z
LAST-MODIFIED:20240312T203341Z
UID:30558-1714813200-1714824000@www.collectorcarguide.net
SUMMARY:2nd Annual Boonsboro Amer Lergion Car/Truck & Bike
DESCRIPTION:Al 301 432-2240
URL:https://www.collectorcarguide.net/event/2nd-annual-boonsboro-amer-lergion-car-truck-bike/
LOCATION:Boonsboro American Legion\, 710 N Main St\, Boonsboro\, MD\, 21713\, United States
CATEGORIES:Shows
END:VEVENT
BEGIN:VEVENT
DTSTART;TZID=America/New_York:20240504T090000
DTEND;TZID=America/New_York:20240504T143000
DTSTAMP:20260419T122749
CREATED:20240312T203354Z
LAST-MODIFIED:20240312T203354Z
UID:30559-1714813200-1714833000@www.collectorcarguide.net
SUMMARY:3rd Annual Mayo A. L. Car\, Truck & Bike
DESCRIPTION:Tom 443 871-7196
URL:https://www.collectorcarguide.net/event/3rd-annual-mayo-a-l-car-truck-bike/
LOCATION:Mayo American Legion\, 830 Central Ave\, Edgewater\, MD\, 21037\, United States
CATEGORIES:Shows
END:VEVENT
BEGIN:VEVENT
DTSTART;TZID=America/New_York:20240504T090000
DTEND;TZID=America/New_York:20240504T150000
DTSTAMP:20260419T122749
CREATED:20240312T203355Z
LAST-MODIFIED:20240312T203355Z
UID:30560-1714813200-1714834800@www.collectorcarguide.net
SUMMARY:Christ Episcopal Church Car Show
DESCRIPTION:Awards at 2pm\, Dash plaques for the first 100 cars\, trophies for best paint\, best engine\, best graphics\, best interior and church pick\, plus top 50 awards\, best of show runner up and best of show 5 foot trophy. Contact: Roger Williams 540-785-4451 Cell 540-846-5192
URL:https://www.collectorcarguide.net/event/christ-episcopal-church-car-show/
LOCATION:Christ Episcopal Church\, 8951 Courthouse Rd\, Spotsylvania\, VA\, 22553\, United States
CATEGORIES:Shows
END:VEVENT
BEGIN:VEVENT
DTSTART;TZID=America/New_York:20240504T100000
DTEND;TZID=America/New_York:20240504T150000
DTSTAMP:20260419T122749
CREATED:20240312T203356Z
LAST-MODIFIED:20240312T203356Z
UID:30563-1714816800-1714834800@www.collectorcarguide.net
SUMMARY:Jacob Dennis Memorial
DESCRIPTION:Rain Date 5/11 301 370-1335
URL:https://www.collectorcarguide.net/event/jacob-dennis-memorial/
LOCATION:Clarksburg High School\, 22500 Wims Rd\, Clarksburg\, MD\, 20871\, United States
CATEGORIES:Shows
END:VEVENT
BEGIN:VEVENT
DTSTART;TZID=America/New_York:20240504T110000
DTEND;TZID=America/New_York:20240504T150000
DTSTAMP:20260419T122749
CREATED:20240312T203355Z
LAST-MODIFIED:20240312T203355Z
UID:30561-1714820400-1714834800@www.collectorcarguide.net
SUMMARY:Vagabonds Rod & Custom Spring Show
DESCRIPTION:Rain Date 5/5  Mark 717 572-6252
URL:https://www.collectorcarguide.net/event/vagabonds-rod-custom-spring-show-2/
LOCATION:East Petersburg Community Park\, 6051 East Pine St\, East Petersburg\, PA\, 17520\, United States
CATEGORIES:Shows
END:VEVENT
BEGIN:VEVENT
DTSTART;TZID=America/New_York:20240504T160000
DTEND;TZID=America/New_York:20240504T200000
DTSTAMP:20260419T122749
CREATED:20240312T203355Z
LAST-MODIFIED:20240312T203355Z
UID:30562-1714838400-1714852800@www.collectorcarguide.net
SUMMARY:Jimmy Cone Cruise-In
DESCRIPTION:
URL:https://www.collectorcarguide.net/event/jimmy-cone-cruise-in-15/
LOCATION:Jimmie Cone\, 1312 S. Main St\, Mt. Airy\, MD\, 21771\, United States
CATEGORIES:Cruise
ATTACH;FMTTYPE=image/png:https://www.collectorcarguide.net/wp-content/uploads/2022/03/381-jimmiecone.png
END:VEVENT
BEGIN:VEVENT
DTSTART;TZID=America/New_York:20240505T080000
DTEND;TZID=America/New_York:20240505T110000
DTSTAMP:20260419T122749
CREATED:20240415T204957Z
LAST-MODIFIED:20240415T204957Z
UID:30653-1714896000-1714906800@www.collectorcarguide.net
SUMMARY:Thunderhead Bowl & Grill Cars & Coffee
DESCRIPTION:New Monthly Cars & Coffee\, fist Sunday of the Month through October
URL:https://www.collectorcarguide.net/event/thunderhead-bowl-grill-cars-coffee/
CATEGORIES:Cruise
END:VEVENT
BEGIN:VEVENT
DTSTART;TZID=America/New_York:20240505T100000
DTEND;TZID=America/New_York:20240505T140000
DTSTAMP:20260419T122749
CREATED:20240312T203409Z
LAST-MODIFIED:20240312T203409Z
UID:30564-1714903200-1714917600@www.collectorcarguide.net
SUMMARY:Hagerstown Cars & Coffee
DESCRIPTION:
URL:https://www.collectorcarguide.net/event/hagerstown-cars-coffee-10/
LOCATION:Cushwa Brewery\, 10210 Governor Lane Rd\, Williamsport\, MD\, 21795\, United States
CATEGORIES:Cruise
ATTACH;FMTTYPE=image/jpeg:https://www.collectorcarguide.net/wp-content/uploads/2022/02/236796249_4406900979330943_1859075809372883214_n.jpg
END:VEVENT
BEGIN:VEVENT
DTSTART;TZID=America/New_York:20240511T060000
DTEND;TZID=America/New_York:20240511T090000
DTSTAMP:20260419T122749
CREATED:20240312T203410Z
LAST-MODIFIED:20240312T203410Z
UID:30566-1715407200-1715418000@www.collectorcarguide.net
SUMMARY:Katie's Cars & Coffee
DESCRIPTION:Every Saturday Weather Permitting\, 703-759-2759
URL:https://www.collectorcarguide.net/event/katies-cars-coffee-6/
LOCATION:Katie’s Coffee House\, 760 Walker Rd\, Great Falls\, VA\, 22066\, United States
CATEGORIES:Cruise
ATTACH;FMTTYPE=image/jpeg:https://www.collectorcarguide.net/wp-content/uploads/2026/04/katiecc.jpg
END:VEVENT
BEGIN:VEVENT
DTSTART;TZID=America/New_York:20240511T080000
DTEND;TZID=America/New_York:20240511T140000
DTSTAMP:20260419T122749
CREATED:20240312T203410Z
LAST-MODIFIED:20240312T203410Z
UID:30568-1715414400-1715436000@www.collectorcarguide.net
SUMMARY:Unforgotten Heros Car & Truck Show
DESCRIPTION:Rhonda 717 515-8706 Rain Date 5/12
URL:https://www.collectorcarguide.net/event/unforgotten-heros-car-truck-show/
LOCATION:Sunset Lane Park\, 2442 Sunset Lane\, York\, PA\, 17408\, United States
CATEGORIES:Shows
END:VEVENT
BEGIN:VEVENT
DTSTART;TZID=America/New_York:20240511T090000
DTEND;TZID=America/New_York:20240511T120000
DTSTAMP:20260419T122749
CREATED:20240312T203425Z
LAST-MODIFIED:20240312T203425Z
UID:30570-1715418000-1715428800@www.collectorcarguide.net
SUMMARY:Clarke Co High School Band Car\,Truck\,Bike
DESCRIPTION:Rain Date 5/12  Kim 540 955-6130
URL:https://www.collectorcarguide.net/event/clarke-co-high-school-band-cartruckbike/
LOCATION:Clarke Co. High School\, 627 Mosby Rd\, Berryville\, VA\, 22611\, United States
CATEGORIES:Shows
END:VEVENT
BEGIN:VEVENT
DTSTART;TZID=America/New_York:20240511T090000
DTEND;TZID=America/New_York:20240511T140000
DTSTAMP:20260419T122749
CREATED:20240312T203410Z
LAST-MODIFIED:20240312T203410Z
UID:30567-1715418000-1715436000@www.collectorcarguide.net
SUMMARY:13th Annual American Legion Car/Truck Sho
DESCRIPTION:Rain/Shine Staceynash1 @gmail.com
URL:https://www.collectorcarguide.net/event/13th-annual-american-legion-car-truck-sho-2/
LOCATION:Hampstead American Legion\, 4600 Legion La\, Hampstead\, MD\, 21074\, United States
CATEGORIES:Shows
END:VEVENT
BEGIN:VEVENT
DTSTART;TZID=America/New_York:20240511T110000
DTEND;TZID=America/New_York:20240511T160000
DTSTAMP:20260419T122749
CREATED:20240312T203409Z
LAST-MODIFIED:20240312T203409Z
UID:30565-1715425200-1715443200@www.collectorcarguide.net
SUMMARY:A Day In May Car & Truck Show
DESCRIPTION:Rain or Shine
URL:https://www.collectorcarguide.net/event/a-day-in-may-car-truck-show/
LOCATION:Marge Goodfellow Park\, 1 Playground Alley\, New Freedom\, PA\, 17349\, United States
CATEGORIES:Shows
END:VEVENT
BEGIN:VEVENT
DTSTART;TZID=America/New_York:20240511T170000
DTEND;TZID=America/New_York:20240511T210000
DTSTAMP:20260419T122749
CREATED:20240312T203424Z
LAST-MODIFIED:20240312T203424Z
UID:30569-1715446800-1715461200@www.collectorcarguide.net
SUMMARY:Cruise In at the At Home Store
DESCRIPTION:Local Food
URL:https://www.collectorcarguide.net/event/cruise-in-at-the-at-home-store-2/
LOCATION:At Home Store\, 1811 Monocacy Blvd\, Frederick\, MD\, 21701\, United States
CATEGORIES:Cruise
END:VEVENT
BEGIN:VEVENT
DTSTART;TZID=America/New_York:20240512T090000
DTEND;TZID=America/New_York:20240512T110000
DTSTAMP:20260419T122749
CREATED:20240312T203425Z
LAST-MODIFIED:20240513T213542Z
UID:30571-1715504400-1715511600@www.collectorcarguide.net
SUMMARY:Chewey's Cruise-In
DESCRIPTION:
URL:https://www.collectorcarguide.net/event/cheweys-cruise-in-32/
LOCATION:Municipal Parking Lot\, 8 Park St\, Mt. Airy\, MD\, 21771\, United States
CATEGORIES:Cruise
ATTACH;FMTTYPE=image/jpeg:https://www.collectorcarguide.net/wp-content/uploads/2022/03/46027197_2207535055932063_8129365066798596096_n.jpg
END:VEVENT
END:VCALENDAR